{"text_format":"1","workbook":"xlsx","n_sheets":12,"sheets":["read me","Low concentration","Dilution6","Dilution5_quartz","Dilution5_water","Dilution4","Dilution3","Dilution2","Dilution1","Dilution0","comparison","Suprasil"],"not_rendered":{"charts":25,"images":0,"macros":1,"external_links":0,"defined_names":251,"comments":0,"pivot_tables":0},"unopened":[],"bounds":{"document_bytes":16777216,"sheet_cells":100000,"rows_first":2000,"rows_last":500,"rows_between":2000,"halvings":0,"cell_chars":16384,"cell_head_chars":4096},"cells_cut":0,"cells_raw":0,"read":"whole","date_system":"1900"}

{"sheet":"read me","index":0,"n_rows":21,"n_cols":1,"rows_kept":21,"cut":false,"hidden":false,"merged":[]}
["This Excel file is provided in support of the manuscript entitled \"Simple Method for Measuring the Spectral Absorption Cross-Section of Microalgae\", Chemical Engineering Science, Vol. 146, No. 2, pp. 357-368."]
["by Razmig Kandilian, Antoine Soulies, Jeremy Pruvost, Benoit Rousseau, Jack Legrand, and Laurent Pilon"]
["doi: 10.1016/j.ces.2016.02.039"]
[]
["Software"]
["Excel has a built-in optimization package that you can activate by"]
["a. Under the menu Tools select Adds-In "]
["b. In Adds-In check the boxes for"]
["(i)     Analysis ToolPak "]
["(ii)   Analysis ToolPak- VBA"]
["(iii) Solver Add-in"]
[]
["Data processing for a given dilution"]
["c. select the worksheet of interest"]
["d. To minimize the error between experimental measurements and predictions from the two-flux approximation computed in column AO"]
["(i)     Select the cell (AO4) containing the value of the error"]
["(ii)   In the tab Data select the function Solver"]
["(iii)  Fill out the fields based on the cells that you want to optimize (B4, C4, G4)"]
["e. A good match is obtained when the error is small (<1E-12) and the experimental and prediction points are superimposed."]
["f. Repeat the procedure for each row of data"]
["e. Note: you might have to optimize yourself manually before running the Excel Solver."]

{"sheet":"Low concentration","index":1,"n_rows":405,"n_cols":9,"rows_kept":405,"cut":false,"hidden":false,"merged":[]}
["Radiation characteristics obtained from direct measurements"]
[]
["Cx (g/l) =",4.9000000000000002E-2,null,null,null,"Cx (g/l) =",3.5000000000000003E-2]
["Wavelength","Abs(m2/kg)","Ssca (m2/kg)","Eext (m2/kg)","Ssca,tr (m2/kg)","Wavelength","Abs(m2/kg)","Ssca (m2/kg)","Eext (m2/kg)"]
[750,0,1559.2771769999999,{"$f":"B5+C5","v":1559.2771769999999},{"$f":"C5*(1-0.97)","v":46.778315310000039},750,0,1570.2007779999999,{"$f":"G5+H5","v":1570.2007779999999}]
[749,4.0790901999999997E-2,1562.0340000000001,{"$f":"B6+C6","v":1562.0747909020001},{"$f":"C6*(1-0.97)","v":46.861020000000046},749,-2.2986966000000001E-2,1572.5986479999999,{"$f":"G6+H6","v":1572.5756610339999}]
[748,2.2514279840000002,1564.9215529999999,1567.1729809839999,46.947646590000041,748,-1.1799195E-2,1577.3785379999999,1577.3667388049998]
[747,0.48816113100000003,1567.807213,1568.295374131,47.03421639000004,747,-2.4089630259999999,1581.046904,1578.637940974]
[746,0.29939191199999998,1571.226815,1571.5262069119999,47.136804450000042,746,-2.2434274350000001,1584.590469,1582.3470415649999]
[745,-0.53907615200000003,1573.975813,1573.436736848,47.219274390000045,745,-3.4801571259999999,1589.242066,1585.761908874]
[744,1.4155111469999999,1576.7978009999999,1578.2133121469999,47.303934030000043,744,-1.5868570129999999,1591.010327,1589.4234699869999]
[743,0.62001660199999997,1580.6655699999999,1581.285586602,47.419967100000036,743,-0.88961817099999996,1593.501765,1592.612146829]
[742,-0.82147179999999997,1583.7866690000001,1582.9651972000001,47.513600070000045,742,-1.8959938620000001,1598.004711,1596.108717138]
[741,1.5943433760000001,1586.949593,1588.5439363760001,47.608487790000041,741,0.33480788,1600.9786449999999,1601.3134528799999]
[740,-0.98109793000000001,1592.386471,1591.40537307,47.771594130000047,740,0.82164917699999995,1604.4741019999999,1605.2957511769998]
[739,-1.382937876,1596.730957,1595.3480191240001,47.901928710000043,739,-2.9732184799999999,1609.3316560000001,1606.3584375200001]
[738,2.5978927989999998,1597.6802190000001,1600.278111799,47.930406570000045,738,2.53187981,1611.363231,1613.89511081]
[737,-0.45125833100000001,1602.9084419999999,1602.457183669,48.08725326000004,737,-0.65866250400000004,1615.468128,1614.809465496]
[736,3.8570884830000001,1604.546315,1608.4034034830001,48.136389450000046,736,2.9212693600000001,1618.8249470000001,1621.7462163600001]
[735,-4.0188242999999998E-2,1610.500227,1610.4600387569999,48.315006810000042,735,-2.9398827980000002,1626.0257509999999,1623.0858682019998]
[734,-0.72743831599999997,1615.2942880000001,1614.5668496840001,48.458828640000043,734,-1.373797717,1629.3000139999999,1627.926216283]
[733,1.4584792339999999,1618.2218290000001,1619.680308234,48.546654870000047,733,1.402347094,1632.0084810000001,1633.4108280940002]
[732,1.9132681069999999,1623.2701079999999,1625.183376107,48.698103240000044,732,1.5044791179999999,1636.6356860000001,1638.1401651180001]
[731,3.880927228,1626.3616629999999,1630.2425902279999,48.79084989000004,731,4.9559225839999996,1639.675628,1644.631550584]
[730,3.4026486600000001,1629.998889,1633.40153766,48.89996667000004,730,3.322503448,1643.7085520000001,1647.031055448]
[729,3.8863968560000002,1635.822124,1639.708520856,49.074663720000046,729,3.7255626579999999,1649.7165500000001,1653.442112658]
[728,4.4983192790000004,1640.2634780000001,1644.7617972790001,49.207904340000049,728,3.060641832,1654.0007169999999,1657.061358832]
[727,3.5965988979999999,1645.4411480000001,1649.037746898,49.363234440000049,727,1.089656481,1660.851459,1661.941115481]
[726,4.7989610459999996,1649.6528029999999,1654.4517640459999,49.489584090000044,726,3.1659412050000002,1663.8625770000001,1667.0285182050002]
[725,3.0555843249999999,1656.354767,1659.410351325,49.690643010000045,725,2.565221797,1669.6837989999999,1672.249020797]
[724,5.3526539900000003,1661.186275,1666.5389289899999,49.835588250000043,724,5.229277315,1673.920294,1679.149571315]
[723,7.7702896619999997,1665.488697,1673.2589866620001,49.964660910000042,723,7.0120095390000001,1680.0564609999999,1687.0684705389999]
[722,7.103755112,1670.2641719999999,1677.367927112,50.107925160000043,722,5.9591165960000003,1685.4272000000001,1691.3863165960001]
[721,7.9597003480000001,1677.418643,1685.378343348,50.322559290000044,721,6.7382703749999999,1691.645008,1698.3832783749999]
[720,8.4717655749999992,1682.9526599999999,1691.424425575,50.488579800000039,720,7.2181623330000004,1696.0443210000001,1703.2624833330001]
[719,10.45056746,1688.4638870000001,1698.9144544600001,50.653916610000046,719,8.8564028280000002,1702.291205,1711.147607828]
[718,8.3081728439999996,1695.887847,1704.1960198439999,50.876635410000041,718,9.8320261490000007,1708.570399,1718.402425149]
[717,13.395687540000001,1699.43938,1712.83506754,50.983181400000049,717,13.38013465,1712.6136770000001,1725.99381165]
[716,13.469889070000001,1706.7091330000001,1720.17902207,51.201273990000047,716,13.217644529999999,1719.9740039999999,1733.1916485299998]
[715,14.742973729999999,1712.8576330000001,1727.60060673,51.385728990000047,715,14.058855380000001,1726.5350699999999,1740.59392538]
[714,17.189842729999999,1719.580492,1736.7703347300001,51.587414760000044,714,16.307859789999998,1732.869535,1749.1773947900001]
[713,17.909195870000001,1727.5539120000001,1745.4631078700002,51.82661736000005,713,19.063669539999999,1740.0026290000001,1759.0662985400002]
[712,21.269959929999999,1733.6461790000001,1754.91613893,52.009385370000047,712,21.162359389999999,1747.5784659999999,1768.7408253899998]
[711,23.595564679999999,1740.7688250000001,1764.3643896800002,52.223064750000049,711,22.833235760000001,1753.5955759999999,1776.4288117599999]
[710,27.77427428,1747.9945949999999,1775.76886928,52.439837850000046,710,25.985790160000001,1762.1985990000001,1788.1843891600001]
[709,29.636412440000001,1756.5812149999999,1786.2176274399999,52.697436450000048,709,30.829391680000001,1768.920398,1799.74978968]
[708,34.148064959999999,1764.0146239999999,1798.16268896,52.920438720000043,708,34.891694989999998,1776.646299,1811.5379939899999]
[707,38.00465947,1772.1233790000001,1810.1280384700001,53.163701370000048,707,38.985120590000001,1783.7695209999999,1822.7546415899999]
[706,42.827406349999997,1779.5922639999999,1822.4196703499999,53.387767920000044,706,42.066811459999997,1792.577597,1834.64440846]
[705,46.556786979999998,1789.5050659999999,1836.0618529799999,53.685151980000043,705,48.775151960000002,1800.9058199999999,1849.6809719599999]
[704,53.33751573,1797.7258340000001,1851.06334973,53.931775020000053,704,54.502004980000002,1809.924902,1864.42690698]
[703,58.070556379999999,1806.6205669999999,1864.6911233799999,54.198617010000049,703,58.226966939999997,1819.3881510000001,1877.6151179400001]
[702,67.26278447,1815.44733,1882.71011447,54.463419900000048,702,67.184639590000003,1827.038996,1894.22363559]
[701,74.975973909999993,1824.2629529999999,1899.2389269099999,54.727888590000049,701,74.588534060000001,1837.079426,1911.66796006]
[700,82.384977980000002,1834.178093,1916.56307098,55.025342790000046,700,84.104208290000003,1845.2692059999999,1929.37341429]
[699,96.667617059999998,1841.0741519999999,1937.74176906,55.232224560000049,699,98.283072090000005,1853.0792570000001,1951.36232909]
[698,106.87568330000001,1849.67247,1956.5481533,55.490174100000047,698,107.6540992,1861.5248549999999,1969.1789541999999]
[697,121.64396929999999,1856.9405670000001,1978.5845363000001,55.708217010000055,697,124.3545347,1867.038994,1991.3935286999999]
[696,135.02697169999999,1866.3827140000001,2001.4096857,55.991481420000049,696,136.92228549999999,1876.7071780000001,2013.6294635000002]
[695,152.50395710000001,1871.83538,2024.3393371,56.155061400000051,695,155.69154950000001,1881.2166380000001,2036.9081875000002]
[694,171.86667209999999,1877.4218800000001,2049.2885521000003,56.322656400000056,694,175.00255240000001,1885.758047,2060.7605994]
[693,193.8666734,1879.8683779999999,2073.7350514,56.396051340000049,693,196.11255629999999,1888.169132,2084.2816883]
[692,217.80442919999999,1880.296194,2098.1006232,56.408885820000052,692,220.4459947,1887.94814,2108.3941347]
[691,242.0070346,1879.0913780000001,2121.0984126000003,56.372741340000054,691,244.76806049999999,1885.0286140000001,2129.7966744999999]
[690,270.58244719999999,1872.891842,2143.4742891999999,56.186755260000048,690,273.81943610000002,1878.0942970000001,2151.9137331000002]
[689,298.90144720000001,1863.256883,2162.1583301999999,55.897706490000047,689,303.27129189999999,1866.1706200000001,2169.4419118999999]
[688,326.62270410000002,1849.0921619999999,2175.7148661000001,55.472764860000048,688,329.78423600000002,1852.1424050000001,2181.926641]
[687,354.87311260000001,1830.101823,2184.9749356000002,54.903054690000047,687,359.37253670000001,1830.795916,2190.1684527000002]
[686,379.43064859999998,1807.553122,2186.9837705999998,54.226593660000049,686,385.34651980000001,1806.4482270000001,2191.7947468000002]
[685,402.93737240000002,1780.1751260000001,{"$f":"B70+C70","v":2183.1124984000003},{"$f":"C70*(1-0.97)","v":53.405253780000052},685,408.05298140000002,1777.7812120000001,{"$f":"G70+H70","v":2185.8341934}]
[684,419.16916509999999,1752.8790939999999,2172.0482591,52.586372820000044,684,424.43059119999998,1750.074912,2174.5055032]
[683,431.50623180000002,1724.7254029999999,2156.2316347999999,51.741762090000044,683,438.0616326,1720.1096230000001,2158.1712556000002]
[682,441.70257779999997,1696.347886,2138.0504638000002,50.890436580000049,682,447.62612580000001,1691.2663689999999,2138.8924947999999]
[681,445.209225,1671.0041659999999,2116.2133909999998,50.130124980000041,681,452.32059750000002,1665.4700800000001,2117.7906775000001]
[680,448.12884509999998,1648.7772729999999,2096.9061180999997,49.463318190000045,680,453.25865090000002,1643.3907839999999,2096.6494349]
[679,448.7144222,1627.8223800000001,2076.5368022000002,48.834671400000047,679,454.96067420000003,1622.4352550000001,2077.3959292]
[678,445.77918699999998,1611.3476000000001,2057.1267870000001,48.340428000000045,678,452.86976240000001,1604.3442439999999,2057.2140064]
[677,446.77109089999999,1594.1266439999999,2040.8977348999999,47.823799320000042,677,453.84178550000001,1587.3394920000001,2041.1812775000001]
[676,447.27808590000001,1577.619461,2024.8975469,47.328583830000042,676,453.89307919999999,1570.991984,2024.8850631999999]
[675,446.11688049999998,1562.1803729999999,2008.2972534999999,46.865411190000039,675,452.8341557,1555.6116099999999,2008.4457656999998]
[674,443.62839229999997,1546.7951190000001,1990.4235113,46.403853570000045,674,451.28398800000002,1539.026294,1990.3102819999999]
[673,442.19034829999998,1528.6507099999999,1970.8410583,45.85952130000004,673,449.34415799999999,1521.0238220000001,1970.36798]
[672,438.26574160000001,1512.0640289999999,1950.3297705999998,45.361920870000034,672,443.34834760000001,1505.3839829999999,1948.7323305999998]
[671,432.68697709999998,1494.603161,1927.2901380999999,44.838094830000038,671,439.09419639999999,1486.7536869999999,1925.8478833999998]
[670,426.18980599999998,1477.3356269999999,1903.5254329999998,44.320068810000038,670,432.00169290000002,1470.088362,1902.0900549]
[669,416.36896339999998,1461.2858329999999,1877.6547963999999,43.838574990000033,669,424.4215122,1452.629739,1877.0512512]
[668,408.00282850000002,1444.97496,1852.9777885000001,43.349248800000041,668,414.46548560000002,1437.417645,1851.8831306]
[667,395.13648319999999,1432.616158,1827.7526412,42.978484740000042,667,400.00523779999997,1425.9024099999999,1825.9076477999999]
[666,381.42980060000002,1421.2815069999999,1802.7113076000001,42.638445210000036,666,387.36321559999999,1414.5754939999999,1801.9387096]
[665,367.0070068,1412.608119,1779.6151258,42.378243570000038,665,372.5031146,1406.4249689999999,1778.9280835999998]
[664,352.3864749,1407.1337940000001,1759.5202689,42.214013820000041,664,357.94247189999999,1400.857759,1758.8002308999999]
[663,337.90196200000003,1403.3075940000001,1741.2095560000002,42.099227820000038,663,342.71920340000003,1397.6306239999999,1740.3498273999999]
[662,322.68017029999999,1402.9176090000001,1725.5977793000002,42.087528270000043,662,328.34212609999997,1397.29177,1725.6338961000001]
[661,308.5377211,1404.9148250000001,1713.4525461000001,42.147444750000041,661,313.49697420000001,1400.197658,1713.6946322000001]
[660,296.68698189999998,1407.887072,1704.5740538999999,42.236612160000035,660,301.61915909999999,1403.584842,1705.2040010999999]
[659,286.39515510000001,1412.4355390000001,1698.8306941000001,42.373066170000037,659,290.33383629999997,1408.4406590000001,1698.7744953000001]
[658,277.77315119999997,1417.9946440000001,1695.7677952000001,42.539839320000041,658,282.11155600000001,1414.2540550000001,1696.3656110000002]
[657,270.86109579999999,1423.6976709999999,1694.5587667999998,42.710930130000037,657,275.62380330000002,1420.4070039999999,1696.0308072999999]
[656,264.46017460000002,1430.0092609999999,1694.4694356,42.900277830000036,656,268.8739564,1426.9207980000001,1695.7947544000001]
[655,260.92916059999999,1434.8773639999999,1695.8065245999999,43.046320920000035,655,265.27600260000003,1431.88534,1697.1613426000001]
[654,258.41937810000002,1438.184569,1696.6039470999999,43.145537070000039,654,263.10525949999999,1435.159101,1698.2643604999998]
[653,255.8191076,1440.5752500000001,1696.3943576000001,43.217257500000038,653,259.18252660000002,1437.5969459999999,1696.7794726]
[652,252.2140048,1441.340606,1693.5546107999999,43.240218180000035,652,257.36363699999998,1438.2723739999999,1695.6360109999998]
[651,250.80485909999999,1439.374155,1690.1790140999999,43.18122465000004,651,254.2240793,1436.9688020000001,1691.1928813000002]
[650,246.590856,1437.8389729999999,1684.4298289999999,43.135169190000035,650,249.2673321,1435.8278310000001,1685.0951631]
[649,239.5359258,1437.095826,1676.6317518000001,43.112874780000041,649,242.89332379999999,1434.8374659999999,1677.7307897999999]
[648,231.63661769999999,1436.7168630000001,1668.3534807000001,43.101505890000041,648,235.67499530000001,1434.3068929999999,1669.9818883]
[647,224.19070060000001,1436.5683839999999,1660.7590845999998,43.097051520000036,647,227.99518610000001,1435.092294,1663.0874801]
[646,215.43175729999999,1438.0270169999999,1653.4587743,43.140810510000037,646,218.96555760000001,1437.2317210000001,1656.1972786000001]
[645,206.66172270000001,1441.1281570000001,1647.7898797,43.233844710000042,645,209.4722955,1440.179474,1649.6517695]
[644,199.1471884,1445.6064570000001,1644.7536454000001,43.368193710000043,644,201.06914750000001,1445.1653980000001,1646.2345455000002]
[643,191.32032950000001,1450.464993,1641.7853225000001,43.513949790000041,643,194.2864347,1450.7371639999999,1645.0235986999999]
[642,184.42726500000001,1456.064003,1640.491268,43.681920090000034,642,187.14582609999999,1456.974052,1644.1198781000001]
[641,178.5666603,1462.685293,1641.2519533,43.880558790000038,641,181.36802610000001,1462.8822170000001,1644.2502431]
[640,173.6858063,1469.391069,1643.0768753,44.081732070000037,640,177.18172200000001,1469.6900969999999,1646.871819]
[639,169.89081719999999,1475.9854359999999,1645.8762531999998,44.279563080000038,639,173.96137200000001,1476.5585369999999,1650.5199089999999]
[638,166.6536921,1482.4887220000001,1649.1424141,44.474661660000038,638,169.5776601,1483.3474120000001,1652.9250721000001]
[637,164.1704407,1489.0972240000001,1653.2676647000001,44.672916720000046,637,166.5521573,1491.212931,1657.7650883000001]
[636,163.73065080000001,1494.4694380000001,1658.2000888,44.83408314000004,636,167.2673963,1495.7078529999999,1662.9752492999999]
[635,163.62063269999999,1499.3705689999999,1662.9912016999999,44.981117070000039,635,166.11358050000001,1500.9945170000001,1667.1080975]
[634,162.22059849999999,1504.6047349999999,1666.8253334999999,45.138142050000035,634,165.76275899999999,1506.6177929999999,1672.3805519999999]
[633,161.30388139999999,1509.9510720000001,1671.2549534,45.298532160000043,633,165.48392580000001,1510.90578,1676.3897058]
[632,162.985589,1513.0112750000001,1675.9968640000002,45.390338250000042,632,166.37519030000001,1514.7623579999999,1681.1375482999999]
[631,162.64361700000001,1516.803985,1679.447602,45.504119550000041,631,166.14129299999999,1518.2205469999999,1684.3618399999998]
[630,163.003951,1519.396328,1682.400279,45.581889840000045,630,166.32423309999999,1521.896303,1688.2205360999999]
[629,162.80614199999999,1522.2878490000001,1685.093991,45.668635470000041,629,166.32030789999999,1524.4749360000001,1690.7952439000001]
[628,162.01622309999999,1524.7935440000001,1686.8097671,45.743806320000047,628,165.0493755,1527.343989,1692.3933645]
[627,163.09184730000001,1526.4139290000001,1689.5057763,45.792417870000044,627,166.60034709999999,1529.0561190000001,1695.6564661]
[626,162.06854469999999,1528.679979,1690.7485237000001,45.860399370000039,626,165.2126892,1531.1697549999999,1696.3824442]
[625,162.1291215,1529.827211,1691.9563324999999,45.89481633000004,625,164.38984919999999,1532.4824599999999,1696.8723092]
[624,161.2232784,1531.8315230000001,1693.0548014000001,45.954945690000045,624,164.1995316,1534.3567069999999,1698.5562385999999]
[623,160.3875152,1533.5980070000001,1693.9855222000001,46.007940210000044,623,164.36841190000001,1536.0406009999999,1700.4090128999999]
[622,159.42510329999999,1534.8814050000001,1694.3065083000001,46.046442150000047,622,162.54811179999999,1537.803467,1700.3515788]
[621,159.50278309999999,1535.9710749999999,{"$f":"B134+C134","v":1695.4738580999999},{"$f":"C134*(1-0.97)","v":46.079132250000036},621,162.92082919999999,1538.6665310000001,{"$f":"G134+H134","v":1701.5873602000001}]
[620,158.6904523,1537.155788,1695.8462403000001,46.114673640000042,620,162.48112990000001,1539.555032,1702.0361619]
[619,156.28471780000001,1538.8900309999999,1695.1747487999999,46.16670093000004,619,158.70469869999999,1542.632349,1701.3370476999999]
[618,153.51166029999999,1541.5937799999999,1695.1054402999998,46.247813400000041,618,156.41009059999999,1544.384789,1700.7948796000001]
[617,152.03568569999999,1542.592124,1694.6278096999999,46.277763720000038,617,156.2855175,1545.293844,1701.5793615]
[616,149.96227239999999,1544.3822210000001,1694.3444934000001,46.331466630000044,616,152.96645520000001,1547.9219459999999,1700.8884011999999]
[615,147.83997690000001,1546.3178330000001,1694.1578099000001,46.389534990000044,615,151.0115485,1549.8670050000001,1700.8785535000002]
[614,146.54848960000001,1547.6878630000001,1694.2363526000001,46.430635890000048,614,149.95994479999999,1551.46704,1701.4269847999999]
[613,144.41779529999999,1549.552719,1693.9705143000001,46.486581570000041,613,147.30269939999999,1553.7810910000001,1701.0837904]
[612,142.29421790000001,1551.9349030000001,1694.2291209,46.558047090000045,612,145.8365728,1556.286447,1702.1230197999998]
[611,139.3556002,1555.430482,1694.7860822,46.662914460000039,611,143.49074659999999,1558.6491559999999,1702.1399025999999]
[610,137.9259941,1557.5113940000001,1695.4373881000001,46.725341820000047,610,141.51772579999999,1561.6424609999999,1703.1601867999998]
[609,135.37521799999999,1560.4446150000001,1695.819833,46.813338450000046,609,138.72089249999999,1564.646677,1703.3675694999999]
[608,133.34640580000001,1563.122854,1696.4692597999999,46.893685620000042,608,137.66401260000001,1566.935054,1704.5990666]
[607,131.2174473,1565.5355,1696.7529473,46.966065000000043,607,135.01579219999999,1570.212632,1705.2284242000001]
[606,129.56274490000001,1568.4439620000001,1698.0067069000002,47.05331886000004,606,133.5257082,1573.141349,1706.6670572]
[605,127.85633009999999,1571.445635,1699.3019651,47.14336905000004,605,131.80102489999999,1576.5294449999999,1708.3304698999998]
[604,126.1777441,1574.3743139999999,1700.5520580999998,47.231229420000041,604,129.410529,1579.899371,1709.3099]
[603,124.69303290000001,1577.9127800000001,1702.6058129,47.337383400000043,603,126.99885999999999,1583.861273,1710.8601329999999]
[602,124.2133927,1580.6884580000001,1704.9018507000001,47.420653740000041,602,126.2013681,1586.94173,1713.1430981000001]
[601,122.1555316,1584.0637380000001,1706.2192696,47.52191214000004,601,125.2871457,1590.0872629999999,1715.3744087]
[600,120.8995817,1587.060794,1707.9603757,47.611823820000041,600,124.75370479999999,1592.3150889999999,1717.0687937999999]
[599,120.7554098,1589.5884160000001,1710.3438258000001,47.687652480000047,599,122.63338469999999,1595.9570530000001,1718.5904377000002]
[598,118.7528667,1592.9927949999999,1711.7456616999998,47.789783850000042,598,121.9147821,1598.8065779999999,1720.7213600999999]
[597,117.12557529999999,1596.4705899999999,1713.5961652999999,47.894117700000038,597,121.1961086,1602.1893620000001,1723.3854706000002]
[596,118.1111389,1597.6818430000001,1715.7929819000001,47.930455290000047,596,121.6644649,1603.6310940000001,1725.2955589000001]
[595,116.4943818,1600.8390380000001,1717.3334198,48.025171140000047,595,121.3016289,1606.5046139999999,1727.8062428999999]
[594,116.5322366,1603.132141,1719.6643776000001,48.093964230000047,594,119.4552401,1610.055824,1729.5110641000001]
[593,115.2150692,1605.938314,1721.1533832,48.17814942000004,593,119.012657,1611.8684659999999,1730.8811229999999]
[592,114.2109535,1607.921002,1722.1319555,48.237630060000043,592,117.31373480000001,1614.4406530000001,1731.7543878000001]
[591,113.478686,1610.397148,1723.8758339999999,48.311914440000045,591,117.1639191,1616.904546,1734.0684650999999]
[590,113.15236229999999,1611.653147,1724.8055093,48.349594410000044,590,115.2987775,1619.43947,1734.7382474999999]
[589,111.9145393,1614.2217820000001,1726.1363213,48.426653460000047,589,116.2563846,1620.333682,1736.5900666]
[588,110.47559889999999,1615.971988,1726.4475869,48.479159640000042,588,113.8055767,1623.160451,1736.9660277]
[587,108.2960739,1619.175072,1727.4711459,48.575252160000041,587,111.70948730000001,1626.3353520000001,1738.0448393000001]
[586,107.50971180000001,1621.023852,1728.5335638000001,48.630715560000041,586,110.42746320000001,1628.6486950000001,1739.0761582]
[585,106.06789139999999,1623.4668529999999,1729.5347443999999,48.704005590000037,585,108.9534872,1631.1202940000001,1740.0737812]
[584,104.7288379,1625.9184439999999,1730.6472818999998,48.777553320000038,584,108.81958040000001,1633.140431,1741.9600114]
[583,102.8668728,1629.1657749999999,1732.0326477999999,48.874973250000039,583,106.63651369999999,1636.8785499999999,1743.5150636999999]
[582,102.6265161,1630.1454960000001,1732.7720121000002,48.904364880000045,582,105.6079345,1638.762444,1744.3703785]
[581,100.1177747,1633.714436,1733.8322106999999,49.011433080000046,581,104.0723955,1641.7144760000001,1745.7868715000002]
[580,98.052343100000002,1636.5381279999999,1734.5904710999998,49.096143840000039,580,101.7389573,1644.8328899999999,1746.5718472999999]
[579,98.067433570000006,1638.1945470000001,1736.2619805700001,49.145836410000044,579,101.8824324,1646.999401,1748.8818334]
[578,95.097175149999998,1641.8638129999999,1736.96098815,49.255914390000044,578,99.713172900000004,1650.35688,1750.0700529000001]
[577,94.533808149999999,1643.74665,1738.28045815,49.312399500000048,577,98.555163500000006,1651.993604,1750.5487674999999]
[576,92.816290809999998,1646.3951850000001,1739.2114758100001,49.391855550000045,576,96.535958280000003,1655.0226359999999,1751.5585942799999]
[575,91.437584389999998,1649.1853040000001,1740.6228883900001,49.47555912000005,575,93.987365830000002,1659.1318369999999,1753.1192028299999]
[574,88.76770965,1652.1384989999999,1740.9062086499998,49.56415497000004,574,91.700764550000002,1661.5446449999999,1753.24540955]
[573,86.082382960000004,1655.5050630000001,1741.58744596,49.665151890000047,573,89.475540879999997,1664.7943049999999,1754.2698458799998]
[572,85.304741629999995,1657.9700439999999,1743.27478563,49.739101320000039,572,89.475316579999998,1667.9853949999999,1757.46071158]
[571,82.334444149999996,1661.6967870000001,1744.0312311500002,49.850903610000046,571,85.975440710000001,1671.7205710000001,1757.69601171]
[570,81.276612869999994,1664.5586410000001,1745.8352538700001,49.93675923000005,570,85.129097389999998,1674.1970389999999,1759.3261363899999]
[569,78.556785669999996,1668.306632,1746.86341767,50.049198960000048,569,81.968433660000002,1679.0075220000001,1760.9759556600002]
[568,76.046663570000007,1672.215694,1748.2623575699999,50.166470820000043,568,79.101746669999997,1682.820095,1761.92184167]
[567,74.786127070000006,1675.4679900000001,1750.2541170700001,50.264039700000048,567,78.00262472,1685.978214,1763.9808387200001]
[566,71.568100369999996,1680.151531,1751.7196313699999,50.404545930000047,566,75.402109469999999,1690.89508,1766.2971894699999]
[565,71.447900219999994,1683.619451,1755.0673512200001,50.508583530000045,565,76.07752696,1694.0280660000001,1770.1055929600002]
[564,70.404146359999999,1687.4741939999999,1757.8783403599998,50.624225820000042,564,74.027319500000004,1698.8531390000001,1772.8804585]
[563,69.103658089999996,1691.4697020000001,1760.5733600900001,50.744091060000045,563,71.018335370000003,1703.672423,1774.6907583699999]
[562,65.77515468,1696.928091,1762.70324568,50.907842730000048,562,70.069190370000001,1708.192814,1778.2620043699999]
[561,65.584753370000001,1701.109254,1766.69400737,51.033277620000042,561,69.331339130000003,1712.6000320000001,1781.9313711300001]
[560,63.912331459999997,1705.129404,1769.0417354599999,51.153882120000048,560,66.251936110000003,1717.760636,1784.0125721100001]
[559,63.909674340000002,1708.121697,1772.0313713400001,51.243650910000049,559,67.1299621,1720.3150720000001,1787.4450341000002]
[558,65.152236619999996,1712.185446,1777.3376826199999,51.365563380000047,558,69.243396950000005,1724.1445570000001,1793.3879539500001]
[557,63.226977239999997,1716.5533459999999,{"$f":"B198+C198","v":1779.7803232399999},{"$f":"C198*(1-0.97)","v":51.496600380000046},557,66.808655239999993,1728.425369,{"$f":"G198+H198","v":1795.2340242400001}]
[556,63.075694589999998,1720.1498770000001,1783.2255715900001,51.604496310000044,556,66.91216301,1732.3250700000001,1799.2372330100002]
[555,63.957252699999998,1723.922906,1787.8801587,51.717687180000048,555,67.256923409999999,1736.8126159999999,1804.0695394099998]
[554,62.280163440000003,1728.683612,1790.9637754400001,51.860508360000047,554,65.97606021,1741.1865299999999,1807.16259021]
[553,62.352503519999999,1732.2654769999999,1794.6179805199999,51.967964310000042,553,65.362447959999997,1745.442055,1810.80450296]
[552,61.848055930000001,1737.01386,1798.8619159300001,52.110415800000048,552,66.175165870000001,1749.26737,1815.44253587]
[551,63.418031130000003,1739.538618,1802.95664913,52.186158540000051,551,67.100601800000007,1752.0236070000001,1819.1242088000001]
[550,62.822291419999999,1743.9166279999999,1806.73891942,52.317498840000042,550,66.300433670000004,1757.4350939999999,1823.73552767]
[549,62.731320289999999,1748.3339100000001,1811.06523029,52.450017300000049,549,65.340230250000005,1761.7687249999999,1827.10895525]
[548,61.876202569999997,1752.439071,1814.31527357,52.573172130000046,548,66.154872530000006,1766.317724,1832.4725965299999]
[547,63.887776469999999,1754.8909149999999,1818.77869147,52.646727450000043,547,68.53175865,1768.0961319999999,1836.6278906499999]
[546,64.467188879999995,1758.7041360000001,1823.1713248800002,52.761124080000052,546,65.994536519999997,1773.285889,1839.2804255199999]
[545,65.459576170000005,1762.413446,1827.87302217,52.872403380000044,545,67.248344849999995,1777.1326300000001,1844.38097485]
[544,64.298346839999994,1766.5800850000001,1830.8784318400001,52.997402550000047,544,68.434173799999996,1780.109768,1848.5439418000001]
[543,63.828799750000002,1770.686408,1834.5152077499999,53.12059224000005,543,67.775292800000003,1785.505095,1853.2803878]
[542,66.417095950000004,1773.6372240000001,1840.05431995,53.209116720000047,542,69.405209139999997,1788.4535820000001,1857.85879114]
[541,63.987003270000002,1778.8472609999999,1842.8342642699999,53.365417830000041,541,68.885908430000001,1792.4137949999999,1861.2997034299999]
[540,65.206361290000004,1782.8736690000001,1848.08003029,53.486210070000048,540,69.929645879999995,1796.5964140000001,1866.52605988]
[539,65.142636999999993,1786.9773580000001,1852.119995,53.609320740000051,539,67.435398500000005,1802.4261899999999,1869.8615884999999]
[538,65.713450550000005,1790.6092430000001,1856.3226935500002,53.718277290000053,538,70.053133279999997,1805.9331790000001,1875.9863122800002]
[537,67.626442470000001,1794.4663539999999,1862.0927964699999,53.833990620000044,537,71.32511848,1809.6711869999999,1880.9963054799998]
[536,68.200808640000005,1798.30917,1866.5099786400001,53.949275100000051,536,72.232530830000002,1813.2486120000001,1885.4811428300002]
[535,70.009656919999998,1801.89501,1871.90466692,54.056850300000043,535,73.566815759999997,1816.662963,1890.22977876]
[534,69.920633219999999,1806.6691840000001,1876.58981722,54.200075520000048,534,73.820049119999993,1821.399148,1895.21919712]
[533,71.472899010000006,1810.8458189999999,1882.3187180099999,54.325374570000044,533,76.822949949999995,1825.63724,1902.4601899500001]
[532,72.244606919999995,1814.9285179999999,1887.17312492,54.447855540000049,532,75.848403090000005,1830.4822650000001,1906.33066809]
[531,73.795651000000007,1819.9799350000001,1893.775586,54.599398050000048,531,78.254266329999993,1835.2805049999999,1913.53477133]
[530,74.523008379999993,1824.222769,1898.7457773799999,54.72668307000005,530,79.279617439999996,1839.4795779999999,1918.75919544]
[529,76.482197119999995,1828.736607,1905.21880412,54.862098210000049,529,79.584985639999999,1844.886432,1924.47141764]
[528,77.783871809999994,1833.6168379999999,1911.4007098099999,55.008505140000047,528,82.643748009999996,1848.9638540000001,1931.6076020100002]
[527,80.347874419999997,1837.552725,1917.9005994199999,55.126581750000049,527,85.247073119999996,1852.9984420000001,1938.2455151200002]
[526,84.57106967,1841.0871729999999,1925.6582426699999,55.232615190000047,526,87.706690109999997,1857.556979,1945.2636691099999]
[525,87.448116459999994,1846.2133349999999,1933.6614514599999,55.386400050000049,525,91.229433150000006,1861.93541,1953.16484315]
[524,91.225642100000002,1850.271849,1941.4974910999999,55.508155470000048,524,95.553111939999994,1866.310538,1961.86364994]
[523,94.213336830000003,1855.2326410000001,1949.4459778300002,55.656979230000054,523,99.200952400000006,1870.6475800000001,1969.8485324000001]
[522,99.070679139999996,1859.180437,1958.25111614,55.775413110000052,522,104.445871,1874.376432,1978.8223029999999]
[521,103.956726,1862.912548,1966.8692740000001,55.887376440000047,521,108.4773184,1877.6272590000001,1986.1045774000002]
[520,109.256092,1866.4582459999999,1975.714338,55.993747380000045,520,114.3680086,1881.1244979999999,1995.4925065999998]
[519,116.25326680000001,1869.1646209999999,1985.4178877999998,56.074938630000048,519,121.7905356,1883.395841,2005.1863766000001]
[518,123.055622,1872.721063,1995.776685,56.181631890000048,518,129.5228496,1886.2900950000001,2015.8129446]
[517,129.4722649,1875.723266,2005.1955309,56.271697980000049,517,135.58945560000001,1890.0223430000001,2025.6117986000002]
[516,137.68363299999999,1877.7379960000001,2015.4216289999999,56.332139880000049,516,142.41039799999999,1892.0336950000001,2034.4440930000001]
[515,147.0756543,1879.610981,2026.6866353,56.388329430000049,515,151.0868059,1893.9149090000001,2045.0017149]
[514,154.96542160000001,1882.331281,2037.2967026000001,56.469938430000049,514,159.0179977,1895.875622,2054.8936196999998]
[513,164.36838520000001,1883.579567,2047.9479521999999,56.507387010000052,513,170.26709320000001,1895.9608350000001,2066.2279282]
[512,174.42713760000001,1884.303905,2058.7310425999999,56.529117150000047,512,180.60681510000001,1895.8301819999999,2076.4369971000001]
[511,185.30911929999999,1884.3412559999999,2069.6503752999997,56.530237680000049,511,192.6166135,1894.902998,2087.5196114999999]
[510,195.96419370000001,1884.0048959999999,2079.9690897,56.520146880000048,510,202.0386772,1895.132141,2097.1708182000002]
[509,206.46003260000001,1883.7015670000001,2090.1615996,56.511047010000055,509,212.27315250000001,1894.3649700000001,2106.6381225]
[508,219.3081,1881.8059189999999,2101.1140190000001,56.454177570000049,508,225.85611660000001,1891.94291,2117.7990266000002]
[507,231.63758079999999,1879.7332699999999,2111.3708508,56.391998100000052,507,238.00850750000001,1889.563787,2127.5722945000002]
[506,243.1474044,1878.1084900000001,2121.2558944000002,56.343254700000053,506,249.55225590000001,1887.13366,2136.6859159000001]
[505,255.2987124,1874.526574,2129.8252864000001,56.235797220000052,505,263.2241914,1882.3846189999999,2145.6088104]
[504,267.21379100000001,1871.207629,2138.4214200000001,56.136228870000046,504,273.49301819999999,1879.7071989999999,2153.2002171999998]
[503,279.3611353,1867.699206,2147.0603412999999,56.030976180000053,503,286.63265460000002,1874.9550830000001,2161.5877375999999]
[502,293.22845439999998,1863.077041,2156.3054953999999,55.892311230000047,502,299.98638440000002,1869.813007,2169.7993913999999]
[501,304.47433469999999,1858.1851590000001,2162.6594937,55.745554770000055,501,310.53338760000003,1864.7304389999999,2175.2638265999999]
[500,315.94933120000002,1853.317174,2169.2665052000002,55.59951522000005,500,324.33022399999999,1858.050068,2182.3802919999998]
[499,328.1357691,1847.0890710000001,2175.2248401000002,55.412672130000054,499,337.20039409999998,1851.655825,2188.8562191000001]
[498,339.64749849999998,1840.708803,2180.3563015,55.221264090000048,498,346.70101729999999,1846.0794129999999,2192.7804302999998]
[497,350.0093602,1834.608917,2184.6182772000002,55.038267510000047,497,357.98742149999998,1838.460131,2196.4475524999998]
[496,361.63320729999998,1828.246126,2189.8793332999999,54.847383780000051,496,368.70805680000001,1831.4906880000001,2200.1987448]
[495,369.44091680000002,1822.116401,2191.5573178,54.66349203000005,495,377.44139330000002,1825.0130549999999,2202.4544483]
[494,378.32455640000001,1815.942409,2194.2669654000001,54.478272270000048,494,385.52344049999999,1818.963949,2204.4873895000001]
[493,386.80995819999998,1808.886616,{"$f":"B262+C262","v":2195.6965742000002},{"$f":"C262*(1-0.97)","v":54.266598480000049},493,393.54772329999997,1812.160754,{"$f":"G262+H262","v":2205.7084773000001}]
[492,392.8862024,1802.724747,2195.6109494000002,54.081742410000047,492,401.7302747,1804.319483,2206.0497577000001]
[491,399.96312349999999,1795.727449,2195.6905725000001,53.871823470000045,491,408.90850699999999,1797.0067529999999,2205.9152599999998]
[490,407.30385539999997,1788.397416,2195.7012714000002,53.651922480000046,490,415.21351529999998,1789.8914030000001,2205.1049183]
[489,411.81471620000002,1782.662558,2194.4772742,53.479876740000044,489,421.26085769999997,1783.5458289999999,2204.8066866999998]
[488,415.727035,1777.7533490000001,2193.480384,53.332600470000052,488,424.50253889999999,1777.6775,2202.1800389]
[487,418.72544599999998,1771.8398340000001,2190.5652800000003,53.15519502000005,487,426.93602270000002,1771.956844,2198.8928667]
[486,421.67472140000001,1766.831807,2188.5065284000002,53.004954210000051,486,430.9662697,1766.624652,2197.5909216999999]
[485,424.41978549999999,1762.08088,2186.5006654999997,52.862426400000047,485,432.85779209999998,1762.02396,2194.8817521000001]
[484,426.5187555,1758.237877,2184.7566324999998,52.747136310000045,484,434.3237388,1758.3196780000001,2192.6434168000001]
[483,425.87180919999997,1755.4657529999999,2181.3375621999999,52.663972590000043,483,435.03131239999999,1754.8096720000001,2189.8409844000003]
[482,426.51021420000001,1752.873308,2179.3835221999998,52.586199240000042,482,436.00861149999997,1751.671918,2187.6805294999999]
[481,426.45310599999999,1750.2904590000001,2176.7435650000002,52.50871377000005,481,435.23811690000002,1750.0249389999999,2185.2630558999999]
[480,427.0566839,1748.845233,2175.9019168999998,52.465356990000046,480,437.48288930000001,1747.8825409999999,2185.3654302999998]
[479,428.60297079999998,1746.0025479999999,2174.6055188,52.380076440000046,479,436.81066759999999,1745.656663,2182.4673306]
[478,429.75907110000003,1743.8168009999999,2173.5758721000002,52.314504030000045,478,438.9177239,1743.0159630000001,2181.9336868999999]
[477,431.07261440000002,1742.1259070000001,2173.1985214000001,52.26377721000005,477,441.40233119999999,1739.9292399999999,2181.3315711999999]
[476,430.86478190000003,1740.331199,2171.1959809,52.209935970000046,476,441.19121860000001,1738.7402059999999,2179.9314245999999]
[475,431.59805089999998,1739.0813250000001,2170.6793759000002,52.172439750000052,475,440.45559880000002,1738.4174479999999,2178.8730467999999]
[474,432.9275427,1737.342392,2170.2699346999998,52.120271760000044,474,443.65257000000003,1735.8608830000001,2179.513453]
[473,433.8529072,1735.8330880000001,2169.6859952,52.074992640000048,473,444.61416309999998,1733.670838,2178.2850011]
[472,435.82610089999997,1733.817839,2169.6439399000001,52.014535170000045,472,445.37491510000001,1732.0540800000001,2177.4289951000001]
[471,435.2819935,1732.9761040000001,2168.2580975000001,51.989283120000046,471,443.70667040000001,1732.3278700000001,2176.0345404]
[470,436.56994379999998,1732.0650430000001,2168.6349868000002,51.961951290000044,470,445.57820479999998,1730.721507,2176.2997117999998]
[469,437.56533480000002,1731.254187,2168.8195218000001,51.937625610000048,469,445.9949651,1729.926434,2175.9213991000001]
[468,435.89891039999998,1731.7874609999999,2167.6863714000001,51.953623830000041,468,444.64489570000001,1730.6207300000001,2175.2656256999999]
[467,437.72758069999998,1729.9139150000001,2167.6414957000002,51.897417450000049,467,447.7738564,1728.241088,2176.0149443999999]
[466,437.02337189999997,1730.686436,2167.7098078999998,51.920593080000046,466,445.88655999999997,1728.961771,2174.8483310000001]
[465,436.49758000000003,1730.854216,2167.3517959999999,51.925626480000048,465,445.45554129999999,1729.9951550000001,2175.4506962999999]
[464,437.87794400000001,1730.763688,2168.6416319999998,51.922910640000048,464,447.28425140000002,1729.607092,2176.8913434000001]
[463,437.35617380000002,1731.588992,2168.9451657999998,51.947669760000046,463,447.36943710000003,1730.265132,2177.6345691000001]
[462,439.14405379999999,1731.578579,2170.7226328000002,51.947357370000049,462,448.48141879999997,1730.5128540000001,2178.9942728000001]
[461,437.69220799999999,1733.9034630000001,2171.595671,52.017103890000051,461,447.59119170000002,1732.224657,2179.8158487000001]
[460,441.5000799,1733.1427000000001,2174.6427799000003,51.994281000000051,460,450.15962669999999,1731.887522,2182.0471487]
[459,440.99979359999998,1735.2152080000001,2176.2150016000001,52.056456240000045,459,452.09019339999998,1733.7112079999999,2185.8014014]
[458,443.091027,1737.3016009999999,2180.3926280000001,52.119048030000044,458,451.67129360000001,1735.974831,2187.6461245999999]
[457,445.90316760000002,1737.6805730000001,2183.5837406000001,52.130417190000053,457,456.3175521,1735.9784729999999,2192.2960251]
[456,448.86738530000002,1738.25341,2187.1207953000003,52.147602300000045,456,458.88975740000001,1736.1880610000001,2195.0778184000001]
[455,453.40562979999999,1739.186563,2192.5921927999998,52.175596890000044,455,462.92556710000002,1737.37186,2200.2974270999998]
[454,457.90153340000001,1739.6314520000001,2197.5329854000001,52.188943560000048,454,468.64256769999997,1737.1068680000001,2205.7494357]
[453,464.90389620000002,1738.807172,2203.7110682000002,52.164215160000047,453,473.11742709999999,1737.732366,2210.8497931000002]
[452,474.31830730000001,1736.789252,2211.1075593,52.103677560000044,452,482.57491929999998,1735.1825229999999,2217.7574423000001]
[451,481.7955882,1735.1028650000001,2216.8984531999999,52.053085950000046,451,491.05085910000003,1733.1566969999999,2224.2075561000001]
[450,491.69761319999998,1731.708329,2223.4059422,51.951249870000048,450,503.21349609999999,1727.475242,2230.6887381000001]
[449,503.62304790000002,1725.863347,2229.4863949000001,51.775900410000048,449,515.13872490000006,1721.592404,2236.7311288999999]
[448,516.9651169,1718.4453699999999,2235.4104868999998,51.553361100000046,448,527.70687180000004,1713.814498,2241.5213697999998]
[447,526.72232810000003,1711.067499,2237.7898270999999,51.332024970000049,447,535.56178369999998,1707.1068250000001,2242.6686086999998]
[446,540.12405950000004,1701.3388179999999,2241.4628775000001,51.040164540000042,446,550.09305749999999,1696.771283,2246.8643405000003]
[445,549.60341089999997,1691.549004,2241.1524148999997,50.746470120000048,445,559.84936319999997,1685.980836,2245.8301991999997]
[444,558.23971800000004,1682.0249759999999,2240.264694,50.460749280000044,444,570.65684320000003,1674.2041240000001,2244.8609672000002]
[443,567.04859629999999,1670.7669100000001,2237.8155062999999,50.123007300000047,443,577.88135380000006,1664.3230610000001,2242.2044148]
[442,572.96786589999999,1660.8203390000001,2233.7882049,49.824610170000049,442,582.74880610000002,1653.273494,2236.0223000999999]
[441,578.32745509999995,1650.059859,2228.3873140999999,49.501795770000044,441,588.76527180000005,1642.9309249999999,2231.6961968000001]
[440,583.29912439999998,1639.3688059999999,2222.6679303999999,49.181064180000043,440,595.52473759999998,1630.08188,2225.6066175999999]
[439,584.67087070000002,1630.924119,2215.5949897,48.927723570000047,439,595.76928929999997,1622.217838,2217.9871272999999]
[438,586.76630079999995,1621.243033,2208.0093337999997,48.637290990000039,438,598.19664509999996,1613.133581,2211.3302260999999]
[437,586.76756330000001,1613.6602379999999,2200.4278012999998,48.409807140000041,437,596.70551569999998,1605.270019,2201.9755347]
[436,585.651611,1605.714768,2191.3663790000001,48.171443040000042,436,597.56823429999997,1597.0423539999999,2194.6105883]
[435,584.95846779999999,1598.439995,2183.3984627999998,47.95319985000004,435,596.55322369999999,1589.1567239999999,2185.7099477000002]
[434,584.26663570000005,1590.6403800000001,2174.9070157000001,47.719211400000042,434,596.01807870000005,1581.133902,2177.1519807]
[433,578.73242749999997,1587.318626,2166.0510534999999,47.619558780000041,433,589.43033869999999,1577.9892749999999,2167.4196136999999]
[432,575.87365680000005,1581.6176049999999,2157.4912617999998,47.448528150000037,432,585.66580109999995,1573.6347599999999,2159.3005610999999]
[431,571.02428710000004,1578.1984520000001,2149.2227391000001,47.345953560000048,431,582.17889300000002,1569.203557,2151.3824500000001]
[430,565.59260900000004,1575.976318,2141.5689270000003,47.279289540000043,430,577.52379359999998,1566.284676,2143.8084696000001]
[429,562.34716809999998,1573.1809920000001,{"$f":"B326+C326","v":2135.5281601000002},{"$f":"C326*(1-0.97)","v":47.195429760000046},429,573.2267544,1564.098722,{"$f":"G326+H326","v":2137.3254763999998}]
[428,556.89661279999996,1571.9534960000001,2128.8501088000003,47.158604880000041,428,569.97844940000004,1561.706946,2131.6853953999998]
[427,553.13391479999996,1570.336943,2123.4708578,47.110108290000042,427,565.035753,1560.665301,2125.7010540000001]
[426,548.43440729999998,1569.924724,2118.3591312999997,47.097741720000037,426,559.67549729999996,1560.905589,2120.5810862999997]
[425,545.84491760000003,1569.2156669999999,2115.0605845999999,47.076470010000037,425,555.84842209999999,1560.530356,2116.3787781000001]
[424,542.27188120000005,1568.3896950000001,2110.6615762000001,47.051690850000043,424,551.24535990000004,1560.6775299999999,2111.9228899]
[423,537.23038020000001,1569.4280799999999,2106.6584601999998,47.08284240000004,423,547.55504080000003,1560.89366,2108.4487008000001]
[422,535.34028439999997,1568.2874879999999,2103.6277724000001,47.048624640000043,422,545.73580870000001,1559.671648,2105.4074566999998]
[421,532.98577350000005,1566.9049600000001,2099.8907335000004,47.007148800000046,421,542.58238710000001,1558.5937699999999,2101.1761570999997]
[420,530.18086059999996,1565.283111,2095.4639716000001,46.958493330000039,420,541.7222587,1556.381711,2098.1039697000001]
[419,529.68547539999997,1562.7429520000001,2092.4284274000001,46.882288560000042,419,538.82061720000002,1555.0279989999999,2093.8486161999999]
[418,526.09949940000001,1561.4761940000001,2087.5756934000001,46.844285820000046,418,537.93909710000003,1552.5391010000001,2090.4781981000001]
[417,521.49544849999995,1560.6883499999999,2082.1837984999997,46.820650500000042,417,533.98937179999996,1551.3259109999999,2085.3152827999997]
[416,515.43800710000005,1560.524099,2075.9621060999998,46.815722970000039,416,526.48677550000002,1551.4134799999999,2077.9002554999997]
[415,515.43502650000005,1556.6177600000001,2072.0527865000004,46.698532800000045,415,524.12831930000004,1548.9806149999999,2073.1089342999999]
[414,509.51091200000002,1556.215291,2065.7262030000002,46.686458730000041,414,519.46272899999997,1548.3327019999999,2067.795431]
[413,505.46318009999999,1553.788335,2059.2515150999998,46.613650050000039,413,515.08188380000001,1546.8948820000001,2061.9767658000001]
[412,499.59420290000003,1553.43694,2053.0311429000003,46.603108200000044,412,508.70772699999998,1546.203704,2054.911431]
[411,490.90066039999999,1554.971945,2045.8726053999999,46.649158350000043,411,502.7754903,1545.9120370000001,2048.6875273000001]
[410,486.8901257,1553.749313,2040.6394387,46.61247939000004,410,497.75753700000001,1546.3509630000001,2044.1085]
[409,478.61969299999998,1554.9305979999999,2033.550291,46.647917940000042,409,489.65169170000001,1546.7786390000001,2036.4303307]
[408,471.14072529999999,1555.9332260000001,2027.0739513000001,46.677996780000043,408,484.07847679999998,1548.097685,2032.1761618]
[407,464.18802720000002,1557.3947499999999,2021.5827772,46.721842500000037,407,474.72658660000002,1550.0635970000001,2024.7901836000001]
[406,457.65433589999998,1558.580997,2016.2353329,46.757429910000042,406,467.34638749999999,1552.384603,2019.7309905]
[405,448.41405650000002,1562.1612829999999,2010.5753394999999,46.864838490000039,405,457.55974429999998,1556.148351,2013.7080953]
[404,441.26680219999997,1566.0616769999999,2007.3284791999999,46.981850310000041,404,453.55337350000002,1557.929723,2011.4830965000001]
[403,433.69622759999999,1569.758161,2003.4543885999999,47.092744830000044,403,445.24404010000001,1563.018327,2008.2623671000001]
[402,428.27779450000003,1572.5610449999999,2000.8388394999999,47.176831350000036,402,438.15643879999999,1567.385348,2005.5417868]
[401,423.4608728,1576.154961,1999.6158338,47.284648830000037,401,435.90824800000001,1569.9785179999999,2005.8867659999999]
[400,419.14209010000002,1579.3480830000001,1998.4901731,47.380442490000043,400,431.02099600000003,1573.52556,2004.546556]
[399,414.44500590000001,1583.3860340000001,1997.8310399000002,47.501581020000046,399,425.81585749999999,1577.863885,2003.6797425]
[398,408.16360750000001,1589.125352,1997.2889595000001,47.673760560000041,398,420.39745490000001,1583.6326019999999,2004.0300568999999]
[397,406.56341620000001,1591.159232,1997.7226482000001,47.73477696000004,397,416.02017790000002,1586.2274110000001,2002.2475889000002]
[396,402.49078509999998,1595.04889,1997.5396751000001,47.851466700000046,396,414.0277365,1589.7050770000001,2003.7328135]
[395,400.65275250000002,1597.5851709999999,1998.2379234999999,47.927555130000044,395,411.9016982,1592.964246,2004.8659442000001]
[394,400.54821520000002,1600.149298,2000.6975132,48.004478940000041,394,412.40428489999999,1594.650412,2007.0546969]
[393,398.35623659999999,1603.1908330000001,2001.5470696000002,48.095724990000043,393,410.48556760000002,1597.6662550000001,2008.1518226000001]
[392,394.39495670000002,1606.190012,2000.5849687,48.185700360000041,392,407.6993961,1600.886802,2008.5861981]
[391,394.04215260000001,1608.341578,2002.3837306,48.250247340000044,391,408.01694170000002,1602.0490030000001,2010.0659447]
[390,392.110726,1609.8883599999999,2001.9990859999998,48.296650800000037,390,403.2587967,1605.8295210000001,2009.0883177000001]
[389,392.10977000000003,1611.6502370000001,2003.7600070000001,48.349507110000047,389,402.94693219999999,1606.959159,2009.9060912]
[388,390.1952167,1613.5790159999999,2003.7742326999999,48.40737048000004,388,401.95801979999999,1608.923632,2010.8816517999999]
[387,387.92347210000003,1616.0035049999999,2003.9269770999999,48.480105150000043,387,397.8198233,1612.1954029999999,2010.0152263]
[386,387.39636309999997,1615.6786050000001,2003.0749681,48.470358150000045,386,398.54237599999999,1610.9815880000001,2009.523964]
[385,385.8526104,1616.9098289999999,2002.7624393999999,48.507294870000038,385,393.43263209999998,1614.8444179999999,2008.2770501]
[384,382.27096779999999,1619.1037329999999,2001.3747008,48.573111990000044,384,394.31531699999999,1613.4440489999999,2007.759366]
[383,384.68478879999998,1617.760634,2002.4454228,48.532819020000041,383,393.6635789,1614.9751220000001,2008.6387009]
[382,377.9564489,1621.574697,1999.5311459,48.647240910000043,382,390.22743489999999,1616.9128780000001,2007.1403129]
[381,377.08705220000002,1622.1018309999999,1999.1888832,48.663054930000044,381,386.51380890000002,1619.2821919999999,2005.7960008999999]
[380,373.4340717,1623.77061,1997.2046817,48.713118300000048,380,386.82074499999999,1618.6496549999999,2005.4703999999999]
[379,372.51964190000001,1623.183534,1995.7031759000001,48.695506020000046,379,381.15857069999998,1620.5310340000001,2001.6896047]
[378,368.18703520000003,1625.135327,1993.3223622,48.754059810000044,378,380.65974,1620.66347,2001.32321]
[377,361.71934060000001,1627.900028,1989.6193686000001,48.837000840000044,377,371.59269810000001,1623.943857,1995.5365551]
[376,354.81897409999999,1630.377986,1985.1969601000001,48.911339580000039,376,367.13522890000002,1625.6330680000001,1992.7682969000002]
[375,354.94373100000001,1630.3570540000001,1985.3007850000001,48.910711620000043,375,365.59414600000002,1626.1197030000001,1991.7138490000002]
[374,345.97267419999997,1635.8948829999999,1981.8675572,49.076846490000044,374,356.97465249999999,1632.683237,1989.6578895]
[373,343.06144490000003,1637.41668,1980.4781249,49.122500400000042,373,351.82670380000002,1635.1718390000001,1986.9985428]
[372,337.90144950000001,1640.27691,1978.1783595000002,49.208307300000044,372,348.61969240000002,1637.379805,1985.9994974000001]
[371,332.27252549999997,1643.631885,1975.9044105,49.308956550000048,371,340.86824789999997,1641.1292530000001,1981.9975009]
[370,327.75451290000001,1646.138694,1973.8932069,49.384160820000041,370,336.31752640000002,1644.530557,1980.8480834000002]
[369,323.62976570000001,1648.8550319999999,1972.4847976999999,49.46565096000004,369,336.8661649,1644.1781229999999,1981.0442879]
[368,320.70544330000001,1652.09788,1972.8033233000001,49.562936400000048,368,330.593703,1650.7490909999999,1981.3427939999999]
[367,313.9081071,1656.390527,1970.2986341000001,49.691715810000048,367,326.50514129999999,1653.444015,1979.9491563000001]
[366,312.48951049999999,1657.318262,1969.8077725000001,49.719547860000041,366,320.42293310000002,1657.545738,1977.9686710999999]
[365,307.3338751,1660.3144090000001,{"$f":"B390+C390","v":1967.6482841000002},{"$f":"C390*(1-0.97)","v":49.809432270000045},365,314.7408509,1660.4583419999999,{"$f":"G390+H390","v":1975.1991928999998}]
[364,305.8224414,1662.9028989999999,1968.7253403999998,49.887086970000041,364,320.58268090000001,1658.971268,1979.5539489]
[363,302.29621969999999,1666.7201640000001,1969.0163837,50.001604920000048,363,308.49895909999998,1667.888424,1976.3873831000001]
[362,295.78237280000002,1671.693718,1967.4760908000001,50.150811540000042,362,304.92572159999997,1671.377868,1976.3035896000001]
[361,292.84749219999998,1673.9683170000001,1966.8158092000001,50.219049510000048,361,305.67513889999998,1670.6353959999999,1976.3105348999998]
[360,293.30678690000002,1675.1639520000001,1968.4707389,50.25491856000005,360,300.99683620000002,1676.3344400000001,1977.3312762]
[359,289.09823820000003,1680.0146950000001,1969.1129332,50.400440850000045,359,296.28332039999998,1680.424712,1976.7080323999999]
[358,286.34604180000002,1682.933352,1969.2793938,50.488000560000046,358,292.78882370000002,1683.7675389999999,1976.5563626999999]
[357,283.8637013,1685.8686600000001,1969.7323613000001,50.576059800000046,357,293.92177390000001,1685.28413,1979.2059039000001]
[356,280.90515329999999,1690.108952,1971.0141053,50.703268560000048,356,291.03496799999999,1688.9165009999999,1979.9514689999999]
[355,278.01528660000002,1693.3679259999999,1971.3832126,50.801037780000044,355,286.26485489999999,1693.552901,1979.8177559000001]
[354,279.94649129999999,1694.1312310000001,1974.0777223,50.823936930000045,354,288.41056579999997,1695.701219,1984.1117847999999]
[353,278.0142616,1698.1937370000001,1976.2079986000001,50.945812110000048,353,285.372546,1699.164483,1984.5370290000001]
[352,274.31822570000003,1703.1532560000001,1977.4714817000001,51.094597680000049,352,283.77777179999998,1703.7663500000001,1987.5441218000001]
[351,276.14173899999997,1704.666659,1980.8083979999999,51.139999770000045,351,284.8394874,1704.67597,1989.5154574000001]
[350,280.63602520000001,1705.207259,1985.8432842,51.156217770000048,350,289.22014719999999,1704.895221,1994.1153681999999]

{"sheet":"Dilution6","index":2,"n_rows":44,"n_cols":43,"rows_kept":44,"cut":false,"hidden":false,"merged":[]}
["X=",0.11130000000000002,"g/L",null,null,null,null,null,null,null,null,null,null,null,null,null,null,null,null,null,null,null,null,null,null,null,null,null,null,null,null,null,null,null,"dilution 6"]
[]
["l (nm)","Abs,l (m2/kg)","Ssca,l (m2/kg)","n","k (1/m)","ss (1/m)","g","d (m)",null,"wtr","ttr","mc","R1","Ctr","Etr","c","k2","g","gbar","j","s","c","k1","k2","D1","D","A","B","R0dh","T0dh","Rdh","Tdh","Adh",null,"l (nm)","Rdh","Tdh","Rdh","Tdh",null,"error"]
[750,42.908031261783265,120.03889303914312,{"$f":"1.32711+0.0026/(A4/1000)^2+0.00005/(A4/1000)^4","v":1.3318902469135803},{"$f":"B4*B$1","v":4.7756638794364781},{"$f":"C4*B$1","v":13.360328795256631},0.39978824952825059,0.01,null,{"$f":"F4*(1-G4)/(F4*(1-G4)+E4)","v":0.62674642370278},{"$f":"(F4*(1-G4)+E4)*H4","v":0.1279469021251558},{"$f":"SQRT(1-1/D4^2)","v":0.66051526570572971},{"$f":"(D4-1)^2/(D4+1)^2","v":2.0256889936719542E-2},{"$f":"M4*EXP(-2*K4)","v":1.5683374076455855E-2},{"$f":"EXP(-K4)","v":0.87990009872959529},{"$f":"J4/(1-J4)*(1-M4)/(1-M4*N4)","v":1.6456523741553331},{"$f":"4/(1+L4)^2*(1-J4)/(1-J4*L4)","v":0.92397987162453699},{"$f":"(1-M4)/(1+M4)","v":0.96029060889169604},{"$f":"R4/(1+L4)","v":0.5783088109602933},{"$f":"2*S4/SQRT(Q4)","v":1.2032574230643767},{"$f":"SINH(SQRT(Q4)*K4)","v":0.1232978007297091},{"$f":"COSH(SQRT(Q4)*K4)","v":1.0075725024358211},{"$f":"(1-2*S4)-(1+2*S4)*M4","v":-0.20030398772342176},{"$f":"(1-2*S4)*N4-(1+2*S4)","v":-2.1590739146721325},{"$f":"R4*(1-L4^2)*P4/2","v":0.44542430323509957},{"$f":"Y4*Q4/(Q4-1)","v":-5.4138699751848378},{"$f":"(W4*(T4*U4+V4)*O4+X4)/((1+T4^2)*U4+2*T4*V4)","v":-0.86659107977422101},{"$f":"(W4*O4+X4*(T4*U4+V4))/((1+T4^2)*U4+2*T4*V4)","v":-0.9799889946618896},{"$f":"M4+(1-M4)^2*N4/(1-M4*N4)","v":3.5316091042537426E-2},{"$f":"(1-M4)^2/(1-M4*N4)*O4","v":0.84488149521919531},{"$f":"AC4+Z4*(1+AB4/SQRT(Q4)+N4)","v":5.6013289890999629E-2},{"$f":"AD4+Z4*(AA4/SQRT(Q4)+(1+M4)*O4)","v":0.86551713272218245},{"$f":"1-AE4-AF4","v":7.8469577386817924E-2},null,750,5.6013233659999999,86.551712323440199,{"$f":"AJ4/100","v":5.6013233660000002E-2},{"$f":"AK4/100","v":0.865517123234402},null,{"$f":"(AJ4/100-AE4)^2+(AK4/100-AF4)^2","v":3.2519432969704794E-15}]
[740,44.333783689391403,197.96553795236721,{"$f":"1.32711+0.0026/(A5/1000)^2+0.00005/(A5/1000)^4","v":1.3320247325123082},4.9343501246292645,22.033564374098475,0.63932257817402238,0.01,null,{"$f":"F5*(1-G5)/(F5*(1-G5)+E5)","v":0.6169387093933415},{"$f":"(F5*(1-G5)+E5)*H5","v":0.12881359316715812},{"$f":"SQRT(1-1/D5^2)","v":0.66060142328872185},{"$f":"(D5-1)^2/(D5+1)^2","v":2.0270971677790125E-2},1.5667095887233796E-2,0.87913782757067704,1.5784021989202475,0.93787762624207183,0.960263553035415,0.57826251354986224,1.1942134206888988,0.12507215265476737,1.0077911705158453,-0.20023988484650859,-2.1589773197080477,0.42712358163232439,-6.4483957489182746,-0.87168398941283098,-0.98665511827698349,3.5314108361825393E-2,0.84412520351189024,5.5566975688082137E-2,0.86431698156917292,8.0116042742744975E-2,null,740,5.5566892624999999,86.431687659739055,{"$f":"AJ5/100","v":5.5566892625000003E-2},0.86431687659739054,null,{"$f":"(AJ5/100-AE5)^2+(AK5/100-AF5)^2","v":1.7918550709234977E-14}]
[730,41.619884156107382,197.30953505015822,1.3321650314014166,4.6322931065747524,21.960551251082613,0.64515777626076609,0.01,null,{"$f":"F6*(1-G6)/(F6*(1-G6)+E6)","v":0.62717434658901439},0.12424823947048323,{"$f":"SQRT(1-1/D6^2)","v":0.66069126535245748},{"$f":"(D6-1)^2/(D6+1)^2","v":2.0285665600687893E-2},1.5822263486542275E-2,0.88316057835474748,1.6486230837296998,0.92334421192229543,0.96023532176403803,0.57821423030140529,1.2034746754194443,0.11967496962451316,1.0071355908489323,-0.20017304724640536,-2.1589035129232625,0.4460186296821026,-5.3724412787853657,-0.86945081219941167,-0.97972146926984027,3.547738579927974E-2,0.84796517313743136,5.5659320618542993E-2,0.86809048043704518,7.6250198944411873E-2,null,730,5.5659220215000005,86.809035829756141,5.5659220215000006E-2,0.86809035829756143,null,2.4998924934781895E-14]
[720,42.656940702018389,210.12772794699387,1.3323114865302546,4.7477175001346481,23.387216120500423,0.66701948834220459,0.01,null,0.62124930406201728,0.12535204690190319,0.66078500633681536,2.0301008077317603E-2,1.5799312872297241E-2,0.88218627696470309,1.6074758452533187,0.93177659511130462,0.96020584530133246,0.5781638451922525,1.1979123078140086,0.12129602603042211,1.0073295021643975,-0.20010331624434446,-2.1587975604754934,0.43477770035024521,-5.9380748575010251,-0.87209176298714597,-0.98378824760295802,3.5470213779677864E-2,0.84700298115757067,5.5473065263000568E-2,0.86694869687364018,7.7578237863359267E-2,null,720,5.5473020074999999,86.694872887178946,5.5473020074999997E-2,0.86694872887178942,null,3.0658369504393789E-15]
[710,56.619724655919086,199.63287405238509,1.3324644667115881,6.3017753542037953,22.219138882030464,0.62672041482751861,0.01,null,0.56824516813218806,0.14595726298977879,0.66088287659146805,2.0317038245697982E-2,1.5173421783992856E-2,0.86419463549041908,1.2897870274662357,1.0025752817957569,0.96017504856994151,0.57811123355094862,1.1547365371673104,0.14666587570212353,1.010698213659978,-0.20003052143223976,-2.1585928964873702,0.34876038802994441,135.77486738904429,-0.88274276059120949,-1.016334797259093,3.4884656254905159E-2,0.82969138501847028,5.454167101117903E-2,0.8492722030614881,9.6186125927332888E-2,null,710,5.4541671274999999,84.927216848685248,5.4541671275000002E-2,0.8492721684868525,null,1.1954750283069607E-15]
[700,101.23722730065809,267.40945706224522,1.3326243690129114,11.267703398563247,29.762672571027899,0.67114426219502521,0.01,null,0.46485265682764965,0.21055329045956511,0.66098512381895591,2.0333798268192715E-2,1.3345481457810997E-2,0.81013588148955096,0.85121239125742498,1.1200361684066671,0.96014285069708516,0.57805626126832121,1.0924060122882537,0.22468093280123569,1.0249300081295472,-0.19995447961342663,-2.1581959193114875,0.23010618514916553,2.1470799456710394,-0.8652678305902356,-1.0628165939278971,3.3145545589190528E-2,0.77773561352056464,5.2671975220292433E-2,0.79710436425517284,0.15022366052453473,null,700,5.2671933175000003,79.710414824640935,5.2671933175000005E-2,0.79710414824640941,null,4.8427592494690723E-14]
[690,257.11766240526521,249.50817221966415,1.3327916214110298,28.617195825706023,27.770259568048626,0.52245499424119046,0.01,null,0.31666538466820426,0.41878744591053441,0.66109201467316836,2.0351333618480971E-2,8.8072174666668866E-3,0.65784400784252062,0.45406222418442327,1.2529074345081281,0.96010916446532413,0.57799878392301607,1.032755287660424,0.48611996161575299,1.1118959560504307,-0.1998749936299003,-2.1573714723503232,0.12271043167824662,0.60790942124888681,-0.71778559441546619,-1.0945438599356034,2.8805236854247431E-2,0.6314536466912255,4.7622455707000827E-2,0.64967293221263667,0.30270461208036248,null,690,4.7622087005000004,64.96730623984665,4.7622087005000008E-2,0.64967306239846645,null,1.528895156843733E-13]
[680,415.94396676949725,253.80438966806815,1.3329666857437052,46.294563501445054,28.248428570055992,0.42226733999016314,0.01,null,0.26064270831219033,0.62614603280321379,0.66120383653268466,2.0369693401000276E-2,5.8226536592311902E-3,0.53464835273319378,0.34538617082729983,1.2948380795921262,0.96007389570126112,0.57793864581071319,1.0157901569249304,0.77432986761341915,1.2647476996927947,-0.1997918510619337,-2.1567849111038768,9.3312756631394073E-2,0.40980090076963194,-0.57350938280883335,-1.0937296307936228,2.595821451201346E-2,0.51314980781673203,4.4255062617519839E-2,0.53017144290342277,0.42557349447905735,null,680,4.4254620075000002,53.017152455275159,4.4254620075000001E-2,0.53017152455275163,null,2.025104947667038E-13]
[670,399.05415670077292,304.68229282194164,1.3331500609971028,44.414727640796038,33.911139191082114,0.5287420995735187,0.01,null,0.26460349746387207,0.60395619897055564,0.6613208994711951,2.0388930707148919E-2,6.0926293861501332E-3,0.54664471727158492,0.35251829135323176,1.2918560862105908,0.96003694259399897,0.57787567886468072,1.0168510572152256,0.74165236896268572,1.2450093318477431,-0.19970482278394758,-2.1567002930283961,9.5209773544861986E-2,0.42143142196429129,-0.58778624766498622,-1.0941139604271628,2.6236374836701645E-2,0.52464613229667589,4.4556536051496939E-2,0.54177529306711436,0.41366817088138874,null,670,4.4555921554999998,54.177541785496885,4.4555921554999996E-2,0.54177541785496885,null,3.9317795338535462E-13]
[660,286.55043217435815,315.5273808603535,1.3333422869735843,31.893063101006067,35.11819748975735,0.60582832999447611,0.01,null,0.3026653174301428,0.45735661653127524,0.66144353845046044,2.040910301318587E-2,8.176529502538131E-3,0.63295457774389507,0.42524440862101043,1.2634164326420245,0.9599981949339349,0.57780970145351662,1.0281146897971727,0.53702112340425723,1.1350734280135231,-0.19961366135818509,-2.1568918295460699,0.11481423242861288,0.55068010183184091,-0.6892452740379249,-1.0950389427840626,2.8256596587348023E-2,0.60748352709298759,4.6956692693487047E-2,0.62547693661416826,0.32756637069234473,null,660,4.695668221,62.547689728587017,4.6956682210000003E-2,0.62547689728587019,null,1.6566185290998345E-15]
[650,248.14913428602287,219.59223732094429,1.3335439483911629,27.618998646034353,24.440616013821106,0.46301076278719316,0.01,null,0.32212247915557629,0.40743346396307262,0.66157211576501462,2.0430272625527268E-2,9.0444456158306104E-3,0.66535572005804111,0.4655704549253129,1.2481227209599692,0.95995753326102151,0.57774051703981666,1.0342705931833918,0.47106418446703413,1.1053965197555093,-0.19951809924503366,-2.1568872738366598,0.12565876058714454,0.63209670428282738,-0.72613417101444799,-1.0939104317369173,2.9110536321157749E-2,0.63856463367871041,4.8001171723300318E-2,0.65688704654250718,0.2951117817341925,null,650,4.8001174925000001,65.688693875869461,4.8001174925000001E-2,0.65688693875869464,null,1.1627601126915511E-14]
[640,175.97705723988844,238.72779154727249,1.333755679473877,19.586246470799587,26.570403199211434,0.56117141565750783,0.01,null,0.37316186131191414,0.31246098892118768,0.66170702377220791,2.0452507180033195E-2,1.0948292386050974E-2,0.73164417061831999,0.58326322357592364,1.2057786346205008,0.95991482790991878,0.57766791268104245,1.0521422202858963,0.34987864720713585,1.059440922265841,-0.19941784680568572,-2.1570364873961774,0.15736738744610612,0.92210852656545517,-0.79732811195802933,-1.0871878155442454,3.0959892048728628E-2,0.70217953782627118,5.0201678326597041E-2,0.72107970072674465,0.22871862094665829,null,640,5.0201461314999998,72.107965184009146,5.0201461315000001E-2,0.72107965184009148,null,4.9483938107834432E-14]
[630,161.05561899927707,251.06797521923423,1.3339781691016692,17.925490394619541,27.943865641900775,0.59458393871200399,0.01,null,0.38725452528479132,0.29254382340319912,0.66184868794630025,2.0475880202931764E-2,1.1406233123098448E-2,0.74636253617282466,0.61920287748782632,1.1933329776049622,0.95986993793746522,0.57759165735098605,1.0574749445743101,0.32504163948208864,1.0514999131703264,-0.19931259006916707,-2.1569533717662779,0.16700055555035864,1.0307981219003239,-0.81187818671424883,-1.084398349605904,3.1422346772806004E-2,0.71627788622673993,5.0728246840265355E-2,0.7352832477008121,0.21398850545892256,null,630,5.0728120800000003,73.528303016875967,5.0728120800000005E-2,0.73528303016875962,null,6.3206342346538914E-14]
[620,157.47833335556103,253.65744472973162,1.3342121665993518,17.527338502473945,28.232073598419134,0.60060887938677276,0.01,null,0.39147478105062467,0.28802978014181668,0.66199757030132056,2.0500471742271591E-2,1.1523498949583233E-2,0.74973926456495799,0.63027785507563994,1.1894622320686628,0.95982270991551488,0.5775115000568255,1.0590471700703559,0.31932432946064127,1.0497466491423006,-0.19920198823142626,-2.1568094074926223,0.16991952321381051,1.0667712142264563,-0.81494266267158544,-1.0833893083460227,3.1558951759959916E-2,0.71948430871057467,5.0929030394706781E-2,0.73856212748972805,0.2105088421155652,null,620,5.0928843019999999,73.856191668023769,5.0928843019999996E-2,0.73856191668023774,null,{"$f":"(AJ17/100-AE17)^2+(AK17/100-AF17)^2","v":7.9549921946994354E-14}]
[610,142.1408106613238,259.9759552938296,1.3344584882572319,15.820272226605342,28.935323824203241,0.62336217189140364,0.01,null,0.40788870384917625,0.26718409747372179,0.66215417323446402,2.0526369080268288E-2,1.2029261756446507E-2,0.76553212596147402,0.67489829041826954,1.1744879462651858,0.95977297656940042,0.5774271677227949,1.0656213842698532,0.29362079937378277,1.0422155121782151,-0.19908567084916223,-2.1567171187807852,0.18187236453484801,1.2241928710667971,-0.82971610690599706,-1.0796019990682144,3.2069715263581655E-2,0.73460886655704238,5.1467832433396907E-2,0.75375509429043941,0.19477707327616367,null,610,5.1467261314999995,75.375520505928094,5.1467261314999992E-2,0.75375520505928095,null,3.3844595955177651E-13]
[600,128.35980138071866,220.21825297859658,1.3347180246913581,14.28644589367399,24.510291556517803,0.56674286415753361,0.01,null,0.42637857004355739,0.24905704612114682,0.66231904385009621,2.0553667538660614E-2,1.248996225119706E-2,0.77953550263954885,0.72821924043212172,1.1571065436396855,0.95972055523893951,0.57733836280677586,1.0734300209996364,0.27112424533599477,1.0361024835454322,-0.19896323468510252,-2.1566086320776039,0.19615433000599289,1.4446976781166943,-0.84135842348986711,-1.074545464116395,3.2538553846106821E-2,0.74801221844025267,5.2118417054995897E-2,0.76737121227230065,0.18051037067270348,null,600,5.2118394375000001,76.737116136712757,5.2118394375000002E-2,0.76737116136712757,null,3.1057188597884899E-15]
[590,119.93985589577282,273.8503375101954,1.3349917491696419,13.349305961199518,30.479542564884756,0.65763305244284509,0.01,null,0.4387391209353883,0.23784493912077487,0.66249277883424973,2.0582471391278931E-2,1.2791104034448523E-2,0.78832491997227283,0.7658149033283641,1.1451218347396164,0.95966524613494386,0.57724476061054952,1.0788576552091884,0.2572755982481626,1.0325651231055357,-0.19883424015444257,-2.1564656127592703,0.20618469386561306,1.6269543129622721,-0.84814000273813062,-1.0708457874549289,3.2855680358210113E-2,0.75640667534263761,5.2537907377756182E-2,0.77588647221250684,0.17157562040973695,null,590,5.253787279,77.588656054073795,5.2537872790000002E-2,0.7758865605407379,null,8.9981892802210046E-15]
[580,108.34710729775323,275.04698555553688,1.3352807270519074,12.059033042239937,30.612729492331262,0.66745716159488933,0.01,null,0.45775478708893419,0.22239076998947618,0.66267602996110608,2.0612894900522122E-2,1.3212129458386894E-2,0.80060245178856482,0.82700824957905505,1.1262155488067807,0.95960683035945527,0.5771460062378494,1.0876894870049616,0.23820548519648133,1.0279795003684127,-0.19869820731389465,-2.1563305385189224,0.22255021359853516,1.9858053410569607,-0.85662186960986841,-1.0646416503191884,3.3289409932788699E-2,0.76814634968058526,5.3147837304176729E-2,0.78782628923729181,0.15902587345853147,null,580,5.3147554394999998,78.782648947004617,5.3147554394999998E-2,0.78782648947004619,null,1.2013075820414912E-13]
[570,95.099584309453476,276.48684618818953,1.3355861265179871,10.584583733642175,30.772985980745503,0.67859214870423723,0.01,null,0.48305505452097636,0.2047526303566822,0.66286951032674402,2.0645063497430071E-2,1.3707881704423743E-2,0.81484886035440396,0.91540941957753075,1.1000397027208701,0.95954506765224357,0.57704171114647385,1.1003555104278064,0.21640468626626036,1.0231475886879657,-0.19855461132494706,-2.1561955796183523,0.24621072128673796,2.707340798549291,-0.8645396989017593,-1.0554051606644199,3.3796509440600281E-2,0.78177219280688981,5.3930202170277247E-2,0.80175259151213785,0.14431720631758493,null,570,5.3929748535000002,80.175265567788045,5.3929748535000002E-2,0.80175265567788045,null,2.0990220728556392E-13]
[560,84.533331218706465,278.78310761073976,1.3359092307892544,9.4085597646420318,31.028559877075342,0.69192869954785541,0.01,null,0.50396595450262005,0.18967568557129866,0.66307400142185724,2.067911512863823E-2,1.4150824470122796E-2,0.8272273722168666,0.99527210973608993,1.0774145370022883,0.95947969381928222,0.57693144923134387,1.1116364885672785,0.19815505175489015,1.0194436838472163,-0.1984028773113001,-2.1560401853312974,0.26754308150378836,3.7235229512261903,-0.87082027602464462,-1.0470513160067128,3.4254710378974346E-2,0.79360068446371368,5.4425312389845659E-2,0.81363955248537312,0.13193513512478117,null,560,5.4424941540000003,81.363931798006419,5.4424941540000001E-2,0.81363931798006417,null,1.9252234795041006E-13]
[550,85.193306763753029,279.91340415302363,1.3362514520866062,9.4820150428057133,31.154361882231537,0.69268164207459915,0.01,null,0.50242156621884981,0.1905632237866681,0.66329036117473783,2.0715201797846184E-2,1.4150378453155827E-2,0.82649350202831717,0.98910650855597715,1.0790045459709079,0.95941041779066427,0.57681475236413815,1.1105924522954582,0.19924306685512633,1.0196557260614174,-0.19824237451651808,-2.1558034203617527,0.26573032189147261,3.6292117345854131,-0.87057853235041882,-1.0476849417235803,3.4289375534847774E-2,0.79283861037180881,5.4432024146631078E-2,0.81284849980445628,0.13271947604891265,null,550,5.4431595799999997,81.284831724720291,5.4431595799999996E-2,0.81284831724720297,null,2.1680798709670766E-13]
[540,89.135813700175035,280.20298709314073,1.3366143476133756,9.9208160648294843,31.186592463466571,0.68951385586873493,0.01,null,0.49393456960819415,0.1960382090740439,0.6635195331193201,2.0753491334700516E-2,1.4022147886385807E-2,0.82198082695188068,0.95605127478719165,1.0881042430899266,0.95933691824543454,0.57669110530163137,1.1057017495718231,0.2059200236097618,1.0209814181087944,-0.19807240965131578,-2.1555329586434824,0.25669068546638968,3.170179031361259,-0.86866231435934327,-1.051144248672341,3.4203575703881807E-2,0.78844636085219599,5.4276752331733277E-2,0.80837953942662066,0.1373437082416461,null,540,5.4276285170000005,80.837957928951141,5.4276285170000008E-2,0.80837957928951143,null,2.1982913509174174E-13]
[530,96.352498044957215,279.54071372211814,1.3369996379067386,10.724033032403741,31.112881437271756,0.68075725884570171,0.01,null,0.48084215978093187,0.20656594587647059,0.66376255687127572,2.0794169430399873E-2,1.3756903073107172E-2,0.81337262111790409,0.90719650087194925,1.1018814096104279,0.95925883972867321,0.57655993985858789,1.0985176304760889,0.21853651836978139,1.0236006105220854,-0.19789221929997691,-2.1552263350610108,0.24341346661200478,2.6325977892746408,-0.8636050081043074,-1.0561333392580805,3.3988668670042563E-2,0.78012066915452949,5.4084156932940615E-2,0.80006057893464511,0.14585526413241423,null,530,5.4083755020000002,80.006072954277045,5.4083755019999999E-2,0.80006072954277041,null,1.8421681924234238E-13]
[520,126.25773476414243,302.78691871860673,1.3374092279682084,14.052485879249055,33.700184053380937,0.68037082031035612,0.01,null,0.43391642478156162,0.24824048063621221,0.66402058012916121,2.0837441987156344E-2,1.2683101320524144E-2,0.78017230438506469,0.75074962791839095,1.148741005505417,0.95917578817133842,0.5764206282213693,1.0756189578949447,0.26921268897531919,1.0356039165169868,-0.19770096123142095,-2.1547797575841581,0.2012957968348249,1.5546266833030751,-0.840009609909944,-1.0716354687096601,3.300069806800443E-2,0.74819519970756965,5.294720501247166E-2,0.76791870191741329,0.17913409307011507,null,520,5.2946662905000004,76.79187659562092,5.2946662905000004E-2,0.76791876595620923,null,2.9798147820954322E-13,null,"n_lambda = A + B/lambda^2 + C/lambda^4"]
[510,198.74425524677574,286.58253941282845,1.3378452316656964,22.120235608966144,31.896636636647813,0.6066636410270434,0.01,null,0.36191031425745529,0.34666342527108612,0.66429487245874363,2.0883537838246743E-2,1.0439893015214113E-2,0.70704326110834892,0.55545423763212876,1.2131231228068418,0.95908732570520572,0.57627247525451997,1.04641855519055,0.3911669193256575,1.073783757920898,-0.19749770443152243,-2.1541375034723655,0.14882116173997759,0.84710842301879019,-0.76994895256356588,-1.0872951909740944,3.0894122647183324E-2,0.67796830088177451,5.060031805999541E-2,0.69724578664246628,0.25215389529753829,null,510,5.0599832535000004,69.724597971654475,5.0599832535000007E-2,0.69724597971654478,null,2.7301212095056062E-13,null,{"$f":"1.32711+0.0026/(A28/1000)^2+0.00005/(A28/1000)^4","v":1.3378452316656964}]
[500,303.77707126478759,286.41563925755099,1.3383099999999999,33.810388031770863,31.878060649365434,0.53739371631232091,0.01,null,0.30370237049758891,0.48557379199944251,0.6645868411685113,2.0932711907206136E-2,7.9261348987891417E-3,0.61534401597454835,0.42710815893888748,1.2593608378146572,0.95899296464288664,0.57611470962349443,1.0267480049267095,0.57228762838104741,1.1521775599264221,-0.19728141763829965,-2.1534360101595049,0.11434306963562989,0.55520789178484342,-0.6676764208557272,-1.092131842066379,2.8531749668713031E-2,0.58994989025763889,4.7814614793758238E-2,0.60841637131843573,0.34376901388780601,null,500,4.7814624309999996,60.841631982101248,4.7814624309999998E-2,0.60841631982101252,null,2.7425434549803214E-15,null,"A = 1.32711"]
[490,387.69905871625593,271.71240080923678,1.3388061539522351,43.150905235119296,30.241590210068061,0.4566795545545238,0.01,null,0.27577011633532011,0.59581779499033027,0.66489804964512667,2.0985248889339989E-2,6.3737256121182079E-3,0.55111168515373266,0.37283621415738094,1.2797642371728499,0.9588921604652596,0.57594647352109496,1.0182329208991114,0.72623764219216591,1.2358887947290551,-0.19705095611908557,-2.1528610710090526,9.9729229067056932E-2,0.45620520353351485,-0.59243084702162385,-1.0914015700560267,2.7095090147415922E-2,0.52829461396299304,4.6079183763379855E-2,0.5460815225457033,0.40783929369091687,null,490,4.6079120635000006,54.608118152148364,4.6079120635000005E-2,0.54608118152148366,null,1.2028271072430535E-13,null,"B = 2.6 X 10^-3 "]
[480,412.77839130036892,296.73883707196723,1.3393366227816359,45.942234951731074,33.027032566109959,0.48628048189157863,0.01,null,0.26970174917500006,0.62908866206144221,0.66523023859179553,2.1041467556900211E-2,5.979385551615638E-3,0.53307739335667659,0.36157837020584765,1.2837706541540317,0.95878430362432354,0.57576681074151104,1.0163256833961616,0.77468730351024107,1.2649665680246134,-0.19680504637703711,-2.1524396994299018,9.6630421532573396E-2,0.43715337596084236,-0.5710775654597825,-1.0907489132743529,2.6772591409175799E-2,0.51094423294879276,4.5701918912522357E-2,0.52854837201847438,0.42574970906900322,null,480,4.5701401229999998,52.854866573218004,4.5701401230000001E-2,0.52854866573218007,null,3.542629348637271E-13,null,"C = 5.0 X 10^-5"]
[470,422.123892681732,300.45988111967694,1.3399046888331432,46.982389255476782,33.441184768620047,0.48723549877213362,0.01,null,0.2673864768431945,0.64129841683827171,0.66558535070354441,2.1101725811961649E-2,5.8518508481080781E-3,0.52660822296620124,0.3573186648841048,1.2850282909184441,0.95866870992665898,0.57557465279201492,1.0154892055372429,0.79271566990792508,1.2760870398674107,-0.19654226841105574,-2.1520338087761028,9.5399576281115103E-2,0.43010170698438643,-0.56342046293512271,-1.0904770729118636,2.6709906606060818E-2,0.50468034792933203,4.5584836294792361E-2,0.52218454597809449,0.43223061772711313,null,470,4.5584719180000004,52.218419030810395,4.5584719180000004E-2,0.52218419030810392,null,1.4021701678122565E-13]
[460,419.59371280410295,296.95285835352564,1.3405140401513718,46.700780235096666,33.050853134747413,0.48153028628164912,0.01,null,0.26843305963149094,0.63836646598016411,0.665965559425436,2.1166426639508261E-2,5.9043144438531573E-3,0.52815447806171334,0.35920722691325557,1.2838542515228473,0.95854460920897389,0.57536880266574064,1.0155900655365364,0.78805777235040775,1.2731987482564877,-0.19626103507556175,-2.1516276075518719,9.5804225669543511E-2,0.43331625924157646,-0.56522026407840231,-1.090321148546578,2.6824146906806415E-2,0.50609606300777699,4.5731962082008394E-2,0.52364330856348396,0.43062472935450768,null,460,4.5731790070000002,52.364334467499759,4.573179007E-2,0.52364334467499762,null,3.0892172451131157E-14]
[450,458.22727654277566,283.32766487760097,1.3411688324950464,51.000695879210944,31.534369100876994,0.42982939116244046,0.01,null,0.26065231595581739,0.68980666308766303,0.66637330257818927,2.1236025149157834E-2,5.3445946951363836E-3,0.50167305160940157,0.34509617177255869,1.288908294091704,0.95841113194952909,0.57514791581615532,1.0132078288583108,0.86567957510288718,1.32264928335153,-0.19595956799098363,-2.1510991019367536,9.1938008217080008E-2,0.41016358393522617,-0.53383498348034253,-1.0892073232693085,2.6356615371322223E-2,0.48064675982486643,4.5201569632819627E-2,0.49791960500356297,0.4568788253636174,null,450,4.5200314524999996,49.791999304400605,4.5200314524999993E-2,0.49791999304400603,null,1.7258710243526748E-12]
[440,532.85264489695703,428.00686728762645,1.3418737627211257,59.306499377031329,47.637164329112835,0.58843772616861434,0.01,null,0.24844916052090471,0.78912159047200392,0.66681132180740998,2.1311036939514316E-2,4.3972613370648972E-3,0.45424363202011325,0.32356725147090698,1.2969013503567246,0.95826729337347505,0.57491047777043902,1.0096637131477504,1.0246031939386493,1.4317163493615912,-0.19563586933775165,-2.1504797574361603,8.6098960277420825E-2,0.37609077127448637,-0.47773062810356443,-1.0871365705422169,2.5523269669679875E-2,0.43512990190879852,4.4243951294501462E-2,0.45183822545606495,0.50391782324943368,null,440,4.4243993755000002,45.183822165853492,4.4243993755000002E-2,0.45183822165853493,null,1.8173151705292509E-15]
[430,522.94609631725461,1250.2214768227639,1.3426341559833403,58.203900520110452,139.14965037037365,0.86035047627186678,0.01,null,0.25029833641742433,0.77636082921269389,0.6672827090265393,2.1392048077254769E-2,4.5280781923147479E-3,0.4600772682205137,0.32675353814908198,1.2950760442240385,0.95811197450082997,0.57465477768928208,1.0099256032843311,1.003022997094861,1.416352757155207,-0.19528768872012547,-2.1499856407201778,8.6834276234119059E-2,0.38111189698258463,-0.48461510256923684,-1.0871716326108729,2.5728888762166634E-2,0.44064650173407149,4.4481325662931823E-2,0.45744456602990458,0.49807410830716359,null,430,4.4479932785000003,45.744485183346548,4.4479932785000002E-2,0.4574448518334655,null,2.0217926083917262E-12]
[420,495.28238974893196,615.71607848191888,1.3434560697960212,55.124929979056141,68.529199535037591,0.72229231477857292,0.01,null,0.25663576019577855,0.7415601535200872,0.66779096129115489,2.1479727057641076E-2,4.8743621541056329E-3,0.47637012493087577,0.33785535544974776,1.290097432032598,0.95794389944573222,0.57437887701712942,1.0113866120474515,0.94546656336694246,1.3761929452096813,-0.19491248410390458,-2.1494828532006531,8.9659011855524287E-2,0.39872418084829703,-0.50381001480813348,-1.0873121308079456,2.6147426909223823E-2,0.45617307273022856,4.5120941072361698E-2,0.47333383914596044,0.48154521978167791,null,420,4.5120339395000002,47.333330708636119,4.5120339395E-2,0.47333330708636118,null,6.4510306475178818E-13]
[410,460.44816933750172,626.92972330905934,1.3443464187912566,51.247881247263955,69.777278204298327,0.73607708716574494,0.01,null,0.26435319282784298,0.69663703760588547,0.66834004587821783,2.1574839209455715E-2,5.3561943259998607E-3,0.49825811271372444,0.35163573803702375,1.2840749806624647,0.95776160809490696,0.57408057215981956,1.0132290981629599,0.8739899789292358,1.3281033405833773,-0.19450737560433573,-2.1489547242001774,9.3174709434745928E-2,0.42116807659950606,-0.52962158231980461,-1.087697053508365,2.6703001245697789E-2,0.47704548833581895,4.5860016188178865E-2,0.49457769020095033,0.45956229361087086,null,410,4.5859997269999999,49.457740847139462,4.5859997270000001E-2,0.49457740847139464,null,7.9729440037709903E-14]
[400,406.35062606305314,430.69794356898285,1.3453131250000001,45.226824680817828,47.936681119227799,0.63435556443049224,0.01,null,0.27930668357328969,0.62754605391733354,0.66893447776760173,2.1678264132548981E-2,6.1793803400641591E-3,0.53390035747748987,0.37920208571077996,1.2727841782390212,0.95756342305871633,0.57375734986287252,1.0171403275880206,0.76862831792714403,1.2612650360330737,-0.19406909061493136,-2.1484262491611008,0.10031399161122725,0.46805523033999719,-0.5715121517677374,-1.0879978150296483,2.7593424360778877E-2,0.51107165874107408,4.7155302691525819E-2,0.52927635686929586,0.42356834043917835,null,400,4.7155287265000005,52.92761484859399,4.7155287265000005E-2,0.52927614848593985,null,4.3661600762813869E-14]
[null,null,null,null,null,null,null,null,null,null,null,null,null,null,null,null,null,null,null,null,null,null,null,null,null,null,null,null,null,null,null,null,null,null,null,4.7768831254999995,54.173580612894625]
[null,null,null,null,null,null,null,null,null,null,null,null,null,null,null,null,null,null,null,null,null,null,null,null,null,null,null,null,null,null,null,null,null,null,null,4.8249623775000003,54.870027471975732]
[null,null,null,null,null,null,null,null,null,null,null,null,null,null,null,null,null,null,null,null,null,null,null,null,null,null,null,null,null,null,null,null,null,null,null,4.9097070694999996,57.071187989310559]
[null,null,null,null,null,null,null,null,null,null,null,null,null,null,null,null,null,null,null,null,null,null,null,null,null,null,null,null,null,null,null,null,null,null,null,4.9938094619999998,59.010452120115595]
[null,null,null,null,null,null,null,null,null,null,null,null,null,null,null,null,null,null,null,null,null,null,null,null,null,null,null,null,null,null,null,null,null,null,null,5.0588262079999993,59.601741431613945]

{"sheet":"Dilution5_quartz","index":3,"n_rows":44,"n_cols":41,"rows_kept":44,"cut":false,"hidden":false,"merged":[]}
["X=",0.55650000000000011,"g/L",null,null,null,null,null,null,null,null,null,null,null,null,null,null,null,null,null,null,null,null,null,null,null,null,null,null,null,null,null,null,null,"dilution 5"]
[]
["l (nm)","Abs,l (m2/kg)","Ssca,l (m2/kg)","n","k (1/m)","ss (1/m)","g","d (m)","Ssca,tr,λ (m2/kg)","wtr","ttr","mc","R1","Ctr","Etr","c","k2","g","gbar","j","s","c","k1","k2","D1","D","A","B","R0dh","T0dh","Rdh","Tdh","Adh",null,"l (nm)","Rdh","Tdh","Rdh","Tdh",null,"error"]
[750,57.19161701266367,1.0014015977761894,1.4542410752352113,{"$f":"B4*B$1","v":31.82713486754734},{"$f":"C4*B$1","v":0.55727998916244947},9.8324125696329645E-3,0.01,{"$f":"(1-G4)*C4","v":0.99155540411896426},{"$f":"F4*(1-G4)/(F4*(1-G4)+E4)","v":1.704196184106584E-2},{"$f":"(F4*(1-G4)+E4)*H4","v":0.32378935449939539},{"$f":"SQRT(1-1/D4^2)","v":0.72604811897187671},{"$f":"(D4-1)^2/(D4+1)^2","v":3.4256135330952987E-2},{"$f":"M4*EXP(-2*K4)","v":1.7926623844298741E-2},{"$f":"EXP(-K4)","v":0.72340260783619648},{"$f":"J4/(1-J4)*(1-M4)/(1-M4*N4)","v":1.675380084552034E-2},{"$f":"4/(1+L4)^2*(1-J4)/(1-J4*L4)","v":1.3362765367655041},{"$f":"(1-M4)/(1+M4)","v":0.93375695988500707},{"$f":"R4/(1+L4)","v":0.54097968047449385},{"$f":"2*S4/SQRT(Q4)","v":0.93597182858410288},{"$f":"SINH(SQRT(Q4)*K4)","v":0.38309297450075708},{"$f":"COSH(SQRT(Q4)*K4)","v":1.0708689121978645},{"$f":"(1-2*S4)-(1+2*S4)*M4","v":-0.15327924257120062},{"$f":"(1-2*S4)*N4-(1+2*S4)","v":-2.0834286155832391},{"$f":"R4*(1-L4^2)*P4/2","v":3.6986598292059682E-3},{"$f":"Y4*Q4/(Q4-1)","v":1.4697523635708046E-2},{"$f":"(W4*(T4*U4+V4)*O4+X4)/((1+T4^2)*U4+2*T4*V4)","v":-0.8232378190403622},{"$f":"(W4*O4+X4*(T4*U4+V4))/((1+T4^2)*U4+2*T4*V4)","v":-1.1342850774678466},{"$f":"M4+(1-M4)^2*N4/(1-M4*N4)","v":5.0985875736185307E-2},{"$f":"(1-M4)^2/(1-M4*N4)*O4","v":0.67510413241680167},{"$f":"AC4+Z4*(1+AB4/SQRT(Q4)+N4)","v":5.1525117994277794E-2},{"$f":"AD4+Z4*(AA4/SQRT(Q4)+(1+M4)*O4)","v":0.67563360039785691},{"$f":"1-AE4-AF4","v":0.27284128160786525},null,750,5.2243406770000007,67.566328062657476,{"$f":"AJ4/100","v":5.2243406770000007E-2},{"$f":"AK4/100","v":0.67566328062657477},null,{"$f":"(AJ4/100-AE4)^2+(AK4/100-AF4)^2","v":5.1681968130525998E-7}]
[740,59.447268194459866,1.001884068186101,1.4544398070155062,33.082404750216924,0.55754848394556533,-0.14879127020715721,0.01,{"$f":"(1-G5)*C5","v":1.150955671291825},{"$f":"F5*(1-G5)/(F5*(1-G5)+E5)","v":1.8993224518290063E-2},{"$f":"(F5*(1-G5)+E5)*H5","v":0.33722911581290826},{"$f":"SQRT(1-1/D5^2)","v":0.72613709583070363},{"$f":"(D5-1)^2/(D5+1)^2","v":3.4280564252619661E-2},1.7463628070219967E-2,0.71374529083507765,1.8708447131959911E-2,1.335404288114503,0.93371128601378861,0.54092533453401048,0.93618339705473363,0.39963987825474367,1.0768992674765203,-0.1532176846933665,-2.0832800787099233,4.1288475612884529E-3,1.6438909500266746E-2,-0.81047000664314073,-1.1323167621898396,5.0577144941092632E-2,0.66604760914178929,5.1195399413742217E-2,0.66665370721079908,0.28215089337545873,null,740,5.1460537909999999,66.666892811252069,{"$f":"AJ5/100","v":5.146053791E-2},0.66666892811252065,null,{"$f":"(AJ5/100-AE5)^2+(AK5/100-AF5)^2","v":7.053009804705605E-8}]
[730,62.745037144332564,1.0008161414346592,1.4546442795181032,34.917613170821078,0.55695418270838792,0.19897980784307379,0.01,0.80167393792574415,{"$f":"F6*(1-G6)/(F6*(1-G6)+E6)","v":1.2615506361737808E-2},0.35363744717276752,{"$f":"SQRT(1-1/D6^2)","v":0.72622859351336366},{"$f":"(D6-1)^2/(D6+1)^2","v":3.4305703804663863E-2},1.691222507577498E-2,0.70212948024356814,1.2345540122806998E-2,1.3376636155976653,0.93366428575522431,0.54086943598527315,0.93529578899598886,0.42050732183634443,1.0848163013699486,-0.15315438911102291,-2.0831212581707521,2.7236872599412185E-3,1.078996130939806E-2,-0.79573546885130575,-1.1309696320634179,5.0086616855258601E-2,0.65516182692331459,5.0507969292531894E-2,0.65557406516648931,0.29391796554097882,null,730,5.0942697525000007,65.621219922218884,5.0942697525000004E-2,0.65621219922218887,null,5.9620370914842665E-7]
[720,69.368521851614972,1.0024937185064278,1.454854862140748,38.603582410423741,0.5578877543488272,-0.32666468616557665,0.01,1.3299730144452919,1.8811899984079616E-2,0.39343712392962543,0.72632277299980241,3.4331599837576228E-2,1.5629997121369022E-2,0.67473374084932769,1.8524287598170149E-2,1.3351902880864241,0.93361587358837839,0.54081188534983493,0.93606205522916819,0.47044085097694471,1.1051310303615187,-0.15308924500771748,-2.0828995500007408,4.085454770174083E-3,1.6273918802045751E-2,-0.75977387218504511,-1.1256311522346132,4.8914639078293493E-2,0.62953745566524144,4.9589729125910476E-2,0.63019447720606292,0.32021579366802666,null,720,4.9853308199999997,63.022366849045312,4.9853308199999995E-2,0.63022366849045308,null,7.0326059382235535E-8]
[710,90.396195971580156,1.4852605184784884,1.4550719513996482,50.305483058184365,0.82654747853327892,-0.15483707208896155,0.01,1.7152339084490305,1.8621292826341337E-2,0.51260010728236249,0.72641980689346763,3.4358301587412848E-2,1.2325169241471517E-2,0.5989362539692018,1.8330451419245813E-2,1.3351145988402182,0.93356595768664741,0.54075257591403147,0.9359859296869677,0.62753821729307613,1.180594856063405,-0.15302213359032513,-2.0825097166183957,4.0412827142282002E-3,1.6100687849708657E-2,-0.66262627606658642,-1.1139837487382791,4.5855945768707239E-2,0.55872303256040989,4.6632493521076172E-2,0.55946441179637851,0.39390309468254536,null,710,4.7454321385,55.916736068326244,4.7454321384999998E-2,0.55916736068326245,null,7.6364040172509091E-7]
[700,146.24240962721078,1.4779228566368963,1.4552959733754816,81.383900957542807,0.82246406971843289,-2.6107556611431133,0.01,{"$f":"(1-G9)*C9","v":5.3364183213344747},3.5205565272915088E-2,0.8435361775336544,0.72651988045084837,3.438586198306548E-2,6.3634656086757535E-3,0.43018661436956035,3.5243188106310878E-2,1.3286308418883639,0.93351443934637146,0.54069139308294656,0.93816081025652398,1.1329222024010035,1.5111296161127743,-0.15295292738492181,-2.081900662726798,7.7671837002125099E-3,3.140216468854904E-2,-0.45338827607242632,-1.0924738134672964,4.0320523756284435E-2,0.40119837406975484,4.2160080181504529E-2,0.40281994872936788,0.5550199710891276,null,700,4.3125553129999998,40.257835625628744,4.3125553130000001E-2,0.40257835625628746,null,9.9050493732565357E-7]
[690,319.73122034343982,2.4529968180644994,1.4555273864222924,177.9304241211243,1.3650927292528943,-4.503739288396825,0.01,13.500654961893984,4.0514296387533753E-2,1.8544353860741831,0.72662319271936138,3.4414337986788474E-2,8.4332953266069157E-4,0.15654130312754769,{"$f":"J10/(1-J10)*(1-M10)/(1-M10*N10)","v":4.0773050551869201E-2},1.3264178452872031,0.93346121235371349,0.54062821366574487,0.93883338337078748,4.1726488601671177,4.2908039468442221,-0.15288148945885149,-2.0813249532763769,8.9825309859751633E-3,3.6501035613293452E-2,-0.14319130937179045,-1.0754856786239395,3.5200643879484295E-2,0.1459564077059281,3.7646964169648391E-2,0.1473287886583044,0.81502424717204724,null,690,3.8509188889999999,14.734239442183799,3.8509188889999997E-2,0.147342394421838,null,7.4361658518673814E-7]
[680,486.73249957097619,2.1618915179581419,1.4557666841722918,270.86663601124832,1.2030926297437061,-6.8996106656020606,0.01,17.078101293136768,3.3897860155870443E-2,2.8037059938087898,0.72672995779687921,3.4443790972190934E-2,1.2642788158557676E-4,6.0585117988788142E-2,3.3878852479608257E-2,1.3288220867286595,0.93340616228201256,0.54056290508386029,0.93787037231660664,12.644878512079778,12.684358579969935,-0.15280767255996908,-2.081136066732042,7.4608070342583538E-3,3.01503018564688E-2,-4.8535805533235755E-2,-1.0741794964406906,3.4561660046847652E-2,5.6483678329079384E-2,3.6620381223084891E-2,5.7103790719546778E-2,0.90627582805736839,null,680,3.7573844195000001,5.7125162416585358,3.7573844195000004E-2,5.7125162416585357E-2,null,9.0954838824750844E-7]
[670,464.96521058987724,3.4000303242204382,1.4560143988743226,258.75313969326675,1.8921168754286741,-3.4997581302492047,0.01,15.299314094504757,3.185601540017783E-2,2.6726720798685863,0.72684040622804824,3.4474287144512838E-2,1.6445300824787434E-4,6.9067424843001421E-2,3.1770043347409654E-2,1.329442450974788,0.93334916571068538,0.54049532449232396,0.9375343010764966,10.874003035806785,10.919887454673477,-0.15273131816279079,-2.0810039681405135,6.9935972061470177E-3,2.8222182609921327E-2,-5.631580760244758E-2,-1.0743806719447293,3.4627597670014609E-2,6.438777441987914E-2,3.6556948783015436E-2,6.5025771803056617E-2,0.89841727941392802,null,670,3.7423329350000003,6.5152155284739059,3.7423329350000006E-2,6.5152155284739055E-2,null,7.6658807129068067E-7]
[660,345.62518396430994,1.9791828137877596,1.4562711051093167,192.34041487613851,1.1014152358728884,-3.3786697673410737,0.01,8.6661879507735016,2.4460623762665643E-2,1.9716314847074399,0.72695478655472501,3.4505898008720053E-2,6.6889197568510738E-4,0.13922951998500568,2.4209307845028571E-2,1.3320939894260198,0.93329008935543212,0.54042531780310588,0.93647944185055942,4.8154403680416236,4.9181770950388559,-0.15265225540982,-2.080904715947598,5.3270229328369985E-3,2.1367731594996314E-2,-0.12500094065005801,-1.0761301924665352,3.5129439360515109E-2,0.12978981099647227,3.6588414720099105E-2,0.1305532677156736,0.83285831756422724,null,660,3.7543491124999999,13.051938702795713,3.7543491125000002E-2,0.13051938702795712,null,9.1331884019856321E-7]
[650,305.56661552056113,2.1191912762357905,1.4565374239325373,170.04782153719231,1.1793299452252177,-2.4004862327401866,0.01,7.2062807593829117,2.3039978352002107E-2,1.7405811677978889,0.72707336704036918,3.4538700891786185E-2,1.0628118925956722E-3,0.17541842344807934,2.2769635923408731E-2,1.3324534002714017,0.9332287890979557,0.54035271859770517,0.93622734512876693,3.6615761112434866,3.7956738029536963,-0.15257029993461585,-2.080791211893859,5.0080761412617672E-3,2.0072070485050622E-2,-0.16269019250361721,-1.0772347824297397,3.5529400718545642E-2,0.16351623738044063,3.6891132819011789E-2,0.16432989476277554,0.79877897241821261,null,650,3.7843511105000003,16.427951438587577,3.7843511105000005E-2,0.16427951438587576,null,9.0956258199841578E-7]
[640,227.80441850898319,1.7534066933779084,1.4568140274999761,126.77315890024917,0.97577082486480626,-1.0068906080582309,0.01,3.5188954250465625,1.5212022364724135E-2,1.2873142420428758,0.72719643759117125,3.4572779526506718E-2,2.6338276528621368E-3,0.27601108748000003,1.4914314778956701E-2,1.3352120824095772,0.93316510890160931,0.54027734691431217,0.93512921951888106,2.1000616423226508,2.325996324492992,-0.15248525255120005,-2.0807668610087977,3.2788652746330964E-3,1.3060330343147039E-2,-0.27288458996919351,-1.0822406287695594,3.7027861404368735E-2,0.25727948380554355,3.789043840831581E-2,0.257924597428628,0.7041849641630562,null,640,3.8830434084999998,25.775448755551231,3.8830434084999997E-2,0.25775448755551233,null,9.1252924111638998E-7]
[630,211.09901575710316,2.7246244501261403,1.4571016442451685,117.47660226882793,1.5162535064951974,-0.52306137387490281,0.01,4.1497702583022704,1.9278948490818761E-2,1.1978594941757315,0.7273243119001207,3.4608224705340043E-2,3.1530567329059976E-3,0.3018396103701933,1.8979677704291861E-2,1.3334923053014733,0.93309887959725701,0.54019900789262543,0.93559635443303768,1.868542499931747,2.1193043844741091,-0.15239689779209037,-2.080651515290235,4.1706794210609457E-3,1.6676753338690613E-2,-0.30235889439535057,-1.0834229470177308,3.7547135253479684E-2,0.28133956661977005,3.8630076773029119E-2,0.28218092330965222,0.67918899991731863,null,630,3.9328131675,28.213328906586128,3.9328131675000003E-2,0.28213328906586127,null,4.8954966734711537E-7]
[620,207.28586220875363,1.0729245231327567,1.4574010646831352,115.35458231917141,0.59708249712337924,-2.7972757635736838,0.01,4.0741902878358687,1.9276065839837975E-2,1.1762186921435207,0.72745732984422784,3.4645135014120969E-2,3.2960340010892877E-3,0.30844285366117313,1.8976154690232578E-2,1.3332915006869686,0.93302991752114484,0.54011749025678113,0.93552561111346699,1.8159467472413637,2.0730804588381244,-0.15230500227455193,-2.0804994377374117,4.1678839785411672E-3,1.6673105293667636E-2,-0.30994769784033871,-1.0837972776977074,3.7717092902287704E-2,0.28747381156867824,3.8795598297586775E-2,0.28831917313541605,0.67288522856699728,null,620,3.9574213025000002,28.833205430461199,3.9574213024999999E-2,0.28833205430461201,null,{"$f":"(AJ17/100-AE17)^2+(AK17/100-AF17)^2","v":6.0640681826462356E-7}]
[610,190.08975123912035,1.0651466133318757,1.4577131479305052,105.78494656457049,0.59275409031918891,-2.5252531301666004,0.01,3.7549114327345481,1.9370723861976826E-2,1.0787455477688728,0.72759586016983413,3.4683617657092242E-2,4.0099403516430949E-3,0.34002179932384857,1.9070895112144003E-2,1.3330457444886117,0.93295802298362707,0.54003256461375815,0.93546473105138306,1.5934255528263366,1.8812243333531269,-0.15220931287149364,-2.080386185619965,4.186576620088072E-3,1.6757151952063915E-2,-0.34650884959125067,-1.0858977679982875,3.8420743060434699E-2,0.31688853013055085,3.9484712468701298E-2,0.31775482714243175,0.64276046038886692,null,610,4.0063869949999997,31.775572320663343,4.0063869949999997E-2,0.31775572320663342,null,3.354241910753065E-7]
[600,176.26257010575415,1.0217750191590105,1.4580388290454578,98.090120263852199,0.56861779816198943,-1.0190801244633492,0.01,2.0630456328571158,1.156898084614561E-2,0.99238205158537185,0.72774030350648011,3.4723789386591819E-2,4.7715009595947558E-3,0.37069262953416998,1.1299840176271371E-2,1.3357381372246651,0.93288297854410629,0.53994398154097778,0.93436817428025309,1.4154630279663583,1.7330711420884291,-0.15210955465972087,-2.0802691485744615,2.4793126401676546E-3,9.8639745694395712E-3,-0.38244664194000072,-1.0888051043784814,3.9170411091102079E-2,0.34545311970944559,3.9788762059852351E-2,0.34597249994872159,0.61423873799142603,null,600,4.0604431625000004,34.602157485727645,4.0604431625000006E-2,0.34602157485727647,null,6.6772518615783587E-7]
[590,167.88364970948288,1.1180725654877421,1.4583791273084579,93.427251063327247,0.62220738269392861,-0.29441050781634892,0.01,1.4472448772685165,8.5468448082110949E-3,0.94232642837527181,0.72789109575636135,3.4765777552986619E-2,5.2802880044158767E-3,0.38972012395035843,8.322351655029956E-3,1.336625423217173,0.93280454706339311,0.53985146943249351,0.93389795588021585,1.318114150205127,1.6545165194010556,-0.15200542861385968,-2.0801237933369925,1.8250124920290718E-3,7.2465058379183678E-3,-0.40501056744617092,-1.0905737261049144,3.9686204249247937E-2,0.36315998300697688,4.0135339457140824E-2,0.36354369867016179,0.59632096187269734,null,590,4.112970829,36.35400117877758,4.1129708289999997E-2,0.36354001178777579,null,9.8878296886344189E-7]
[580,155.05849637384236,1.4677240337288828,1.4587351555853749,86.290053232043292,0.81678842477012348,-0.21113640186461724,0.01,1.7776140051406215,1.1334213790721711E-2,0.87279295425904058,0.72804871191414799,3.4809721293127503E-2,6.0757824953802412E-3,0.41778306924900022,1.1067427749563907E-2,1.335353166322522,0.93272246949974857,0.53975473206804347,0.93417530804896387,1.1884804579607813,1.5532178852159373,-0.15189660900908505,-2.0799925463465017,2.4255835564094747E-3,9.6585063375133149E-3,-0.43860953384278628,-1.092801242254003,4.0471070679419643E-2,0.38928581207350332,4.1054426747695077E-2,0.38979545636011259,0.5691501168921923,null,580,4.1971852780000001,39.01487081475954,4.1971852779999999E-2,0.39014870814759539,null,9.6645735011054443E-7]
[570,139.79044531131029,1.3726789216910957,1.459108130939226,77.793382815744195,0.7638958199210949,-0.11340515321453398,0.01,1.5283477851198357,1.0814894124357217E-2,0.78643908358163384,0.7282136703811587,3.4855772878814466E-2,7.2307343845963703E-3,0.45546377948824346,1.055471208976172E-2,1.3352928905897568,0.93263646240895803,0.53965344586312891,0.93402108828077879,1.0391226447454458,1.4421428052806593,-0.15178274048962193,-2.0798803387951987,2.3118190120302987E-3,9.2067430528113923E-3,-0.48423546365901132,-1.09648130515185,4.1592924375162987E-2,0.42437300560350505,4.2130110997280326E-2,0.42485439792820057,0.53301549107451907,null,570,4.3071165085000001,42.510852775001815,4.3071165085000002E-2,0.42510852775001817,null,9.5016476235095867E-7]
[560,127.38064458765881,1.0181601734690071,1.4594993866863299,70.887328713032133,0.56660613653550251,-0.8914053031804795,0.01,1.925753551586437,1.4892948680796636E-2,0.71959010564489989,0.72838653784885332,3.4904099250620983E-2,8.2765322315744849E-3,0.4869518138580558,1.4594634238935932E-2,1.3335170045886906,0.93254621510167912,0.53954725675098369,0.93445890152867739,0.92995660088488741,1.3655838603064163,-0.15166343475266161,-2.0797491417923073,3.1946681348564848E-3,1.2773394529321153E-2,-0.52275043136483579,-1.0994530457769529,4.2615172557239379E-2,0.4536828986330122,4.3332881990102164E-2,0.45433771971921971,0.50232939829067802,null,560,4.4148523804999993,45.438318893999487,4.4148523804999992E-2,0.45438318893999485,null,6.6733902024772234E-7]
[550,127.66717719610477,1.0370970836603162,1.4599103861282037,71.046784109632327,0.57714452705696606,-1.7353691653551198,0.01,2.836843384124148,2.1737593765397932E-2,0.72625487452897419,0.7285679348397317,3.4954883767077803E-2,8.1788245781307979E-3,0.48371718356595583,2.1450029779163837E-2,1.3306859012855736,0.93245138640276304,0.53943577663854869,0.93525914706397684,0.93927184276191744,1.3719444575511679,-0.15153826678858281,-2.0795166298755556,4.6921480443965057E-3,1.8881286517356266E-2,-0.51870084583151621,-1.0984378464918152,4.257410012387846E-2,0.45062048242799907,4.3630657696333681E-2,0.45158287517426221,0.50478646712940412,null,550,4.432980776,45.16178647791034,4.4329807759999999E-2,0.45161786477910337,null,4.9003508397155692E-7]
[540,132.89070258293251,1.8482769891434887,1.4603427382334708,73.953675987401951,1.0285661444583516,-0.82039286488765006,0.01,3.3645902433728354,2.46932810724786E-2,0.75826070457838934,0.7287585420094661,3.5008328204847637E-2,7.6834185570528448E-3,0.4684805448757513,2.4438693393964695E-2,1.3292878177926875,0.93235160094688851,0.53931857936802796,0.93554754870249068,0.98992954762009844,1.4071106954505508,-0.15140677060787974,-2.0792413609407623,5.3421750808667814E-3,2.1565596635532674E-2,-0.50003101074097578,-1.0964739660994895,4.2165121212464352E-2,0.43637064190569075,4.3387141217954651E-2,0.43747443940695935,0.51913841937508609,null,540,4.4239726064999996,43.715618750506444,4.4239726064999998E-2,0.43715618750506446,null,8.2818519447104841E-7]
[530,141.33386661840098,2.8659286354588591,1.4607982155961081,78.652296773140151,1.5948892856328554,-0.68172004832376942,0.01,4.8196896433163472,3.29768892840741E-2,0.813344540596457,0.72895910733304758,3.5064655052360658E-2,6.892987313215187E-3,0.44337270566972981,3.2913648682426959E-2,1.3258513975700508,0.9322464449322988,0.53919519610287769,0.93654485969265067,1.0795649168082195,1.4715503421912339,-0.1512684343725908,-2.078930736184708,7.1894606335956715E-3,2.9253078243368535E-2,-0.46947987513337164,-1.0931314721700411,4.1484268677705723E-2,0.41292422763736036,4.3167666555898938E-2,0.41442176111927287,0.54241057232482814,null,530,4.3974711895,41.425067778814544,4.3974711894999997E-2,0.41425067778814545,null,6.8059168555439768E-7]
[520,175.39902533134301,3.9809273503621512,1.4612787750597405,97.609557596892401,2.2153860704765376,-0.8764501386564052,0.01,7.4700116785681345,4.0848969299068782E-2,1.0176661909601559,0.72917045432063676,3.5124110147727122E-2,4.5885102702822875E-3,0.36143748268842518,4.1099407333777108E-2,1.3225246561329322,0.93213546123910807,0.53906511004164082,0.93749580010518441,1.4563905184893253,1.7666559773610724,-0.15112269483480723,-2.0784887214005532,8.9705369880140173E-3,3.6784029127097821E-2,-0.37189789456537642,-1.0852400472570001,3.9396635188618773E-2,0.3365472897608085,4.1637161783138095E-2,0.33841393922550117,0.61994889899136063,null,520,4.252552509,33.83063138905014,4.2525525090000002E-2,0.33830631389050142,null,8.0077257771243133E-7]
[510,257.92807852246898,2.8002421723044448,1.4617865814751956,143.536975697754,1.5583347688874238,-2.7765115616087468,0.01,10.575146939012129,3.9385548984882557E-2,1.4942204496931424,0.72939349143659671,3.5186965721968208E-2,1.7722232337335591E-3,0.22442348595466513,3.9560159395033906E-2,1.3227580166515356,0.93201814379989256,0.53892775034423812,0.93717423698215008,2.6984723153080772,2.8778034742636844,-0.15096893096640474,-2.0779934780156699,8.6274899521292126E-3,3.5358010983443669E-2,-0.21612153734342984,-1.07708656817604,3.6836767749174451E-2,0.20892081484603972,3.9144463423921153E-2,0.21049095187692632,0.75036458469915246,null,510,4.0104730130000004,21.038622383317147,4.0104730130000002E-2,0.21038622383317146,null,9.3308010995224319E-7]
[500,372.87663458377466,1.8535982168588971,1.4623240351537206,207.50584714587063,1.0315274076819765,-6.5587081901811466,0.01,14.010808023076516,3.62141710484878E-2,2.1530286181071272,0.72962922292905152,3.5253523921195323E-2,4.7545086172524204E-4,0.11613190543223385,3.625087489554054E-2,1.3236225481022508,0.9318939310872052,0.53878248513232418,0.93661559869922406,5.9109505915058849,5.9949426098357081,-0.15080645664171061,-2.0776018485966006,7.8989205176138583E-3,3.2306739329788031E-2,-0.10210199117086344,-1.0738405743455677,3.5696050459130969E-2,0.10808992935319263,3.7863738452258627E-2,0.10910692226686874,0.85302933928087255,null,500,3.8832392694999998,10.893983515499706,3.8832392694999995E-2,0.10893983515499706,null,9.6620914493447543E-7]
[490,462.75102776758223,2.130709912679285,1.4628938036957428,257.52094695265959,1.1857400664060223,-6.5109848516415649,0.01,16.003729877376632,3.3427824208161455E-2,2.6642702262941969,0.72987876131873552,3.5324120896940307E-2,1.7136244392128877E-4,6.9650163849179769E-2,3.3362444845676298E-2,1.32431220185973,0.93176219855413456,0.53862861339706025,0.93610426936561442,10.704749504341716,10.751356284241734,-0.15063451220743898,-2.0772704657813148,7.2628547633759311E-3,2.965749400830088E-2,-5.707477998043467E-2,-1.0732528465010811,3.5483591675748598E-2,6.4816803606368503E-2,3.7486859888006874E-2,6.5484518953433962E-2,0.89702862115855908,null,490,3.8422555924999999,6.5476227255470549,3.8422555924999997E-2,6.5476227255470545E-2,null,8.7559582589975347E-7]
[480,487.06465603541898,2.2503657239494581,1.4634988590207467,271.05148108371071,1.2523285253778738,-6.2704492245441186,0.01,16.361169732629001,3.2499663098665435E-2,2.8015647203991878,0.73014334184682317,3.539913157319767E-2,1.3049215711120153E-4,6.0714986283096746E-2,3.2402415653189624E-2,1.3242706059861094,0.93162224982860131,0.53846535561276154,0.93583523424946014,12.543757961731323,12.583555292622908,-0.15045225474061039,-2.0769407500799786,7.0469707512030638E-3,2.877873003223063E-2,-4.8832549293275782E-2,-1.0731434929999784,3.5520549192625123E-2,5.6492813524279026E-2,3.7465596752300087E-2,5.7080750163617459E-2,0.90545365308408243,null,480,3.8423193695000002,5.6838294274209691,3.8423193695000003E-2,5.6838294274209694E-2,null,9.7577676297673701E-7]
[470,494.93790048289731,1.6968847634142623,1.4641425206054803,275.4329416187324,0.94431637084003717,-9.6904707994731751,0.01,18.140497013351119,3.5356189428115151E-2,2.8552812820666231,0.73042433924430394,3.5478975222938344E-2,1.1746412744625124E-4,5.7539633977262306E-2,3.5351836403976482E-2,1.3227713278522695,0.93147330641783488,0.53829184281158449,0.93606370881023659,13.321206866288239,13.358688272972199,-0.15025874675375139,-2.0765926814589775,7.6804327393102806E-3,3.1475708454833468E-2,-4.5995568954055426E-2,-1.0728092029205214,3.5588252650937416E-2,5.352939102127293E-2,3.770768765861339E-2,5.4145969824291582E-2,0.90814634251709503,null,470,3.842001915,5.3994487832892677,3.8420019149999998E-2,5.3994487832892679E-2,null,5.3036294733924717E-7]
[460,493.56601621864667,1.6581370924863936,1.4648285061653876,274.66948802567691,0.92275329196867828,-9.5019466820892582,0.01,17.413667336886611,3.4078981801620098E-2,2.8436019389865432,0.730723287263493,3.556412201726579E-2,1.2052879923580745E-4,5.8215598832062503E-2,3.4026729929642618E-2,1.322812236341756,0.93131449562391688,0.53810710382042104,0.93572798734713036,13.143627680931221,13.181614036791604,-0.15005294305536179,-2.0762233936477736,7.3843626207889456E-3,3.0259463962893092E-2,-4.660923759209977E-2,-1.0728103476501625,3.5676230740852348E-2,5.4148689103930239E-2,3.7714268286728296E-2,5.4746646288844646E-2,0.90753908542442707,null,460,3.8423362970000001,5.4641114264572908,3.842336297E-2,5.464111426457291E-2,null,5.139522779910877E-7]
[450,537.78186802235621,1.6936418498102184,1.4655609913012229,299.2756095544413,0.94251168941938668,-9.3259180392232519,0.01,17.488406928938772,3.1495305471687191E-2,3.0900790801039575,0.73104190150961312,3.5655100748835045E-2,7.3809639079320088E-5,4.5498356247610172E-2,3.1360113466007492E-2,1.323313788729473,0.93114483630109202,0.5379100502934423,0.93520804787255951,17.474089492835745,17.502679897765155,-0.14983367540976689,-2.0758256968411439,6.7976230064162721E-3,2.7822470208661829E-2,-3.5217486329096825E-2,-1.0727972339165124,3.5723741021495357E-2,4.2311812080206408E-2,3.760157783589934E-2,4.2771053148214645E-2,0.91962736901588604,null,450,3.85390079,4.3062447422221606,3.8539007899999998E-2,4.3062447422221609E-2,null,9.6368574800380969E-7]
[440,616.2645905580589,1.7287447666973612,1.4663446799969326,342.95124464555983,0.96204646266708171,-10.621416012119546,0.01,20.090462112564584,3.1571152029436909E-2,3.54131586811202,0.73138210623247302,3.5752507980068328E-2,3.0016401913998141E-5,2.8975174477668959E-2,3.1434871955761459E-2,1.3227798186571973,0.93096322199635684,0.53769945908829686,0.93503058096132197,29.356292408227286,29.373319593763025,-0.14959963456052755,-2.0754011813808257,6.80521873006681E-3,2.788837925223742E-2,-2.1115670157560957E-2,-1.0725920139241438,3.5780416456855126E-2,2.6940370355525836E-2,3.7661207737748989E-2,2.726531458132837E-2,0.93507347768092264,null,440,3.8555300235000001,2.7680813432976459,3.8555300234999999E-2,2.7680813432976459E-2,null,9.7204068936142861E-7]
[430,600.81189266395143,1.9652761355487798,1.4671848883197791,334.35181826748902,1.0936761694328963,-9.0309865055603922,0.01,19.713658395389686,3.1769293563714128E-2,3.453224691645234,0.73174606589231039,3.5857018929337278E-2,3.5903875043813306E-5,3.1643431368053941E-2,3.1635209080740231E-2,1.3221651160781756,0.93076840090073609,0.53747395142551824,0.93485567656484214,26.501534053832668,26.520394175171166,-0.14934934908095476,-2.0749505937711752,6.839315743527352E-3,2.8068540765729153E-2,-2.3349240500106446E-2,-1.0724667674255062,3.5890394198033145E-2,2.9414875778148459E-2,3.7780473865303685E-2,2.9764941340357429E-2,0.93245458479433885,null,430,3.8689323665000002,3.0077637188253332,3.8689323665000004E-2,3.0077637188253334E-2,null,9.2378665169937839E-7]
[420,571.57366207013149,1.684824140392426,1.4680876442712048,318.08074294202822,0.93760463412838524,-9.5789314803006782,0.01,17.823639137567966,3.0240449186052586E-2,3.2799959812208481,0.73213622250938482,3.5969400489042513E-2,5.0928969505093277E-5,3.7628408027134047E-2,3.0061855785130341E-2,1.3221579625516457,0.93055895189170124,0.53723196813214813,0.93443731063487157,21.711247702579282,21.734265039396991,-0.14908116038786229,-2.0744677286358351,6.4897163552549387E-3,2.663423274048804E-2,-2.842007906397697E-2,-1.0724771102219379,3.6016731668038864E-2,3.497021308279135E-2,3.7810321294559419E-2,3.5350165612627202E-2,0.92683951309281343,null,420,3.8730705974999999,3.5686533236975766,3.8730705975000002E-2,3.5686533236975765E-2,null,9.6025113869960849E-7]
[410,531.97725016717482,2.8272248856016824,1.4690598075106212,296.04533971803284,1.5733506488373366,-5.1956342452843138,0.01,17.516451320353809,3.1877437854037648E-2,3.0579324487780974,0.73255534005671386,3.6090526874434377E-2,7.9672206529884888E-5,4.6984738217647273E-2,3.1738804445690612E-2,1.3209246091828579,0.93033325575650538,0.53697174009232607,0.93442061275290333,16.785137315718696,16.814899188146573,-0.14879319309231426,-2.0739493714248769,6.8410089654913388E-3,2.8157569832886323E-2,-3.6604476075025073E-2,-1.0722739752788597,3.6164552245126713E-2,4.3654654677339963E-2,3.805425373181319E-2,4.4128588468839089E-2,0.9178171577993478,null,410,3.8989394905000001,4.4309524493146144,3.8989394905000002E-2,4.4309524493146145E-2,null,9.0722685868125165E-7]
[400,474.30650334923502,1.6106776780594498,1.4701092136836684,263.95156911384936,0.89634212784008405,-9.1529113203318921,0.01,16.353067630975676,3.3328744812429693E-2,2.7305205125048735,0.73300655747667554,3.6221398539358587E-2,1.5390943084826042E-4,6.5185351045801213E-2,3.3229197582910888E-2,1.3197146296839335,0.93008946043689944,0.53669125279661123,0.93436055758015835,11.493201379869229,11.536623334330889,-0.14848331965284844,-2.0733937998528926,7.1501537830596764E-3,2.9514328328742002E-2,-5.3126415612738578E-2,-1.072171106173841,3.6364361065118894E-2,6.0549001946914302E-2,3.8337330567286367E-2,6.1177682137423479E-2,0.90048498729529014,null,400,3.9299335480000002,6.1186711337345443,3.9299335480000003E-2,6.1186711337345441E-2,null,9.2553497853640162E-7]
[null,null,null,null,null,null,null,null,null,null,null,null,null,null,null,null,null,null,null,null,null,null,null,null,null,null,null,null,null,null,null,null,null,null,null,3.9601928000000002,6.7834916848477205]
[null,null,null,null,null,null,null,null,null,null,null,null,null,null,null,null,null,null,null,null,null,null,null,null,null,null,null,null,null,null,null,null,null,null,null,3.9944682125000002,7.2598921229490134]
[null,null,null,null,null,null,null,null,null,null,null,null,null,null,null,null,null,null,null,null,null,null,null,null,null,null,null,null,null,null,null,null,null,null,null,4.0218276980000001,8.7649253401581966]
[null,null,null,null,null,null,null,null,null,null,null,null,null,null,null,null,null,null,null,null,null,null,null,null,null,null,null,null,null,null,null,null,null,null,null,4.0543930530000001,10.237287002264662]
[null,null,null,null,null,null,null,null,null,null,null,null,null,null,null,null,null,null,null,null,null,null,null,null,null,null,null,null,null,null,null,null,null,null,null,4.1057348249999999,10.619392491401912]

{"sheet":"Dilution5_water","index":4,"n_rows":44,"n_cols":41,"rows_kept":44,"cut":false,"hidden":false,"merged":[]}
["X=",0.55650000000000011,"g/L",null,null,null,null,null,null,null,null,null,null,null,null,null,null,null,null,null,null,null,null,null,null,null,null,null,null,null,null,null,null,null,"dilution 5"]
[]
["l (nm)","Abs,l (m2/kg)","Ssca,l (m2/kg)","n","k (1/m)","ss (1/m)","g","d (m)","Ssca,tr,λ (m2/kg)","wtr","ttr","mc","R1","Ctr","Etr","c","k2","g","gbar","j","s","c","k1","k2","D1","D","A","B","R0dh","T0dh","Rdh","Tdh","Adh",null,"l (nm)","Rdh","Tdh","Rdh","Tdh",null,"error"]
[750,42.751003816635787,1067.7685654317042,{"$f":"1.32711+0.0026/(A4/1000)^2+0.00005/(A4/1000)^4","v":1.3318902469135803},{"$f":"B4*B$1","v":23.79093362395782},{"$f":"C4*B$1","v":594.21320666274357},0.97524810537256645,0.01,{"$f":"(1-G4)*C4","v":26.429295018051427},{"$f":"F4*(1-G4)/(F4*(1-G4)+E4)","v":0.38203499353488907},{"$f":"(F4*(1-G4)+E4)*H4","v":0.38498836301503447},{"$f":"SQRT(1-1/D4^2)","v":0.66051526570572971},{"$f":"(D4-1)^2/(D4+1)^2","v":2.0256889936719542E-2},{"$f":"M4*EXP(-2*K4)","v":9.3794230579132831E-3},{"$f":"EXP(-K4)","v":0.68045855464448424},{"$f":"J4/(1-J4)*(1-M4)/(1-M4*N4)","v":0.60580660363420302},{"$f":"4/(1+L4)^2*(1-J4)/(1-J4*L4)","v":1.1990407717648328},{"$f":"(1-M4)/(1+M4)","v":0.96029060889169604},{"$f":"R4/(1+L4)","v":0.5783088109602933},{"$f":"2*S4/SQRT(Q4)","v":1.0562648539021249},{"$f":"SINH(SQRT(Q4)*K4)","v":0.43416300502660143},{"$f":"COSH(SQRT(Q4)*K4)","v":1.0901823310500536},{"$f":"(1-2*S4)-(1+2*S4)*M4","v":-0.20030398772342176},{"$f":"(1-2*S4)*N4-(1+2*S4)","v":-2.1580866048549043},{"$f":"R4*(1-L4^2)*P4/2","v":0.16397204449541708},{"$f":"Y4*Q4/(Q4-1)","v":0.98778338245159458},{"$f":"(W4*(T4*U4+V4)*O4+X4)/((1+T4^2)*U4+2*T4*V4)","v":-0.73540562131534515},{"$f":"(W4*O4+X4*(T4*U4+V4))/((1+T4^2)*U4+2*T4*V4)","v":-1.0798009110586884},{"$f":"M4+(1-M4)^2*N4/(1-M4*N4)","v":2.9261876809855286E-2},{"$f":"(1-M4)^2/(1-M4*N4)*O4","v":0.65329395149915992},{"$f":"AC4+Z4*(1+AB4/SQRT(Q4)+N4)","v":5.2243995785010849E-2},{"$f":"AD4+Z4*(AA4/SQRT(Q4)+(1+M4)*O4)","v":0.67566096141430287},{"$f":"1-AE4-AF4","v":0.2720950428006863},null,750,5.2243406770000007,67.566328062657476,{"$f":"AJ4/100","v":5.2243406770000007E-2},{"$f":"AK4/100","v":0.67566328062657477},null,{"$f":"(AJ4/100-AE4)^2+(AK4/100-AF4)^2","v":5.7256842451062072E-12}]
[740,45.078453431869335,1707.1708777740816,{"$f":"1.32711+0.0026/(A5/1000)^2+0.00005/(A5/1000)^4","v":1.3320247325123082},25.08615933483529,950.04059348127657,0.98452361423897772,0.01,26.420835064414707,{"$f":"F5*(1-G5)/(F5*(1-G5)+E5)","v":0.36952584592205906},{"$f":"(F5*(1-G5)+E5)*H5","v":0.3978935404818208},{"$f":"SQRT(1-1/D5^2)","v":0.66060142328872185},{"$f":"(D5-1)^2/(D5+1)^2","v":2.0270971677790125E-2},9.1467883264222862E-3,0.67173353628417309,0.57433335620456849,1.2098665372607957,0.960263553035415,0.57826251354986224,1.0514443769156308,0.45176508480554428,1.0973111189855684,-0.20023988484650859,-2.1579567283903933,0.15541749772068317,0.89597146954111617,-0.72710697394947743,-1.0824766908681465,2.9052318144854768E-2,0.64489574975931641,5.1472027232752834E-2,0.66667451387296128,0.28185345889428592,null,740,5.1460537909999999,66.666892811252069,{"$f":"AJ5/100","v":5.146053791E-2},0.66666892811252065,null,{"$f":"(AJ5/100-AE5)^2+(AK5/100-AF5)^2","v":1.6320525701890963E-10}]
[730,47.600259015371883,654.37217394080119,1.3321650314014166,26.489544142054459,364.15811479805592,0.95913207934618583,0.01,26.742830082676548,{"$f":"F6*(1-G6)/(F6*(1-G6)+E6)","v":0.35972180342689808},0.41371929083063963,{"$f":"SQRT(1-1/D6^2)","v":0.66069126535245748},{"$f":"(D6-1)^2/(D6+1)^2","v":2.0285665600687893E-2},8.868236203759013E-3,0.66118652633898245,0.55052322727163649,1.2181620696019251,0.96023532176403803,0.57821423030140529,1.0477706651484431,0.47265785807288829,1.1060766025904583,-0.20017304724640536,-2.1578157051404268,0.14893860085979616,0.83163564866265538,-0.71607096721827324,-1.0840971263546813,2.8799286592445527E-2,0.63474758235700224,5.0947961944317735E-2,0.65621214674479367,0.29283989131088861,null,730,5.0942697525000007,65.621219922218884,5.0942697525000004E-2,0.65621219922218887,null,2.7716864629909098E-11]
[720,53.940061624100963,994.09829065860072,1.3323114865302546,30.017644293812193,553.21569875151135,0.97209574495117634,0.01,27.739572246137225,0.33961430691775857,0.45454716248787563,0.66078500633681536,2.0301008077317603E-2,8.1790517328894606E-3,0.63473533484795153,0.50391014309014914,1.2348089227619969,0.96020584530133246,0.5781638451922525,1.0405933501167208,0.52685492166713632,1.1302991234557711,-0.20010331624434446,-2.1576063026514434,0.13629373893414387,0.71673905306852892,-0.68724579667295815,-1.0866529073171478,2.8152648369679456E-2,0.60932656900035798,4.9860442490509631E-2,0.63022686063482714,0.31991269687466328,null,720,4.9853308199999997,63.022366849045312,4.9853308199999995E-2,0.63022366849045308,null,6.1087886780684881E-11]
[710,72.534002131504124,1396.0804346162024,1.3324644667115881,40.36517218618205,776.91876186391676,0.9777726751818695,0.01,31.031133292451131,0.29962914802768115,0.57633997863431108,0.66088287659146805,2.0317038245697982E-2,6.4159039444024691E-3,0.5619513612600846,0.41917769580059083,1.2663284928310352,0.96017504856994151,0.57811123355094862,1.0274677867349868,0.69499641439765891,1.2177930924527378,-0.20003052143223976,-2.1572247754447806,0.11334629107574826,0.53893459321681014,-0.60398664616136533,-1.0887066756574844,2.6475689021867706E-2,0.53941926456262945,4.7464756366079226E-2,0.55916619350758034,0.39336905012634038,null,710,4.7454321385,55.916736068326244,4.7454321384999998E-2,0.55916736068326245,null,1.1025112919675015E-10]
[700,123.70425127468668,1638.0600010993428,1.3326243690129114,68.841415834363147,911.58039061178442,0.9755068522965874,0.01,{"$f":"(1-G9)*C9","v":40.121245553978405},0.24490232796875766,0.91168888985152141,0.66098512381895591,2.0333798268192715E-2,3.2834892778818149E-3,0.40184497870340019,0.31775830070101807,1.3062423867732702,0.96014285069708516,0.57805626126832121,1.0115520142035199,1.2410312483066688,1.5937874887429657,-0.19995447961342663,-2.156625116330535,8.5898832212465026E-2,0.36639178786612225,-0.41594288484489839,-1.0853680774937868,2.3485323945533359E-2,0.38569480863697014,4.3134923795173946E-2,0.40257913086880653,0.5542859453360196,null,700,4.3125553129999998,40.257835625628744,4.3125553130000001E-2,0.40257835625628746,null,8.8409390356894706E-11]
[690,278.00377978532254,1723.3512532240252,1.3327916214110298,154.70910345053201,959.04497241917022,0.95905622480579922,0.01,{"$f":"(1-G10)*C10","v":70.560506292648668},0.20243182996913464,1.9397602520239101,0.66109201467316836,2.0351333618480971E-2,4.2047339973399838E-4,0.14373840663913459,{"$f":"J10/(1-J10)*(1-M10)/(1-M10*N10)","v":0.24864804881097688},1.3348587535517757,0.96010916446532413,0.57799878392301607,1.0005510762594216,4.6487739462219455,4.7551129537658685,-0.1998749936299003,-2.1560631606737344,6.7197198490478213E-2,0.26787046080699761,-0.12893451578882684,-1.079257970364385,2.075487023280367E-2,0.13794858366781476,3.8511964032471882E-2,0.14734197770602767,0.81414605826150044,null,690,3.8509188889999999,14.734239442183799,3.8509188889999997E-2,0.147342394421838,null,7.8750678058395193E-12]
[680,420.81710587529648,1544.13975689225,1.3329666857437052,234.18471941960254,859.31377471053736,0.93412260711569362,0.01,101.72390143306811,0.19467161430459426,2.9079407056710496,0.66120383653268466,2.0369693401000276E-2,6.0698685750134209E-5,5.4588027017530481E-2,0.23680582031726904,1.3397637265822633,0.96007389570126112,0.57793864581071319,0.99861393948500143,14.462334454750877,14.496865795097722,-0.1997918510619337,-2.1558867531681662,6.3977674112528138E-2,0.25227815796961794,-4.2731384206813806E-2,-1.0788803995550627,2.0427944516902063E-2,5.2386858946793506E-2,3.7574737918759094E-2,5.7125253250314416E-2,0.90530000883092654,null,680,3.7573844195000001,5.7125162416585358,3.7573844195000004E-2,5.7125162416585357E-2,null,8.0699292389532124E-13]
[670,402.0354213078665,1382.149975855014,1.3331500609971028,223.73271195782775,769.16646156331547,0.93042201617224674,0.01,96.167208667569724,0.19302830390981929,2.7724976358133029,0.6613208994711951,2.0388930707148919E-2,7.9658770918626234E-5,6.2505693160935807E-2,0.23432416679513096,1.3406712281948971,0.96003694259399897,0.57787567886468072,0.99816713783836197,12.37186889542634,12.412217366998442,-0.19970482278394758,-2.1557637646910868,6.3287356724130328E-2,0.24905988896722248,-4.9817787592421073E-2,-1.0791244963646964,2.0465374402730972E-2,5.998292623697038E-2,3.7424229363056262E-2,6.5152133934970435E-2,0.89742363670197334,null,670,3.7423329350000003,6.5152155284739059,3.7423329350000006E-2,6.5152155284739055E-2,null,8.1047931405063882E-13]
[660,298.75658928191382,907.29337700367205,1.3333422869735843,166.25804193538508,504.9087643025436,0.92120774111839554,0.01,71.487694642438484,0.19308250726983467,2.0604094400390212,0.66144353845046044,2.040910301318587E-2,3.3126459157286638E-4,0.12740179581822048,0.23440208813720487,1.340474743298991,0.9599981949339349,0.57780970145351662,0.99812631870577917,5.3863284540695773,5.4783696676218891,-0.19961366135818509,-2.1556709541049779,6.3287594812616518E-2,0.24916803398821771,-0.11211902097862171,-1.0800273147787294,2.0726986109691422E-2,0.12225537647344857,3.7544582411838806E-2,0.13051854168658192,0.83193687590157928,null,660,3.7543491124999999,13.051938702795713,3.7543491125000002E-2,0.13051938702795712,null,1.9055090051814838E-12]
[650,263.90652128147821,1305.8268176818135,1.3335439483911629,146.86397909314266,726.69262403992934,0.95098526317170029,0.01,64.004757812010197,0.19518925359612974,1.8248262681552634,0.66157211576501462,2.0430272625527268E-2,5.3119038410396897E-4,0.16124565520163267,0.23757580250590618,1.3389455578532008,0.95995753326102151,0.57774051703981666,0.99857654752753855,4.0700257706838308,4.1910750141259108,-0.19951809924503366,-2.1555636241098468,6.4122369820863112E-2,0.25330428513197889,-0.14674792083933064,-1.0805106461667682,2.0939985529257358E-2,0.15472605225210231,3.7846701616348316E-2,0.16428047338352728,0.79787282500012446,null,650,3.7843511105000003,16.427951438587577,3.7843511105000005E-2,0.16427951438587576,null,1.1099039159307735E-11]
[640,195.34470024524427,1309.7042577124366,1.333755679473877,108.70932568647845,728.85041941697114,0.96211189464445346,0.01,49.622212900816677,0.20256700083912782,1.3632408716578295,0.66170702377220791,2.0452507180033195E-2,1.3385992510060452E-3,0.25583031874695866,0.24883523826125706,1.3339742784000446,0.95991482790991878,0.57766791268104245,1.0003097746972232,2.3106413028736967,2.5177496361921796,-0.19941784680568572,-2.1555437577815688,6.7137014244831927E-2,0.26816151998360371,-0.24865085322102962,-1.0828792147821091,2.1736946117278774E-2,0.24547931166073611,3.8835732699032371E-2,0.25775480034403386,0.70340946695693374,null,640,3.8830434084999998,25.775448755551231,3.8830434084999997E-2,0.25775448755551233,null,2.8173147323274254E-11]
[630,181.17507418091458,1411.1911604168019,1.3339781691016692,100.82392878167899,785.32788077195039,0.96653596844502432,0.01,47.224145522290613,0.20676141356199171,1.2710416576483372,0.66184868794630025,2.0475880202931764E-2,1.6114981957644377E-3,0.2805392436770392,0.25532604954991084,1.3310426144022336,0.95986993793746522,0.57759165735098605,1.0012785842346679,2.051451193863608,2.2822033215304067,-0.19931259006916707,-2.1554333923336273,6.8862070367481154E-2,0.27687779816683405,-0.27630645564339112,-1.0834345578010507,2.202211137086231E-2,0.26917716913442258,3.9333232649800862E-2,0.28213208836300457,0.67853467898719466,null,630,3.9328131675,28.213328906586128,3.9328131675000003E-2,0.28213328906586127,null,2.7461631269077358E-11]
[620,177.56733413250416,1422.5346268894743,1.3342121665993518,98.816221444738588,791.64051986399261,0.96703951467606297,0.01,46.887431692382755,0.20889479232070735,1.249090771815496,0.66199757030132056,2.0500471742271591E-2,1.6858440429187481E-3,0.2867654135585605,0.2586500762692624,1.329447668179744,0.95982270991551488,0.5775115000568255,1.001739984866191,1.9923802234727193,2.2292552466878268,-0.19920198823142626,-2.1552843447149082,6.9730670822338137E-2,0.28138999507135254,-0.28335884688750707,-1.0834068750326777,2.2117958998756033E-2,0.27513778868204447,3.9580406889547406E-2,0.28833214420226816,0.67208744890818439,null,620,3.9574213025000002,28.833205430461199,3.9574213024999999E-2,0.28833205430461201,null,{"$f":"(AJ17/100-AE17)^2+(AK17/100-AF17)^2","v":3.8372039620212566E-11}]
[610,162.57218654520099,1387.8340802477767,1.3344584882572319,90.471421812404373,772.32966565788786,0.96829851885475604,0.01,43.996395927701883,0.21298687051538059,1.1495541614617049,0.66215417323446402,2.0526369080268288E-2,2.0597858750504815E-3,0.31677796972742323,0.26508305412775929,1.3265433216517422,0.95977297656940042,0.5774271677227949,1.0026895535618823,1.7461913996205036,2.0122585331185983,-0.19908567084916223,-2.1551733022184307,7.1434885132774073E-2,0.29019570612105089,-0.31742849721588356,-1.0844046815519404,2.2502546511104546E-2,0.30391968502363026,4.0070230808922469E-2,0.31775519355364795,0.64217457563742952,null,610,4.0063869949999997,31.775572320663343,4.0063869949999997E-2,0.31775572320663342,null,4.0741058516605948E-11]
[600,149.33668886370839,1334.7650816698799,1.3347180246913581,83.105867352653732,742.79676794928832,0.96886231326052463,0.01,41.561496983826977,0.21771551573057324,1.0623484042415345,0.66231904385009621,2.0553667538660614E-2,2.4555299058955904E-3,0.34564314664048862,0.27260086390677291,1.3231899995931364,0.95972055523893951,0.57733836280677586,1.0038048900809824,1.5496999420292534,1.8443345440362686,-0.19896323468510252,-2.1550565389390419,7.3428216187968284E-2,0.30062650908195321,-0.35058688590384413,-1.0853978983261536,2.2909413395345361E-2,0.33159743183532286,4.0609517334668693E-2,0.34601809958309421,0.61337238308223707,null,600,4.0604431625000004,34.602157485727645,4.0604431625000006E-2,0.34602157485727647,null,3.7941973476078459E-11]
[590,141.39106581387458,1447.3479320536273,1.3349917491696419,78.684128125421211,805.44912418784372,0.97202551486406785,0.01,40.48881321175633,0.22261293238517363,1.012161526777636,0.66249277883424973,2.0582471391278931E-2,2.7185992245508388E-3,0.36343256073313701,0.28048216631231232,1.3196930101862856,0.95966524613494386,0.57724476061054952,1.0049710172635289,1.4430458899702743,1.7556712222281543,-0.19883424015444257,-2.1549095163136918,7.5515805901039512E-2,0.31172930915228775,-0.371204763819098,-1.0857632426311641,2.3190457267719879E-2,0.34864535267694186,4.1137675752247034E-2,0.36354072927144543,0.59532159497630754,null,590,4.112970829,36.35400117877758,4.1129708289999997E-2,0.36354001178777579,null,6.3995237474162657E-11]
[580,129.99912825246261,1477.1274109606536,1.3352807270519074,72.344514872495452,822.02140419960392,0.97359635389528698,0.01,39.001549410576089,0.23077747349829669,0.94048877119481045,0.66267602996110608,2.0612894900522122E-2,3.1422506277991235E-3,0.39043695437706949,0.29384880759258625,1.3139467698340852,0.95960683035945527,0.5771460062378494,1.0069938185172658,1.2993569572163499,1.6396123024259521,-0.19869820731389465,-2.1547768366487645,7.9075529087758639E-2,0.33095112293300993,-0.40267607190785937,-1.0863089292645352,2.3627134114751772E-2,0.3745310345890685,4.1980443498624564E-2,0.39014996162850085,0.56786959487287447,null,580,4.1971852780000001,39.01487081475954,4.1971852779999999E-2,0.39014870814759539,null,7.5371660866810004E-11]
[570,116.23697181210733,1512.332010890497,1.3355861265179871,64.685874813437735,841.61276406056174,0.97546659002956015,0.01,37.102661234596262,0.24196393650750214,0.8533350579049056,0.66286951032674402,2.0645063497430071E-2,3.7464402377401233E-3,0.42599185274605794,0.31263275846302585,1.3060391112782852,0.95954506765224357,0.57704171114647385,1.0098552121420461,1.137303845753534,1.5144173921233799,-0.19855461132494706,-2.1546606866261948,8.4086459362159582E-2,0.35884369222348073,-0.44435745578533636,-1.0870964563569703,2.4238687495296445E-2,0.40861576530771343,4.3080383189789642E-2,0.42510868897813286,0.53181092783207751,null,570,4.3071165085000001,42.510852775001815,4.3071165085000002E-2,0.42510852775001817,null,8.4999450417761839E-11]
[560,105.43259380618504,1494.5052700400881,1.3359092307892544,58.673238453141984,831.6921827773092,0.97605210306917434,0.01,35.790258169495807,0.25343106776840219,0.78590517124466408,0.66307400142185724,2.067911512863823E-2,4.2944088856797565E-3,0.45570702214850545,0.33247081310228421,1.297795200983922,0.95947969381928222,0.57693144923134387,1.0128639810362665,1.0198062063658422,1.4282873305264214,-0.1984028773113001,-2.154523648661022,8.9372810688969864E-2,0.38948782393861292,-0.47930783846401942,-1.0874740151986242,2.479811704906925E-2,0.43709347417822286,4.4158298573990284E-2,0.45438397592884627,0.50145772549716339,null,560,4.4148523804999993,45.438318893999487,4.4148523804999992E-2,0.45438318893999485,null,9.6165460265836842E-11]
[550,106.1042676216977,1511.5170852266924,1.3362514520866062,59.04702493147478,841.15925792865448,0.97598204220935747,0.01,36.303553552809724,0.25492668347423925,0.79249952483613395,0.66329036117473783,2.0715201797846184E-2,4.2455389270891503E-3,0.45271181549023137,0.33509156458318129,1.2964897558211008,0.95941041779066427,0.57681475236413815,1.0131688060983624,1.029912766021535,1.4355209178601784,-0.19824237451651808,-2.1542817447709499,9.0024672317447013E-2,0.39365969022264258,-0.47573520939916647,-1.0869146377466592,2.4787026283154052E-2,0.4341882354062313,4.4339591359363828E-2,0.4516186933055274,0.50404171533510878,null,550,4.432980776,45.16178647791034,4.4329807759999999E-2,0.45161786477910337,null,9.6405272547215341E-11]
[540,110.85284963317137,1526.5786837473922,1.3366143476133756,61.689610820859883,849.5410375054239,0.97536744252181884,0.01,37.603537172373777,0.25329686368851601,0.82615979257285888,0.6635195331193201,2.0753491334700516E-2,3.9764716439034805E-3,0.43772702540067537,0.33220771243908709,1.2973705138048257,0.95933691824543454,0.57669110530163137,1.0126077270664913,1.0861732502218207,1.4764052050495602,-0.19807240965131578,-2.1539921306144056,8.9194615050528434E-2,0.38913899726009027,-0.45807011186547714,-1.0859404829645718,2.4566939042094622E-2,0.41978147236076829,4.4249186633855922E-2,0.43715668295964205,0.51859413040650204,null,540,4.4239726064999996,43.715618750506444,4.4239726064999998E-2,0.43715618750506446,null,8.9747838316121656E-11]
[530,118.84735075657919,1584.3304268924417,1.3369996379067386,66.138550696036333,881.67988256564399,0.97501933296129284,0.01,39.577630873492865,0.24981938117504748,0.88163502277135108,0.66376255687127572,2.0794169430399873E-2,3.5658504685653005E-3,0.41410528629324284,0.32611177693242238,1.299522360325182,0.95925883972867321,0.57655993985858789,1.011538882147593,1.1829838356202347,1.5490160603876133,-0.19789221929997691,-2.1536658823120121,8.7500335428791765E-2,0.37963323440099345,-0.43035615473007699,-1.084664052676434,2.4213517507010923E-2,0.3970918373284944,4.3983955797736181E-2,0.41425110238287355,0.54176494181939028,null,530,4.3974711895,41.425067778814544,4.3974711894999997E-2,0.41425067778814545,null,8.563001847914975E-11]
[520,149.77805230406128,1640.9236585524034,1.3374092279682084,83.351486107210121,913.17401598441268,0.97199854108697115,0.01,45.94825640437211,0.23475769153149265,1.0892169079624321,0.66402058012916121,2.0837441987156344E-2,2.3591883681571804E-3,0.33647988528231687,0.30039797832427945,1.3096022547335602,0.95917578817133842,0.5764206282213693,1.0073950278687551,1.5952750746914164,1.8827911631223746,-0.19770096123142095,-2.1532018377571127,8.0544629215493213E-2,0.34069980568476316,-0.34039261869166482,-1.0818022002194803,2.3099447009924855E-2,0.32261908410632817,4.2533201301990002E-2,0.33830616179758494,0.619160636900425,null,520,4.252552509,33.83063138905014,4.2525525090000002E-2,0.33830631389050142,null,5.8947362770665245E-11]
[510,222.76803963372132,1780.4654999204181,1.3378452316656964,123.97041405616594,990.8290507057128,0.96616949536966268,0.01,60.234046339213556,0.21283958431661201,1.5749066084393828,0.66429487245874363,2.0883537838246743E-2,8.9507118145356213E-4,0.20702688634234342,0.26474735275292505,1.3239325420131673,0.95908732570520572,0.57627247525451997,1.0016706386655649,2.9800641166710293,3.1433711424949942,-0.19749770443152243,-2.152681489098117,7.0932951690555204E-2,0.28990740621655925,-0.19590687208530957,-1.0787515127307052,2.174163091399188E-2,0.19847397765052172,4.0109559350990032E-2,0.21038590412828997,0.74950453652072002,null,510,4.0104730130000004,21.038622383317147,4.0104730130000002E-2,0.21038622383317146,null,2.3423586581788786E-11]
[500,322.31780196659162,1710.5887962116137,1.3383099999999999,179.36985679440826,951.94266509176327,0.95224398155080203,0.01,81.690910110873162,0.20220086267647053,2.2483084827110917,0.6645868411685113,2.0932711907206136E-2,2.3332945200294934E-4,0.1055776600432537,0.24814418558997109,1.3304953883952497,0.95899296464288664,0.57611470962349443,0.99892359815434228,6.6499243630498368,6.7246928579886669,-0.19728141763829965,-2.1522649388539605,6.6431809598492222E-2,0.26743857680652466,-9.0967377938977093E-2,-1.0774946968263366,2.1156376255170511E-2,0.10120436271748656,3.8834303892222179E-2,0.10893966316373166,0.85222603294404609,null,500,3.8832392694999998,10.893983515499706,3.8832392694999995E-2,0.10893983515499706,null,3.6822558174538119E-12]
[490,398.71348215321137,1676.5502770354076,1.3388061539522351,221.88405281826218,933.00022917020453,0.94109289997932177,0.01,98.760714859020553,0.19852429623921219,2.7684439063730713,0.66489804964512667,2.0985248889339989E-2,8.2655983996377707E-5,6.2759588593496562E-2,0.24250086519893971,1.332461123556133,0.9588921604652596,0.57594647352109496,0.99789499813900395,12.192894317958389,12.233833080801043,-0.19705095611908557,-2.1519055019031894,6.4866081716450072E-2,0.25997485420274058,-5.0330986983941436E-2,-1.0773419645398912,2.1064472298058811E-2,6.0153279868831906E-2,3.8423469100895793E-2,6.5476118689514154E-2,0.89610041220959002,null,490,3.8422555924999999,6.5476227255470549,3.8422555924999997E-2,6.5476227255470545E-2,null,8.4567678355030381E-13]
[480,419.67158134784626,1672.6827055438812,1.3393366227816359,233.5472350200765,930.8479256351701,0.93796308681235696,0.01,103.76807179429764,0.19824266497845675,2.9129416697360315,0.66523023859179553,2.1041467556900211E-2,6.2076473948405092E-5,5.4315715733045382E-2,0.24205778156325966,1.3322112634797298,0.95878430362432354,0.57576681074151104,0.99767725671407248,14.408386938632196,14.443047260649218,-0.19680504637703711,-2.1515430281559285,6.4689006298638038E-2,0.25941150192102108,-4.2724370914439744E-2,-1.0772095270919981,2.1100959232276659E-2,5.2054066906497672E-2,3.8424063633542963E-2,5.6838296946477178E-2,0.90473763941997987,null,480,3.8423193695000002,5.6838294274209691,3.8423193695000003E-2,5.6838294274209694E-2,null,7.5680020953946655E-13]
[470,427.3961610417586,1660.6140908095854,1.3399046888331432,237.84596361973871,924.13174153553439,0.93652556982842727,0.01,105.40653314902276,0.19783408435858943,2.9650469931716987,0.66558535070354441,2.1101725811961649E-2,5.6093285752624457E-5,5.1558046312061186E-2,0.24142096941073235,1.3320126227194697,0.95866870992665898,0.57557465279201492,0.99741865259842044,15.299678131246887,15.332323728637947,-0.19654226841105574,-2.1511577840452194,6.4456353531462174E-2,0.25859461551532603,-4.027695249762344E-2,-1.0771362248756,2.1155476808442916E-2,4.9405135190728922E-2,3.8420912895709126E-2,5.3994635668078432E-2,0.90758445143621247,null,470,3.842001915,5.3994487832892677,3.8420019149999998E-2,5.3994487832892679E-2,null,8.2063663473165005E-13]
[460,425.79798577212944,1642.1697402522241,1.3405140401513718,236.95657908219007,913.86746045036284,0.93621880175322703,0.01,104.73955375787878,0.19742156954749196,2.9524414074844962,0.665965559425436,2.1166426639508261E-2,5.7701821490785771E-5,5.2212079256367096E-2,0.24077783436746844,1.3317833967932726,0.95854460920897389,0.57536880266574064,0.99714773622735065,15.073797492100757,15.106931218247572,-0.19626103507556175,-2.1507463031658762,6.4217900564499109E-2,0.25777159006545974,-4.0863890538934085E-2,-1.0770809058558581,2.1221711697210415E-2,5.0025245995028125E-2,3.8424265395188652E-2,5.4641282504659543E-2,0.90693445210015189,null,460,3.8423362970000001,5.4641114264572908,3.842336297E-2,5.464111426457291E-2,null,8.4267594786418854E-13]
[450,460.5221219130014,1658.905392962959,1.3411688324950464,256.28056084458535,923.18085118388683,0.93139542916354157,0.01,113.80849254251024,0.19815849909098998,3.1961498694449233,0.66637330257818927,2.1236025149157834E-2,3.5557623549042802E-5,4.0919446292875271E-2,0.24188140231387556,1.3307852598333978,0.95841113194952909,0.57514791581615532,0.99713866118099637,19.951277499747292,19.976322831590466,-0.19595956799098363,-2.1503011757949126,6.4440281209924025E-2,0.25925029554484269,-3.1019743955819697E-2,-1.0767926473959226,2.1270088628629981E-2,3.9199996503887669E-2,3.8539640891889784E-2,4.306252008676334E-2,0.91839783902134686,null,450,3.85390079,4.3062447422221606,3.8539007899999998E-2,4.3062447422221609E-2,null,4.059588681598116E-13]
[440,525.65601641624107,900.11661308171745,1.3418737627211257,292.52757313563819,500.91489517997587,0.85590736706678339,0.01,129.70017272587407,0.19790790851560627,3.6470571925758715,0.66681132180740998,2.1311036939514316E-2,1.4481413484386185E-5,2.6067728319054819E-2,0.24148143037253353,1.3303785167484929,0.95826729337347505,0.57491047777043902,0.99687936834370017,33.55617418368184,33.571071264491927,-0.19563586933775165,-2.1498231251600837,6.4256503051109748E-2,0.25875009084097883,-1.861700951886306E-2,-1.0766298638717133,2.1324907706287036E-2,2.4968514309607902E-2,3.8555285652295851E-2,2.7680877851772163E-2,0.93376383649593198,null,440,3.8555300235000001,2.7680813432976459,3.8555300234999999E-2,2.7680813432976459E-2,null,4.3624365002313285E-15]
[430,513.00805570604064,1532.3011875097011,1.3426341559833403,285.48898300041168,852.72561084914878,0.9170163955904167,0.01,127.15587558063976,0.19863017793749513,3.5625122776103773,0.6672827090265393,2.1392048077254769E-2,1.7214464531773079E-5,2.836746816285355E-2,0.2425610970756932,1.3293099881631645,0.95811197450082997,0.57465477768928208,0.99683638938155805,30.386725991146374,30.403176091668623,-0.19528768872012547,-2.1493121256626093,6.4460257802967852E-2,0.26020366103988846,-2.0508558428517832E-2,-1.0764048246236855,2.1408533920230177E-2,2.7166783194418464E-2,3.8689608495266523E-2,3.0077555645169132E-2,0.9312328358595644,null,430,3.8689323665000002,3.0077637188253332,3.8689323665000004E-2,3.0077637188253334E-2,null,8.7777555306071504E-14]
[420,487.94716348663053,1511.3565509398929,1.3434560697960212,271.54259648030995,841.06992059805054,0.92009554629600687,0.01,120.7641195548034,0.19839310181898367,3.3874782901255807,0.66779096129115489,2.1479727057641076E-2,2.4530279722257158E-5,3.3793787670197258E-2,0.24217827325471403,1.3288050589801967,0.95794389944573222,0.57437887701712942,0.99654707649447016,24.811869945520037,24.832013414006532,-0.19491248410390458,-2.1487614031035762,6.4268522971880016E-2,0.2597293932249462,-2.501578877791363E-2,-1.0763061136759653,2.1503214860060925E-2,3.2357633781715835E-2,3.8730866675205963E-2,3.5686969355005975E-2,0.9255821639697881,null,420,3.8730705974999999,3.5686533236975766,3.8730705975000002E-2,3.5686533236975765E-2,null,2.1602349247047021E-13]
[410,455.19121414899735,1491.7622055838071,1.3443464187912566,253.31391067391706,830.16566740738881,0.92363905545936986,0.01,113.9123710483932,0.20016104978302554,3.1670614516234785,0.66834004587821783,2.1574839209455715E-2,3.8288904713187548E-5,4.2127209037572347E-2,0.24485275322742656,1.3269757964453395,0.95776160809490696,0.57408057215981956,0.99671580452918529,19.191227649137126,19.21726355860806,-0.19450737560433573,-2.1481668172475761,6.4879879000981744E-2,0.263303981660298,-3.2160576627927678E-2,-1.0759582820690161,2.1611493813000683E-2,4.0329075937145513E-2,3.8989979910947888E-2,4.4309595216586249E-2,0.91670042487246584,null,410,3.8989394905000001,4.4309524493146144,3.8989394905000002E-2,4.4309524493146145E-2,null,3.4723376404148922E-13]
[400,406.77540192257646,1496.6689024926181,1.3453131250000001,226.37051116991384,832.89624423714213,0.93109026102117454,0.01,103.13506340849149,0.20226112311997621,2.8376517395673937,0.66893447776760173,2.1678264132548981E-2,7.434838161292503E-5,5.8563025859416452E-2,0.24804704613345085,1.3248796657177537,0.95756342305871633,0.57375734986287252,0.99694233879208949,13.087145271010934,13.125295095522381,-0.19406909061493136,-2.1475256672049339,6.5618281762297087E-2,0.26759547112355553,-4.678075562967398E-2,-1.0756268048384208,2.1749424080953643E-2,5.6051548240457841E-2,3.9300223751311272E-2,6.118675926317995E-2,0.89951301698550878,null,400,3.9299335480000002,6.1186711337345443,3.9299335480000003E-2,6.1186711337345441E-2,null,7.9132280803795928E-13]
[null,null,null,null,null,null,null,null,null,null,null,null,null,null,null,null,null,null,null,null,null,null,null,null,null,null,null,null,null,null,null,null,null,null,null,3.9601928000000002,6.7834916848477205]
[null,null,null,null,null,null,null,null,null,null,null,null,null,null,null,null,null,null,null,null,null,null,null,null,null,null,null,null,null,null,null,null,null,null,null,3.9944682125000002,7.2598921229490134]
[null,null,null,null,null,null,null,null,null,null,null,null,null,null,null,null,null,null,null,null,null,null,null,null,null,null,null,null,null,null,null,null,null,null,null,4.0218276980000001,8.7649253401581966]
[null,null,null,null,null,null,null,null,null,null,null,null,null,null,null,null,null,null,null,null,null,null,null,null,null,null,null,null,null,null,null,null,null,null,null,4.0543930530000001,10.237287002264662]
[null,null,null,null,null,null,null,null,null,null,null,null,null,null,null,null,null,null,null,null,null,null,null,null,null,null,null,null,null,null,null,null,null,null,null,4.1057348249999999,10.619392491401912]

{"sheet":"Dilution4","index":5,"n_rows":44,"n_cols":41,"rows_kept":44,"cut":false,"hidden":false,"merged":[]}
["X=",1.1130000000000002,"g/L",null,null,null,null,null,null,null,null,null,null,null,null,null,null,null,null,null,null,null,null,null,null,null,null,null,null,null,null,null,null,null,"dilution 4",null,1.1130000000000002,"g/L"]
[]
["l (nm)","Abs,l (m2/kg)","Ssca,l (m2/kg)","n","k (1/m)","ss (1/m)","g","d (m)",null,"wtr","ttr","mc","R1","Ctr","Etr","c","k2","g","gbar","j","s","c","k1","k2","D1","D","A","B","R0dh","T0dh","Rdh","Tdh","Adh",null,"l (nm)","Rdh","Tdh","Rdh","Tdh",null,"error"]
[750,44.774692783961932,124.84239920892959,{"$f":"1.32711+0.0026/(A4/1000)^2+0.00005/(A4/1000)^4","v":1.3318902469135803},{"$f":"B4*B$1","v":49.834233068549636},{"$f":"C4*B$1","v":138.94959031953866},0.80433132534369189,0.01,null,{"$f":"F4*(1-G4)/(F4*(1-G4)+E4)","v":0.35298967699774669},{"$f":"(F4*(1-G4)+E4)*H4","v":0.77022315250410744},{"$f":"SQRT(1-1/D4^2)","v":0.66051526570572971},{"$f":"(D4-1)^2/(D4+1)^2","v":2.0256889936719542E-2},{"$f":"M4*EXP(-2*K4)","v":4.3407566423121083E-3},{"$f":"EXP(-K4)","v":0.46290975731308265},{"$f":"J4/(1-J4)*(1-M4)/(1-M4*N4)","v":0.53456583930819246},{"$f":"4/(1+L4)^2*(1-J4)/(1-J4*L4)","v":1.2239901014195962},{"$f":"(1-M4)/(1+M4)","v":0.96029060889169604},{"$f":"R4/(1+L4)","v":0.5783088109602933},{"$f":"2*S4/SQRT(Q4)","v":1.0454441866530699},{"$f":"SINH(SQRT(Q4)*K4)","v":0.95906414568340048},{"$f":"COSH(SQRT(Q4)*K4)","v":1.3855699316654613},{"$f":"(1-2*S4)-(1+2*S4)*M4","v":-0.20030398772342176},{"$f":"(1-2*S4)*N4-(1+2*S4)","v":-2.1572974609032416},{"$f":"R4*(1-L4^2)*P4/2","v":0.14468949836951578},{"$f":"Y4*Q4/(Q4-1)","v":0.79065330414712842},{"$f":"(W4*(T4*U4+V4)*O4+X4)/((1+T4^2)*U4+2*T4*V4)","v":-0.48502655938650008},{"$f":"(W4*O4+X4*(T4*U4+V4))/((1+T4^2)*U4+2*T4*V4)","v":-1.0694221551710952},{"$f":"M4+(1-M4)^2*N4/(1-M4*N4)","v":2.442393372203943E-2},{"$f":"(1-M4)^2/(1-M4*N4)*O4","v":0.4443845592661359},{"$f":"AC4+Z4*(1+AB4/SQRT(Q4)+N4)","v":5.4240147821469027E-2},{"$f":"AD4+Z4*(AA4/SQRT(Q4)+(1+M4)*O4)","v":0.4711725178355709},{"$f":"1-AE4-AF4","v":0.47458733434296008},null,750,5.4239637849999998,47.117118702126682,{"$f":"AJ4/100","v":5.4239637849999994E-2},{"$f":"AK4/100","v":0.47117118702126681},null,{"$f":"(AJ4/100-AE4)^2+(AK4/100-AF4)^2","v":2.0311376111987084E-12}]
[740,47.013137191292159,147.22315582834804,{"$f":"1.32711+0.0026/(A5/1000)^2+0.00005/(A5/1000)^4","v":1.3320247325123082},52.325621693908182,163.85937243695139,0.8321869202378176,0.01,null,{"$f":"F5*(1-G5)/(F5*(1-G5)+E5)","v":0.34448240850782252},{"$f":"(F5*(1-G5)+E5)*H5","v":0.79823367630451458},{"$f":"SQRT(1-1/D5^2)","v":0.66060142328872185},{"$f":"(D5-1)^2/(D5+1)^2","v":2.0270971677790125E-2},4.1071220145192421E-3,0.45012332585706433,0.51490230119683966,1.2309825788842503,0.960263553035415,0.57826251354986224,1.0423872290701881,1.0060391984989709,1.4184903485454006,-0.20023988484650859,-2.1571678944843491,0.13933515502472532,0.74256313740234325,-0.47059932698492651,-1.0703728690260961,2.4213598895990784E-2,0.43209538693941124,5.344806381153093E-2,0.4581534298250311,0.48839850636343801,null,740,5.3448076249999996,45.815335662343522,{"$f":"AJ5/100","v":5.3448076249999997E-2},0.4581533566234352,null,{"$f":"(AJ5/100-AE5)^2+(AK5/100-AF5)^2","v":5.5131891544528801E-15}]
[730,49.891983918451494,100.63602784244853,1.3321650314014166,55.529778101236523,112.00789898864524,0.74873845963264474,0.01,null,{"$f":"F6*(1-G6)/(F6*(1-G6)+E6)","v":0.33634814840585964},0.83673055334434665,{"$f":"SQRT(1-1/D6^2)","v":0.66069126535245748},{"$f":"(D6-1)^2/(D6+1)^2","v":2.0285665600687893E-2},3.8055228831605022E-3,0.43312428781038587,0.49657142076770766,1.2375621054669155,0.96023532176403803,0.57821423030140529,1.0395257941665659,1.0711897596188331,1.4654171764764645,-0.20017304724640536,-2.157023752689212,0.13434247452671272,0.69984712124917647,-0.45126688570589402,-1.0709212364015175,2.3938641359375096E-2,0.41576218891528016,5.2732506333114645E-2,0.44113998790876957,0.50612750575811583,null,730,5.2732524874999998,44.113985953427765,5.2732524874999999E-2,0.44113985953427765,null,1.6823811689617612E-14]
[720,57.105921689192236,455.84594168448615,1.3323114865302546,63.558890840070973,507.3565330948332,0.94204082078756146,0.01,null,0.31631272850387882,0.92964859066315908,0.66078500633681536,2.0301008077317603E-2,3.1625332330401535E-3,0.39469238459359207,0.45329373717234012,1.2534939646584851,0.96020584530133246,0.5781638451922525,1.0328084966888893,1.2392029258529149,1.5923642458440295,-0.20010331624434446,-2.1568220819005908,0.12260340285231519,0.6062575325176518,-0.40744603633501525,-1.0724047797367182,2.333663435783789E-2,0.3788540663782225,5.0807546814508345E-2,0.40236623835258334,0.54682621483290828,null,720,5.0806717875,40.236459133781914,5.0806717874999997E-2,0.40236459133781916,null,3.3997983419373619E-12]
[710,77.323631574122345,1393.0523679230905,1.3324644667115881,86.061201941998192,1550.4672854984001,0.97880427844221674,0.01,null,0.27633733863794613,1.1892447480987434,0.66088287659146805,2.0317038245697982E-2,1.8831960504449316E-3,0.30445111454137147,0.37411539289557755,1.2838008206860272,0.96017504856994151,0.57811123355094862,1.0204519962761449,1.7938969340335347,2.0537931273463048,-0.20003052143223976,-2.1565166646349345,0.10116137534004806,0.45761339367992554,-0.3047136264391524,-1.0743757076260538,2.2124558870779566E-2,0.2922168771183371,4.6683310304584141E-2,0.31130132644702119,0.6420153632483947,null,710,4.6674981115000005,31.1296174154025,4.6674981115000007E-2,0.311296174154025,null,9.5921522247054463E-11]
[700,131.58225525677918,1071.1965457476526,1.3326243690129114,146.45105010079524,1192.2417554171377,0.96358330160861494,0.01,null,0.22867139644215567,1.8986855851743663,0.66098512381895591,2.0333798268192715E-2,4.5608014448739225E-4,0.1497653436936483,0.29043875064962871,1.3174561418470505,0.96014285069708516,0.57805626126832121,1.0072378146442191,4.3635901603827403,4.4767085104783249,-0.19995447961342663,-2.1561837223584774,7.8513604381100249E-2,0.32583471124104529,-0.13599254420438769,-1.0758365730363972,2.0771523361194363E-2,0.14373800260567621,4.1350245131364649E-2,0.15492394229936249,0.80372581256927289,null,700,4.1349880695000003,15.492275870906425,4.1349880695000001E-2,0.15492275870906425,null,1.5336998579723762E-12]
[690,291.15659650923072,1697.6893974910552,1.3327916214110298,324.05729191477388,1889.5282994075449,0.95661134294713823,0.01,null,0.20191068679466667,4.0604138728944497,0.66109201467316836,2.0351333618480971E-2,6.0500950158116847E-6,1.7241881690973709E-2,0.24784388930978346,1.3351998903258846,0.96010916446532413,0.57799878392301607,1.0004232502412238,54.522391424036456,54.531561197125512,-0.1998749936299003,-2.15599851164614,6.6979874180562643E-2,0.26680056659022949,-1.1603571951190082E-2,-1.0777869470453065,2.0357139965016396E-2,1.6547234342427355E-2,3.8304233561258214E-2,1.8561796168015274E-2,0.94313397027072654,null,690,3.8303979635000003,1.8561560869001532,3.8303979635000006E-2,1.8561560869001532E-2,null,1.1984417047534483E-13]
[680,429.97039106281431,1273.9790197928398,1.3329666857437052,478.55704525291242,1417.938649029431,0.917353324361185,0.01,null,0.19670819444933602,5.9574496085498732,0.66120383653268466,2.0369693401000276E-2,1.3627290363543158E-7,2.5865001551145595E-3,0.23988954952895061,1.3384442308185429,0.96007389570126112,0.57793864581071319,0.99910605646651385,492.30270511010832,492.30372074434928,-0.1997918510619337,-2.1558773128632773,6.4810803223509961E-2,0.25630705968727668,-1.3542671149978549E-3,-1.0784209431811029,2.0369824178772696E-2,2.4822009337709867E-3,3.7758989622629816E-2,2.8586129775167862E-3,0.95938239739985343,null,680,3.7758955955000002,0.2858596029578041,3.7758955955E-2,2.8585960295780411E-3,null,1.4207419251347749E-15]
[670,413.1060772874643,1343.6049162376332,1.3331500609971028,459.78706402094787,1495.432271772486,0.92571680301303094,0.01,null,0.19458894850960845,5.7087255404569408,0.6613208994711951,2.0388930707148919E-2,2.2431506824269401E-7,3.3168971034804591E-3,0.23667602827294829,1.339663411436242,0.96003694259399897,0.57787567886468072,0.99854252334061899,370.31298895575281,370.31433916247892,-0.19970482278394758,-2.1557513926667378,6.3922558369560692E-2,0.25211638854770324,-1.7889201908512708E-3,-1.0786622077778716,2.0389145968379058E-2,3.1830200099311522E-3,3.7548426627031853E-2,3.6466467433332217E-3,0.9588049266296349,null,670,3.7548260689999999,0.36467843196237082,3.7548260690000002E-2,3.6467843196237083E-3,null,4.6462334243664676E-14]
[660,313.42833785639203,1380.7198431666527,1.3333422869735843,348.84574003416441,1536.7411854444847,0.94569734539627326,0.01,null,0.19303751305453284,4.3229486584267782,0.66144353845046044,2.040910301318587E-2,3.5888757417135025E-6,1.3260724490468116E-2,0.23433283142017991,1.3405037529941408,0.9599981949339349,0.57780970145351662,0.9981155184760826,74.583796277897179,74.590499845643009,-0.19961366135818509,-2.1556199614057334,6.3268895785317067E-2,0.24907858284155857,-8.5635663768799265E-3,-1.0788354297557952,2.0412546892590151E-2,1.2724969947481844E-2,3.7401413872453118E-2,1.4253056973637353E-2,0.94834552915390957,null,660,3.7401169535000003,1.4252810721450584,3.7401169535000001E-2,1.4252810721450584E-2,null,1.2034093048425825E-13]
[650,278.54550991332121,982.64776315994095,1.3335439483911629,310.02115253352656,1093.6869603970144,0.93217894132168821,0.01,null,0.1930654577783284,3.8419616005031698,0.66157211576501462,2.0430272625527268E-2,9.4013174253503397E-6,2.1451480811212901E-2,0.23436983332678268,1.3403164253664941,0.95995753326102151,0.57774051703981666,0.99806574786429092,42.71853957537769,42.730242492327491,-0.19951809924503366,-2.1554824958061882,6.3257069823263679E-2,0.24913428616726113,-1.4779199185969386E-2,-1.0788098042614016,2.0439293725801895E-2,2.0583919325541173E-2,3.7422700595916306E-2,2.2857011592635729E-2,0.9397202878114479,null,650,3.7422254085,2.2857054661639706,3.7422254085000002E-2,2.2857054661639706E-2,null,2.012269374818205E-13]
[640,208.828827048058,1388.3033370461355,1.333755679473877,232.4264845044886,1545.1816141323491,0.96376537153621089,0.01,null,0.19412642124183266,2.8841556620165223,0.66170702377220791,2.0452507180033195E-2,6.3914703102329747E-5,5.5901969772079008E-2,0.23596293861118633,1.3394548845730627,0.95991482790991878,0.57766791268104245,0.99826120873389923,14.063229337509213,14.098738220116715,-0.19941784680568572,-2.1553457536052441,6.3664002259032737E-2,0.2512117594200583,-4.3912366347478991E-2,-1.0788100690523275,2.0513834267298123E-2,5.3638753089486076E-2,3.7577227523117304E-2,5.843767146379325E-2,0.90398510101308949,null,640,3.7577221395000002,5.8437746064018032,3.7577221394999999E-2,5.8437746064018033E-2,null,5.602747359274477E-15]
[630,194.58001781977663,1479.3210284682318,1.3339781691016692,216.56755983341142,1646.4843046851424,0.9679151084005847,0.01,null,0.19609608092010711,2.693948302693729,0.66184868794630025,2.0475880202931764E-2,9.3607105265998853E-5,6.7613453281501146E-2,0.2389355303037872,1.3379968197590364,0.95986993793746522,0.57759165735098605,0.99867313405302471,11.257389343046345,11.301717339454807,-0.19931259006916707,-2.1551978409628467,6.444150657590654E-2,0.25509864536747262,-5.4573834016345017E-2,-1.078614800798577,2.056569335046568E-2,6.4873035413207353E-2,3.7814211376750131E-2,7.0438779732418078E-2,0.8917470088908318,null,630,3.7813612225000002,7.0437885938981086,3.7813612225000001E-2,7.0437885938981093E-2,null,1.1578495276808769E-12]
[620,190.91916721725534,1921.896576180905,1.3342121665993518,212.49303311280522,2139.0708892893476,0.97560940554465791,0.01,null,0.19712831468617895,2.6466624368468969,0.66199757030132056,2.0500471742271591E-2,1.0301538056815644E-4,7.0887409887519487E-2,0.24049608741700609,1.337134244544804,0.95982270991551488,0.5775115000568255,0.9988565613346011,10.645203131269037,10.692069477233121,-0.19920198823142626,-2.1550389698670047,6.4836452970064046E-2,0.25715287890183408,-5.7621697809958995E-2,-1.0784685079645677,2.0599306897975601E-2,6.8010894635793837E-2,3.7944343946853379E-2,7.3799343349248633E-2,0.88825631270389793,null,620,3.7943363190000001,7.380017617018499,3.7943363190000003E-2,7.3800176170184986E-2,null,{"$f":"(AJ17/100-AE17)^2+(AK17/100-AF17)^2","v":1.655474717472066E-12}]
[610,175.38265832466217,1397.0790566324026,1.3344584882572319,195.20089871534904,1554.9489900318645,0.96880876634574209,0.01,null,0.19901700336169761,2.437016759838853,0.66215417323446402,2.0526369080268288E-2,1.5687230265019357E-4,8.7421261454184648E-2,0.24336663250280491,1.3357059585952507,0.95977297656940042,0.5774271677227949,0.99924452502856009,8.3294377729685554,8.3892510758562562,-0.19908567084916223,-2.1548786278017666,6.5582718952714003E-2,0.26094034449842224,-7.3199378786497599E-2,-1.0783688130180513,2.0676867925256227E-2,8.3869482719213129E-2,3.8183850553563034E-2,9.062249053314135E-2,0.8711936589132957,null,610,3.8183847665000004,9.0622575995713923,3.8183847665000006E-2,9.0622575995713925E-2,null,7.3121951073920638E-15]
[600,161.57641468109301,1354.584344602471,1.3347180246913581,179.83454954005657,1507.6523755425505,0.9699179990204535,0.01,null,0.20140172048705687,2.2518774977794318,0.66231904385009621,2.0553667538660614E-2,2.2747484878232223E-4,0.10520152340161495,0.24701167512534503,1.333942178279274,0.95972055523893951,0.57733836280677586,0.99975114355522166,6.7004054542548319,6.7746168342872286,-0.19896323468510252,-2.154711910678321,6.6535470292049148E-2,0.26577795782354602,-9.0438899790843699E-2,-1.0782676253069716,2.0771888620381478E-2,0.10092188370834708,3.8481590931431504E-2,0.10864520299923931,0.85287320606932915,null,600,3.8481553794999996,10.864484853447625,3.8481553794999998E-2,0.10864484853447624,null,1.2702438280281923E-13]
[590,153.31301399690329,1311.0150867753709,1.3349917491696419,170.63738457855339,1459.1597915809882,0.96990052303052632,0.01,null,0.2047002836594026,2.1455733112002737,0.66249277883424973,2.0582471391278931E-2,2.8175797755356597E-4,0.11700093986291549,0.25209138705098361,1.3315662703849744,0.95966524613494386,0.57724476061054952,1.0004804405520469,5.9038740881768348,5.9879653680566527,-0.19883424015444257,-2.1545330498761515,6.7871995229346033E-2,0.27257314034444269,-0.10217429726960105,-1.0779836485067589,2.0852751748660553E-2,0.11223481980780002,3.8870189277215528E-2,0.12064775657081069,0.84048205415197375,null,590,3.8870136735000003,12.064729649002171,3.8870136735000005E-2,0.1206472964900217,null,2.1443501680088823E-13]
[580,141.38192898327026,2122.9413816059814,1.3352807270519074,157.35808695837983,2362.8337577274579,0.98225369171936838,0.01,null,0.21040517405185263,1.9928966323889454,0.66267602996110608,2.0612894900522122E-2,3.8294020727186874E-4,0.13630004196550952,0.26098162519990398,1.3275871685254406,0.95960683035945527,0.5771460062378494,1.0018072430889862,4.9180306625879195,5.0186677114703437,-0.19869820731389465,-2.1543510970909363,7.0230879151562037E-2,0.28461924933007188,-0.12173706074713209,-1.077553532618408,2.0980213702750529E-2,0.13073990980244263,3.9530796408792604E-2,0.14026164189372445,0.82020756169748288,null,580,3.9524469375,14.026376294196158,3.9524469375000003E-2,0.14026376294196158,null,4.4530202236949661E-11]
[570,126.72352254494103,2015.9887612932102,1.3355861265179871,141.04328059251941,2243.7954913193435,0.98244406388020367,0.01,null,0.21831620399438473,1.8043521090400885,0.66286951032674402,2.0645063497430071E-2,5.5921124282705035E-4,0.16458105261828454,0.27352686807201837,1.3220990200575229,0.95954506765224357,0.57704171114647385,1.0037029741194345,3.9182425823700444,4.0438378966395119,-0.19855461132494706,-2.1541695874750273,7.3568444937342312E-2,0.30197163885020767,-0.15108576475490382,-1.077107532253623,2.1181429375601152E-2,0.15785745002488866,4.0447806775575038E-2,0.16890357002328549,0.79064862320113949,null,570,4.0447010994999992,16.890611797084652,4.0447010994999991E-2,0.16890611797084654,null,7.1253034974777384E-12]
[560,115.10591498470947,1031.7054044664926,1.3359092307892544,128.11288337798166,1148.2881151712065,0.96726400813251356,0.01,null,0.22685345085173414,1.657032337777576,0.66307400142185724,2.067911512863823E-2,7.5205906398680372E-4,0.19070408647745798,0.28735273742408901,1.3161176217278781,0.95947969381928222,0.57693144923134387,1.0057889435223872,3.2715256615558062,3.4209472597831958,-0.1984028773113001,-2.1539786124500875,7.7244440085209781E-2,0.3215979173225646,-0.17886024167231168,-1.0766224721226527,2.1400403177961495E-2,0.18290129741154806,4.1433175798487418E-2,0.19536012113136503,0.7632067030701476,null,560,4.1433146000000001,19.536028101589352,4.1433146000000004E-2,0.19536028101589353,null,2.6451012307592816E-14]
[550,115.62142010563477,775.68441216947281,1.3362514520866062,128.68664057757152,863.33675074462337,0.95549022816835816,0.01,null,0.22994496224731725,1.6711356236708577,0.66329036117473783,2.0715201797846184E-2,7.3241833656008599E-4,0.18803340915467998,0.29242717917917843,1.3137608029810088,0.95941041779066427,0.57681475236413815,1.0064870809018613,3.3213441531358163,3.4686203285412307,-0.19824237451651808,-2.1537420257945761,7.8562589347980924E-2,0.32895265911312022,-0.17615016771741857,-1.0760416293870749,2.1417600699106861E-2,0.18032653389162009,4.1791968637191132E-2,0.19290761922921007,0.76530041213359878,null,550,4.179190159,19.290796280922649,4.179190159E-2,0.19290796280922648,null,1.2254255351488064E-13]
[540,120.1832262902068,810.30444197589793,1.3366143476133756,133.7639308610002,901.86884391917454,0.95558230829487467,0.01,null,0.23045836172891099,1.7382286312865989,0.6635195331193201,2.0753491334700516E-2,6.416304443046068E-4,0.17583158749519467,0.29326360010173685,1.3131326771211145,0.95933691824543454,0.57669110530163137,1.006511970391833,3.5963969276848973,3.7328368383123003,-0.19807240965131578,-2.1534806252992005,7.8738490829597219E-2,0.33019257589508683,-0.1633144901108983,-1.0755417355504977,2.1368774183405926E-2,0.16861132604717491,4.1859873941721151E-2,0.18081606203426254,0.77732406402401621,null,540,4.1859796045,18.081644220959994,4.1859796045000001E-2,0.18081644220959994,null,1.506011863373031E-13]
[530,128.06892153479416,802.35791086262043,1.3369996379067386,142.54070966822593,893.02435479009671,0.95216467898656221,0.01,null,0.23058609314947451,1.8525881635242838,0.66376255687127572,2.0794169430399873E-2,5.1145089738882708E-4,0.15683073699475736,0.29346187560389242,1.3127493805647317,0.95925883972867321,0.57655993985858789,1.0064299409276232,4.1165872130688745,4.2363062073936719,-0.19789221929997691,-2.1531981930170652,7.8739911794795461E-2,0.33050671514581975,-0.14353196229347687,-1.0749457077245048,2.1284576300211265E-2,0.15037781967433309,4.187879340179286E-2,0.16188567831689152,0.79623552828131561,null,530,4.1877853869999999,16.188629519620214,4.1877853870000002E-2,0.16188629519620215,null,1.2632600736784954E-12]
[520,160.35385520371736,1043.2365582468042,1.3374092279682084,178.47384084173746,1161.1222893286933,0.95646372540152758,0.01,null,0.22072257378847321,2.2902477967235839,0.66402058012916121,2.0837441987156344E-2,2.1357993161274648E-4,0.10124137146521352,0.27733928193552781,1.3190580571184363,0.95917578817133842,0.5764206282213693,1.0037777263937973,6.903324225502308,6.9753770767182939,-0.19770096123142095,-2.1528739002678372,7.4361983908807008E-2,0.30742923373915182,-8.7256972120383802E-2,-1.0751154162088472,2.1042214647422591E-2,9.7066539947790409E-2,4.0752014605492784E-2,0.10548285315732225,0.85376513223718487,null,520,4.0751736164999999,10.548207030307863,4.0751736164999997E-2,0.10548207030307863,null,6.9038987478541244E-13]
[510,236.88349588024357,1394.0166397290157,1.3378452316656964,263.65133091471114,1551.5405200183948,0.95547209898702556,0.01,null,0.20763124935117849,3.3273817360770908,0.66429487245874363,2.0883537838246743E-2,2.6895338783980638E-5,3.5886943656831469E-2,0.25656651441303557,1.3273438123824801,0.95908732570520572,0.57627247525451997,1.0003826650584398,23.100973429367411,23.122607408861551,-0.19749770443152243,-2.1525490532571641,6.8741084596446136E-2,0.2787376753251159,-2.6818309849197943E-2,-1.0761451804182536,2.0909321581515386E-2,3.4403721379970047E-2,3.9294157314606226E-2,3.8127297215344233E-2,0.92257854547004958,null,510,3.9294158220000002,3.8127285434781975,3.929415822E-2,3.8127285434781971E-2,null,1.3960138509008167E-16]
[500,340.41907129356701,1028.5134498977557,1.3383099999999999,378.88642634974013,1144.7354697362023,0.91684031292730628,0.01,null,0.2008002608611314,4.7408226979401578,0.6645868411685113,2.0932711907206136E-2,1.5958762868301118E-6,8.7314598757431694E-3,0.24599228927300121,1.3313994969339107,0.95899296464288664,0.57611470962349443,0.99858437287638535,118.75877386217968,118.7629840027958,-0.19728141763829965,-2.1522296621863091,6.5855715638987344E-2,0.26457573859702044,-5.39890266440049E-3,-1.0768807040475554,2.0934241670785527E-2,8.3697398244869953E-3,3.8586337406821498E-2,9.490284690898498E-3,0.95192337790227999,null,500,3.8586298230000002,0.94902303001411414,3.8586298230000003E-2,9.4902303001411416E-3,null,4.4931778282678758E-15]
[490,416.89788649211499,954.34808280333687,1.3388061539522351,464.00734766572407,1062.1894161601142,0.89176033799336207,0.01,null,0.1985756794025329,5.7897837105792291,0.66489804964512667,2.0985248889339989E-2,1.9632332036928244E-7,3.0586436571500369E-3,0.24257876277439469,1.3324281429559075,0.9588921604652596,0.57594647352109496,0.99790734813795923,399.43373335308485,399.43498512321543,-0.19705095611908557,-2.1518929768623174,6.4886918386417539E-2,0.26007772807374291,-1.6513305425065261E-3,-1.0770738381067866,2.0985437059330647E-2,2.931617839955727E-3,3.8387264614723055E-2,3.371734419001416E-3,0.95824100096627551,null,490,3.8387206790000001,0.33718530408100295,3.8387206790000003E-2,3.3718530408100296E-3,null,1.7414832074747959E-14]
[480,437.40899382152048,1031.5538925447645,1.3393366227816359,486.83621012335237,1148.119482402323,0.89527276723356242,0.01,null,0.19806327081960642,6.0707558640058235,0.66523023859179553,2.1041467556900211E-2,1.1222367367947039E-7,2.3094269380164495E-3,0.24178432329501348,1.3323261962112101,0.95878430362432354,0.57576681074151104,0.99763422361692833,552.30978216672781,552.31068745503956,-0.19680504637703711,-2.1515336384886816,6.4615925633671398E-2,0.25905117139625555,-1.2037097740931846E-3,-1.0770410453976205,2.1041575107558854E-2,2.2132619626952922E-3,3.8372805823037946E-2,2.5539617883096103E-3,0.9590732323886525,null,480,3.8372722865000002,0.25540803639506715,3.8372722865E-2,2.5540803639506715E-3,null,2.0942218712933954E-14]
[470,445.25119997474508,1000.0424423170945,1.3399046888331432,495.56458557189137,1113.0472382989265,0.8902802981329595,0.01,null,0.19771025394736416,6.1768779672198244,0.66558535070354441,2.1101725811961649E-2,9.1022747945243336E-8,2.0769018991023615E-3,0.24123233246133519,1.33209180599327,0.95866870992665898,0.57557465279201492,0.99738900747650638,623.89060862792496,623.89141004995633,-0.19654226841105574,-2.1511493193420548,6.4405989845452968E-2,0.2583463059963374,-1.0686105958547833E-3,-1.0769808187918108,2.110181303376649E-2,1.9901742828584857E-3,3.8378154593759803E-2,2.2988601488890467E-3,0.95932298525735116,null,470,3.837815881,0.2298862866738281,3.837815881E-2,2.298862866738281E-3,null,2.5163385861293725E-17]
[460,444.31974152516568,998.18870958857246,1.3405140401513718,494.52787231750949,1110.9840337720814,0.89048261287205921,0.01,null,0.19745550178776503,6.1619994083708773,0.665965559425436,2.1166426639508261E-2,9.4059543058204193E-8,2.1080342340549377E-3,0.24082910693419124,1.3317617407379563,0.95854460920897389,0.57536880266574064,0.99715584360800558,612.72828941153205,612.72910543337355,-0.19626103507556175,-2.1507376195097914,6.4231575480216088E-2,0.25783911846375052,-1.0871826712719943E-3,-1.076900416422278,2.1166516759382994E-2,2.0197395706120875E-3,3.8397093079199821E-2,2.3318720260085933E-3,0.9592710348947916,null,460,3.8397096394999997,0.23318741871120466,3.8397096394999997E-2,2.3318741871120466E-3,null,1.5664898943700676E-17]
[450,477.33328626807685,986.13017678632502,1.3411688324950464,531.27194761636963,1097.5628867631799,0.88069993261071244,0.01,null,0.19773043966708936,6.6221127397119801,0.66637330257818927,2.1236025149157834E-2,3.7599250531752857E-8,1.3306167270038978E-3,0.24122993168503595,1.3310582491580607,0.95841113194952909,0.57514791581615532,0.99703640338414845,1039.9035405134912,1039.9040213272062,-0.19595956799098363,-2.1502958372833212,6.4266721150651865E-2,0.25839183754359307,-6.4904830927267133E-4,-1.0767434984835962,2.1236061168447222E-2,1.2747027740455208E-3,3.8474992345083669E-2,1.4804605161957999E-3,0.96004454713872056,null,450,3.8474884029999998,0.14804892366904759,3.8474884029999996E-2,1.480489236690476E-3,null,1.2557024165548128E-14]
[440,533.70179198721587,1166.8622584734642,1.3418737627211257,594.01009448177138,1298.7176936809658,0.8868982916991256,0.01,null,0.19825580803286008,7.4089728423766035,0.66681132180740998,2.1311036939514316E-2,7.8208244539910311E-9,6.0579261958024645E-4,0.24201082235553023,1.3301569650860501,0.95826729337347505,0.57491047777043902,0.99696238526998116,2570.360077912876,2570.3602724381431,-0.19563586933775165,-2.1498209567126016,6.4397370518716607E-2,0.25944814129961619,-2.6908137524756653E-4,-1.0765455552809871,2.1311044430550923E-2,5.8024760884491902E-4,3.8582949202503838E-2,6.802371874243641E-4,0.96073681361007179,null,440,3.8582986589999999,6.8019817280020906E-2,3.858298659E-2,6.8019817280020906E-4,null,2.9199657671852973E-15]
[430,522.98573408148775,1117.6616832362229,1.3426341559833403,582.083122032696,1243.9574534419162,0.88449835129639542,0.01,null,0.19796997576425812,7.2576225882237475,0.6672827090265393,2.1392048077254769E-2,1.0625796208938677E-8,7.0478160151970495E-4,0.24155578558733448,1.3297298214686935,0.95811197450082997,0.57465477768928208,0.99667901224059341,2155.7657228227131,2155.7659547588496,-0.19528768872012547,-2.1493095569650973,6.4193097741057067E-2,0.25887702852755995,-3.1901315047449136E-4,-1.0764422202853325,2.1392058253298468E-2,6.7495067982558884E-4,3.8610334367030555E-2,7.8968775907183649E-4,0.96059997787389761,null,430,3.8610304595000002,7.8977246155794406E-2,3.8610304595000006E-2,7.897724615579441E-4,null,8.0608849558329677E-15]
[420,501.47875124652847,1010.6709245150012,1.3434560697960212,558.14585013738633,1124.8767389851964,0.87723042441541921,0.01,null,0.19835021335132777,6.9624648996756617,0.66779096129115489,2.1479727057641076E-2,1.925345107634997E-8,9.467600275620794E-4,0.24211283807407141,1.3288322835189759,0.95794389944573222,0.57437887701712942,0.99653686803030694,1529.7097388197451,1529.7100656791051,-0.19491248410390458,-2.1487577568983589,6.4251157985526039E-2,0.2596430376937674,-4.4481782886303232E-4,-1.076242493753119,2.1479745492857544E-2,9.0652454886130257E-4,3.8712118303628099E-2,1.0574344744859947E-3,0.96023044722188589,null,420,3.8712160584999999,0.10574561816093161,3.8712160585000002E-2,1.0574561816093161E-3,null,2.2589136129493502E-15]
[410,471.14632138607351,952.12737121348755,1.3443464187912566,524.38585570269993,1059.7177641606118,0.87711354755347015,0.01,null,0.19893493076864965,6.5461081233496587,0.66834004587821783,2.1574839209455715E-2,4.4470324234249335E-8,1.4356922766452984E-3,0.24298018885992212,1.3277539137418597,0.95776160809490696,0.57408057215981956,0.99642370391471291,943.70668330594879,943.7072131314427,-0.19450737560433573,-2.1481611509084129,6.4383696099283308E-2,0.26082283351258101,-7.1099241336166458E-4,-1.0760047058139917,2.1574881781599567E-2,1.3744108948954877E-3,3.8840520395279382E-2,1.596015692700284E-3,0.9595634639120203,null,410,3.8840442895000002,0.1596020727470891,3.8840442895000001E-2,1.5960207274708909E-3,null,6.0316422192790655E-15]
[400,424.02548521950354,987.30971556052123,1.3453131250000001,471.9403650493075,1098.8757134188604,0.89093462874868845,0.01,null,0.20252007972396233,5.9178965269238528,0.66893447776760173,2.1678264132548981E-2,1.5696574703527838E-7,2.6908543678644883E-3,0.24844487187735889,1.3247149716740227,0.95756342305871633,0.57375734986287252,0.99700430886329761,454.0145958930716,454.01569717791597,-0.19406909061493136,-2.1475147228805,6.5723522450154379E-2,0.26812725551896216,-1.4475606399581196E-3,-1.075368387153016,2.1678414366572283E-2,2.5754528324735525E-3,3.9288825292348367E-2,2.9753624391482191E-3,0.95773581226850346,null,400,3.928876877,0.29754012924198553,3.9288768770000003E-2,2.9754012924198552E-3,null,4.7043525814297768E-15]
[null,null,null,null,null,null,null,null,null,null,null,null,null,null,null,null,null,null,null,null,null,null,null,null,null,null,null,null,null,null,null,null,null,null,null,3.9580742124999997,0.35811039423823093]
[null,null,null,null,null,null,null,null,null,null,null,null,null,null,null,null,null,null,null,null,null,null,null,null,null,null,null,null,null,null,null,null,null,null,null,3.9813249109999997,0.41540434445163299]
[null,null,null,null,null,null,null,null,null,null,null,null,null,null,null,null,null,null,null,null,null,null,null,null,null,null,null,null,null,null,null,null,null,null,null,4.0085914134999996,0.60455185741887085]
[null,null,null,null,null,null,null,null,null,null,null,null,null,null,null,null,null,null,null,null,null,null,null,null,null,null,null,null,null,null,null,null,null,null,null,4.0239868164999999,0.83618020024266038]
[null,null,null,null,null,null,null,null,null,null,null,null,null,null,null,null,null,null,null,null,null,null,null,null,null,null,null,null,null,null,null,null,null,null,null,4.0899450779999995,0.89540254966893973]

{"sheet":"Dilution3","index":6,"n_rows":44,"n_cols":41,"rows_kept":44,"cut":false,"hidden":false,"merged":[]}
["X=",5.5650000000000004,"g/L",null,null,null,null,null,null,null,null,null,null,null,null,null,null,null,null,null,null,null,null,null,null,null,null,null,null,null,null,null,null,null,"dilution 3",null,5.5650000000000004,"g/L"]
[]
["l (nm)","Abs,l (m2/kg)","Ssca,l (m2/kg)","n","k (1/m)","ss (1/m)","g","d (m)",null,"wtr","ttr","mc","R1","Ctr","Etr","c","k2","g","gbar","j","s","c","k1","k2","D1","D","A","B","R0dh","T0dh","Rdh","Tdh","Adh",null,"l (nm)","Rdh","Tdh","Rdh","Tdh",null,"error"]
[750,17.912454791599419,33.153743836881226,{"$f":"1.32711+0.0026/(A4/1000)^2+0.00005/(A4/1000)^4","v":1.3318902469135803},{"$f":"B4*B$1","v":99.682810915250769},{"$f":"C4*B$1","v":184.50058445224403},0.23682871225782656,0.01,null,{"$f":"F4*(1-G4)/(F4*(1-G4)+E4)","v":0.58549839540854398},{"$f":"(F4*(1-G4)+E4)*H4","v":2.4048835954085348},{"$f":"SQRT(1-1/D4^2)","v":0.66051526570572971},{"$f":"(D4-1)^2/(D4+1)^2","v":2.0256889936719542E-2},{"$f":"M4*EXP(-2*K4)","v":1.6508872681377009E-4},{"$f":"EXP(-K4)","v":9.0276003539497912E-2},{"$f":"J4/(1-J4)*(1-M4)/(1-M4*N4)","v":1.3839269398670213},{"$f":"4/(1+L4)^2*(1-J4)/(1-J4*L4)","v":0.98050358702242624},{"$f":"(1-M4)/(1+M4)","v":0.96029060889169604},{"$f":"R4/(1+L4)","v":0.5783088109602933},{"$f":"2*S4/SQRT(Q4)","v":1.1680601601880354},{"$f":"SINH(SQRT(Q4)*K4)","v":5.3633998688644509},{"$f":"COSH(SQRT(Q4)*K4)","v":5.4558279072323392},{"$f":"(1-2*S4)-(1+2*S4)*M4","v":-0.20030398772342176},{"$f":"(1-2*S4)*N4-(1+2*S4)","v":-2.1566434777243861},{"$f":"R4*(1-L4^2)*P4/2","v":0.37458378367117179},{"$f":"Y4*Q4/(Q4-1)","v":-18.838375241255424},{"$f":"(W4*(T4*U4+V4)*O4+X4)/((1+T4^2)*U4+2*T4*V4)","v":-9.3154097856710236E-2},{"$f":"(W4*O4+X4*(T4*U4+V4))/((1+T4^2)*U4+2*T4*V4)","v":-0.99483762218735117},{"$f":"M4+(1-M4)^2*N4/(1-M4*N4)","v":2.0415358567914519E-2},{"$f":"(1-M4)^2/(1-M4*N4)*O4","v":8.6655915196407585E-2},{"$f":"AC4+Z4*(1+AB4/SQRT(Q4)+N4)","v":0.10546243538143901},{"$f":"AD4+Z4*(AA4/SQRT(Q4)+(1+M4)*O4)","v":0.12378572011516603},{"$f":"1-AE4-AF4","v":0.77075184450339496},null,750,10.546313285,12.378509524689292,{"$f":"AJ4/100","v":0.10546313285},{"$f":"AK4/100","v":0.12378509524689292},null,{"$f":"(AJ4/100-AE4)^2+(AK4/100-AF4)^2","v":8.7692275230926879E-13}]
[740,19.149477903364453,78.968705365144174,{"$f":"1.32711+0.0026/(A5/1000)^2+0.00005/(A5/1000)^4","v":1.3320247325123082},106.56684453222319,439.46084535702738,0.67154488100295817,0.01,null,{"$f":"F5*(1-G5)/(F5*(1-G5)+E5)","v":0.57527862261545282},{"$f":"(F5*(1-G5)+E5)*H5","v":2.5091000878850624},{"$f":"SQRT(1-1/D5^2)","v":0.66060142328872185},{"$f":"(D5-1)^2/(D5+1)^2","v":2.0270971677790125E-2},1.3412135162423739E-4,8.1341406431026803E-2,1.3270316219306917,0.99371658792213136,0.960263553035415,0.57826251354986224,1.1601757018184997,6.057597124553495,6.1395832858101018,-0.20023988484650859,-2.1565460204479221,0.35910143795170224,-56.791604818689471,-8.3318746625499401E-2,-0.99843139363069322,2.0399710951298632E-2,7.8077304197091635E-2,0.10268565210665762,0.11166805768989801,0.78564629020344445,null,740,10.26855469,11.16677706942361,{"$f":"AJ5/100","v":0.10268554690000001},0.1116677706942361,null,{"$f":"(AJ5/100-AE5)^2+(AK5/100-AF5)^2","v":9.3434950763719938E-14}]
[730,21.903000196918246,85.916319954266669,1.3321650314014166,121.89019609585004,478.12432054549407,0.68911405117102997,0.01,null,{"$f":"F6*(1-G6)/(F6*(1-G6)+E6)","v":0.54944314241389935},2.7053232914684258,{"$f":"SQRT(1-1/D6^2)","v":0.66069126535245748},{"$f":"(D6-1)^2/(D6+1)^2","v":2.0285665600687893E-2},9.0651565305264564E-5,6.6848708735582088E-2,1.1947400275644806,1.0258898571641477,0.96023532176403803,0.57821423030140529,1.1417431204172324,7.7121384139103091,7.7767010303412727,-0.20017304724640536,-2.1564426410876223,0.32322506895580683,12.807846629688445,-6.6950932933796212E-2,-1.0069806525223746,2.0372676775185544E-2,6.4164194420111398E-2,9.5907211390888952E-2,9.1112516778650607E-2,0.8129802718304604,null,730,9.5907759665000007,9.1112364091816502,9.5907759665000009E-2,9.11123640918165E-2,null,3.2391777016410506E-13]
[720,30.067877703703086,71.687109978414213,1.3323114865302546,167.32773942110768,398.93876702987512,0.61423527422784352,0.01,null,0.4790936773447434,3.2122424348426968,0.66078500633681536,2.0301008077317603E-2,3.2915410524129135E-5,4.0266217587392801E-2,0.90106010612000664,1.1053600970612967,0.96020584530133246,0.5781638451922525,1.0998387943602657,14.627643109176869,14.661785120831965,-0.20010331624434446,-2.1563328359746103,0.24371180566913445,2.5568437452434418,-3.7230619467782396E-2,-1.0269745610116408,2.0332600642381269E-2,3.8647948749261529E-2,7.9723207669084736E-2,5.3149937862771945E-2,0.86712685446814342,null,720,7.9722921845000005,5.3149960739975999,7.9722921845000003E-2,5.3149960739976E-2,null,8.2218773879194039E-14]
[710,53.909894578712283,55.384071754279958,1.3324644667115881,300.00856333053389,308.21235931256797,0.46764293324611222,0.01,null,0.35355185264235334,4.6408759087146789,0.66088287659146805,2.0317038245697982E-2,1.8916762069620169E-6,9.6492420697110778E-3,0.5358028186146726,1.2231849159829973,0.96017504856994151,0.57811123355094862,1.0454309318064823,84.734223803528366,84.74012440152795,-0.20003052143223976,-2.1562227626242212,0.14488190294074188,0.79403824176688065,-7.0256860668958419E-3,-1.0541701676252824,2.0318853836309003E-2,9.2611374191578066E-3,5.7515102927846645E-2,1.2034566282044731E-2,0.93045033079010864,null,710,5.7509336470000001,1.2027879172443885,5.7509336469999998E-2,1.2027879172443886E-2,null,7.7969470910878283E-11]
[700,104.73619214967447,59.324069930783885,1.3326243690129114,582.85690931293846,330.13844916481236,0.41063730204795468,0.01,null,0.25027557270994683,7.7742819641041638,0.66098512381895591,2.0333798268192715E-2,3.593875226706087E-9,4.2040922992333537E-4,0.32703552238143391,1.3024665567713853,0.96014285069708516,0.57805626126832121,1.0130171897578499,3566.3686143890845,3566.3687545877137,-0.19995447961342663,-2.1561125230976916,8.8406721091420531E-2,0.3806926585355439,-1.909531665562981E-4,-1.0710850088637562,2.0333801717399611E-2,4.0348602081954698E-4,4.3741158261876883E-2,5.0309021805424446E-4,0.95575575152006886,null,700,4.3737649919999999,5.1438908648630467E-2,4.3737649919999996E-2,5.1438908648630463E-4,null,1.3997289057012639E-10]
[690,119.7758973732564,56.07242713361692,1.3327916214110298,666.55286888217188,312.04305699857815,0.42838640457461347,0.01,null,0.21110621001696689,8.4492092262065803,0.66109201467316836,2.0351333618480971E-2,9.326162683958304E-10,2.1406962910661302E-4,0.26215178739884826,1.3291404464671095,0.96010916446532413,0.57799878392301607,1.0027010814472517,8499.8774184454396,8499.877477269818,-0.1998749936299003,-2.155997567991518,7.0846587281550299E-2,0.28609387166119854,-8.460640013817472E-5,-1.0765448675630473,2.0351334513523538E-2,2.0544508690113606E-4,3.9295160760748515E-2,2.4693998768079777E-4,0.96045789925157066,null,690,3.9295215605,2.4675506747760659E-2,3.9295215605000003E-2,2.467550674776066E-4,null,3.7203373469489666E-14]
[680,157.11749979547196,40.927242070101556,1.3329666857437052,874.35888636180152,227.76010212011516,9.5353295213451185E-4,0.01,null,0.20650018262744591,11.019018117193637,0.66120383653268466,2.0369693401000276E-2,5.4699954312030085E-12,1.6387067239383685E-5,0.25493873192048683,1.3320425585519871,0.96007389570126112,0.57793864581071319,1.0015039841146371,166767.96768763891,166767.96769063707,-0.1997918510619337,-2.155877291622279,6.8876631020376347E-2,0.27630977248495914,-4.8627675837028731E-6,-1.0771286536238012,2.0369693406249698E-2,1.5726267562763451E-5,3.880711828529898E-2,1.9182224918983968E-5,0.96117369948978204,null,680,3.8795090915000001,2.7459980599027562E-2,3.8795090915000004E-2,2.745998059902756E-4,null,6.5382798356618545E-8]
[670,155.12253820814735,39.347840332442544,1.3331500609971028,863.25692512834007,218.97073145004276,0,0.01,null,0.20233333542995011,10.822276565783827,0.6613208994711951,2.0388930707148919E-2,8.1149240894017378E-12,1.9950096734683784E-5,0.24848471658395224,1.3346267934216363,0.96003694259399897,0.57787567886468072,1.000424900250541,134511.00793582454,134511.00793954168,-0.19970482278394758,-2.1557513577306251,6.7111903624913608E-2,0.26766937524480061,-5.9965851262340351E-6,-1.0776467326893557,2.0388930714936308E-2,1.9144867879534462E-5,3.8371736694764694E-2,2.3204389787466041E-5,0.9616050589154479,null,670,3.8497685195,2.6439699081632885E-2,3.8497685194999999E-2,2.6439699081632885E-4,null,7.4036895502590896E-8]
[660,135.08708478199938,33.978792884838647,1.3333422869735843,751.75962681182659,189.09198240412709,1.818576032496736E-7,0.01,null,0.20097957326675353,9.4085157482813901,0.66144353845046044,2.040910301318587E-2,1.3730646081272733E-10,8.2022599231934223E-5,0.24639890779498894,1.3353523190429055,0.9599981949339349,0.57780970145351662,1.0000388973420828,26346.567217162017,26346.567236139825,-0.19961366135818509,-2.1556194029284006,6.6526686527095841E-2,0.26490517610177006,-2.8639922578374056E-5,-1.0777887400608923,2.0409103144944922E-2,7.8708748873014658E-5,3.8240786990677879E-2,9.4314965485677604E-5,0.96166489804383637,null,660,3.8240489960000001,2.5475294830851612E-2,3.8240489959999999E-2,2.5475294830851615E-4,null,2.5740434559485041E-8]
[650,10.931731125953657,8.1158242279867761,1.3335439483911629,60.835083715932107,45.164561828746415,0.66116044547317809,0.01,null,0.20099575302867656,0.76138623726383647,0.66157211576501462,2.0430272625527268E-2,4.4559722657649481E-3,0.46701857952065318,0.24644084376111833,1.335174899799292,0.95995753326102151,0.57774051703981666,0.99998558991829134,0.99774764512312131,1.4126218047831254,-0.19951809924503366,-2.1561738532553445,6.6515069110302708E-2,0.26496390627004518,-0.49386657610968848,-1.09742501886573,2.4706420626588895E-2,0.44817167750774894,3.9203571256862947E-2,0.46119570136746402,0.49960072737567307,null,650,3.825983286,2.4317727777305391E-2,3.8259832860000002E-2,2.431772777730539E-4,null,0.21247812010681882]
[640,11.017350979410081,8.1347419150495242,1.333755679473877,61.311558200417103,45.269838757250604,0.65844119371853382,0.01,null,0.20140071131883144,0.76773870286898072,0.66170702377220791,2.0452507180033195E-2,4.4045058322618718E-3,0.46406126312753121,0.24705673793334146,1.3347357748938318,0.95991482790991878,0.57766791268104245,1.0000243844807506,1.007936471017117,1.4198365855289261,-0.19941784680568572,-2.1560200029108514,6.6657165801002019E-2,0.2657908431683037,-0.49029200484078594,-1.0970532140364646,2.4679069807241751E-2,0.44531306488536948,3.925180207513243E-2,0.45838207467577768,0.50236612324908991,null,640,3.8317862749999998,2.2701550067181386E-2,3.8317862750000001E-2,2.2701550067181386E-4,null,0.20990693049040779]
[630,11.149467409281772,8.1751578524770441,1.3339781691016692,62.046786132653068,45.494753449034754,0.65250969075712406,0.01,null,0.20305477067492392,0.77855772077586549,0.66184868794630025,2.0475880202931764E-2,4.3151503884922534E-3,0.45906763778191689,0.24959635066087513,1.3334723468622418,0.95986993793746522,0.57759165735098605,1.0003659487687435,1.0251527250274206,1.432109670950918,-0.19931259006916707,-2.1558529540426958,6.7316756331656041E-2,0.26918283897707773,-0.48424840788922385,-1.096307687515073,2.4616492613788229E-2,0.44049940032021145,3.9403872230596042E-2,0.45372109310362252,0.50687503466578143,null,630,3.8511101009999997,2.0216819096114037E-2,3.851110101E-2,2.0216819096114037E-4,null,0.20568021229438851]
[620,11.13863690688413,8.1856464602336096,1.3342121665993518,61.986514386810192,45.55312255120004,0.65097774663847929,0.01,null,0.20413349887318299,0.77885567867283545,0.66199757030132056,2.0500471742271591E-2,4.3177590979844721E-3,0.45893087532973459,0.2512561664642195,1.3325747114730706,0.95982270991551488,0.5775115000568255,1.0005639441836689,1.0252118769177943,1.4321520144779696,-0.19920198823142626,-2.1556923520827889,6.773731246674744E-2,0.27141278787111323,-0.4840665784398861,-1.0960827887510765,2.4643379979346351E-2,0.44034612874512097,3.952007468200993E-2,0.4536469595301047,0.50683296578788539,null,620,3.8643712995000001,2.0177583609786706E-2,3.8643712995000003E-2,2.0177583609786706E-4,null,{"$f":"(AJ17/100-AE17)^2+(AK17/100-AF17)^2","v":0.20561330262509803}]
[610,11.088593117497146,8.1916661705998965,1.3344584882572319,61.708020698871621,45.586622239388426,0.65010458389062509,0.01,null,0.20539330020607535,0.77658570856343323,0.66215417323446402,2.0526369080268288E-2,4.3428852833091525E-3,0.4599738179754943,0.25320105764829659,1.331548174528435,0.95977297656940042,0.5774271677227949,1.0008033889361991,1.0209689748665045,1.4291177864822624,-0.19908567084916223,-2.1555268500600531,6.8232911108250568E-2,0.27403380627318119,-0.48530033752066587,-1.0959315795048368,2.4693168270730211E-2,0.44132377609421031,3.9656042864791574E-2,0.45471069889118343,0.50563325824402494,null,610,3.8796905280000002,2.0716035093205465E-2,3.8796905280000002E-2,2.0716035093205464E-4,null,0.20657420466299936]
[600,11.007968002624912,8.2103891592555325,1.3347180246913581,61.25934193460764,45.690815671257042,0.64738518676782675,0.01,null,0.20823488970638646,0.77370600368953601,0.66231904385009621,2.0553667538660614E-2,4.3737789629559338E-3,0.46130031586551568,0.25761836810447902,1.3294713419796833,0.95972055523893951,0.57733836280677586,1.0014307481073923,1.015232871155723,1.4250255375519039,-0.19896323468510252,-2.1553532474220991,6.9392506524251288E-2,0.28001023766679889,-0.48684543431237221,-1.0955559251248281,2.4749877048846847E-2,0.44257215302406966,3.9931320305292263E-2,0.45616644709406878,0.50390223260063904,null,600,3.9122726920000002,2.146287819201758E-2,3.9122726920000003E-2,2.1462878192017579E-4,null,0.20789271444541729]
[590,10.925067901842691,8.2419676870188709,1.3349917491696419,60.798002873754584,45.86655017826002,0.64280975484364022,0.01,null,0.2122681203648282,0.77181087176403762,0.66249277883424973,2.0582471391278931E-2,4.3965408738826026E-3,0.46217536973071499,0.26394505296496373,1.326589992563467,0.95966524613494386,0.57724476061054952,1.0023551751803539,1.0107490455165078,1.4218346011447787,-0.19883424015444257,-2.1551687407157343,7.1063424995255531E-2,0.2886555944229382,-0.48782300724975686,-1.094947442365281,2.4800273129946548E-2,0.44338586491931481,4.0311819510043465E-2,0.45728422187570023,0.50240395861425635,null,590,3.9579502345000002,2.2036095130402011E-2,3.9579502345000003E-2,2.2036095130402011E-4,null,0.20890790925154604]
[580,10.629236766189846,8.25737493520732,1.3352807270519074,59.151702603846502,45.952291514428737,0.64058689082081888,0.01,null,0.21826865144091553,0.7566755857095544,0.66267602996110608,2.0612894900522122E-2,4.538359824245726E-3,0.46922373109075127,0.27348206362717709,1.3223731523617661,0.95960683035945527,0.5771460062378494,1.0037803247300183,0.98416932485723962,1.403064239438079,-0.19869820731389465,-2.1549922451463202,7.3594781801240544E-2,0.30188544826050173,-0.49617010963313946,-1.0945619717169066,2.4966492840411577E-2,0.45012108958624775,4.0875762990321633E-2,0.46443735140440473,0.49468688560527369,null,580,4.0258965490000005,2.6213754561752827E-2,4.0258965490000007E-2,2.6213754561752828E-4,null,0.21545900960000722]
[570,9.9283157850585724,8.2264563432689304,1.3355861265179871,55.251077343850959,45.780229550291601,0.64313474977398999,0.01,null,0.228212413853633,0.7158845041771994,0.66286951032674402,2.0645063497430071E-2,4.9318157506174805E-3,0.48875961063273482,0.28961817571309406,1.3154503798300372,0.95954506765224357,0.57704171114647385,1.006236269636102,0.91648499716141107,1.3564456310600701,-0.19855461132494706,-2.1548433333419212,7.7896401779412469E-2,0.3248335011145998,-0.51942452652462601,-1.0946439375893962,2.5375827656511071E-2,0.46883471834855761,4.1786534983613663E-2,0.48376663862848018,0.4744468263879062,null,570,4.138884783,4.1452907296548713E-2,4.1388847829999999E-2,4.1452907296548713E-4,null,0.23362941996683845]
[560,9.1125870754141829,8.1910637429071436,1.3359092307892544,50.711547074679935,45.583269729278257,0.64841661948348894,0.01,null,0.24013833154921105,0.66737867141095542,0.66307400142185724,2.067911512863823E-2,5.4431988783355577E-3,0.51305169371575909,0.30952865137231383,1.3070551306555005,0.95947969381928222,0.57693144923134387,1.0092697485667927,0.83920550721429876,1.3054753476564804,-0.1984028773113001,-2.154700404819017,8.3205636319719084E-2,0.35418510551826954,-0.54832393872610363,-1.0948218775008018,2.5900108264503223E-2,0.4921075696673739,4.2835790828955563E-2,0.50770903878650075,0.44945517038454363,null,560,4.2771644589999998,7.1383597615764016E-2,4.2771644589999998E-2,7.1383597615764019E-4,null,0.25704413978744101]
[550,9.0193942425346485,8.2317434241168854,1.3362514520866062,50.19292895970532,45.809652155210472,0.64171913039032702,0.01,null,0.24641635914618779,0.66605650970390762,0.66329036117473783,2.0715201797846184E-2,5.4671354618578312E-3,0.51373047965242968,0.32025526270989269,1.3024501852408572,0.95941041779066427,0.57681475236413815,1.0108478551355375,0.83548287713036606,1.3030854300382744,-0.19824237451651808,-2.1544694180415642,8.6038796945720128E-2,0.37051141803934862,-0.5488882027043126,-1.0937213884131636,2.5958771534940289E-2,0.49272267258088437,4.3414575464050684E-2,0.50880981064367459,0.44777561389227472,null,550,4.3522770405000006,7.3032877096715437E-2,4.3522770405000008E-2,7.3032877096715441E-4,null,0.2581447716061841]
[540,9.2594521011995106,8.2804743437711075,1.3366143476133756,51.528850943175279,46.080839723086214,0.63012825298634523,0.01,null,0.24855318520008873,0.68572851635409393,0.6635195331193201,2.0753491334700516E-2,5.2659283609531697E-3,0.5037231253355986,0.32393701947133235,1.3006914689818057,0.95933691824543454,0.57669110530163137,1.011314194276947,0.86425232386870898,1.3217155818527917,-0.19807240965131578,-2.1541899103361439,8.6974012554446228E-2,0.37622070401847602,-0.53675481768449451,-1.0923477527020318,2.5803666888262397E-2,0.48308485018454872,4.3662210601007889E-2,0.49946443548819164,0.45687335391080053,null,540,4.3795516489999997,5.9179039602636402E-2,4.3795516489999999E-2,5.9179039602636407E-4,null,0.24887393379171355]
[530,9.6841018413190518,8.4431132320253841,1.3369996379067386,53.89202674694053,46.985925136221269,0.61760240310485714,0.01,null,0.25003439996169136,0.71859331606926635,0.66376255687127572,2.0794169430399873E-2,4.9405961370076494E-3,0.48743744434543934,0.32649537277566354,1.2993721999562251,0.95925883972867321,0.57655993985858789,1.0115973290897711,0.91384784132828978,1.3546652269473722,-0.19789221929997691,-2.1538763832034054,8.7603259540482606E-2,0.38022648759336181,-0.51717656386703059,-1.0905530976561113,2.5531917417767717E-2,0.46742451859544826,4.3870704762980238E-2,0.48410501021481467,0.47202428502220506,null,530,4.3993060590000006,4.1512776973091498E-2,4.3993060590000008E-2,4.1512776973091496E-4,null,0.23395591735068735]
[520,11.126391969904573,8.1882907566150056,1.3374092279682084,61.91837131251895,45.567838060562508,0.58191399847240766,0.01,null,0.23528909944041432,0.8096964652551637,0.66402058012916121,2.0837441987156344E-2,4.1262067955735986E-3,0.44499311659776414,0.30129829002564262,1.3092401280288208,0.95917578817133842,0.5764206282213693,1.0075343374621157,1.0648162645895523,1.4607647576986678,-0.19770096123142095,-2.1534719110737166,8.0786026553015866E-2,0.34202646474571607,-0.46693585283550632,-1.0893525933298303,2.4793821355982383E-2,0.42667798125523948,4.2605966826322852E-2,0.44247396522125687,0.51492006795242018,null,520,4.2311036585000004,1.5079220264211461E-2,4.2311036585000003E-2,1.5079220264211461E-4,null,0.19564987637310263]
[510,11.939804309505469,8.6335781455975571,1.3378452316656964,66.445010982397946,48.045862380250412,0.61780795620756934,0.01,null,0.21652201306673513,0.84807757321275723,0.66429487245874363,2.0883537838246743E-2,3.829774939501747E-3,0.42823739617350098,0.270610314429506,1.3215040471130444,0.95908732570520572,0.57627247525451997,1.0025905887438864,1.1368691791852092,1.5140909915131429,-0.19749770443152243,-2.1531291633376473,7.2503797151497767E-2,0.29801821229665026,-0.4472792147958688,-1.0908849556036146,2.4555318193955636E-2,0.41057077339754983,4.0909596177909277E-2,0.42490411609474604,0.53418628772734467,null,510,4.0245041849999996,9.6249393645800145E-3,4.0245041849999996E-2,9.624939364580014E-5,null,0.18046216524359451]
[500,12.17504748460734,8.30590093769775,1.3383099999999999,67.75413925183986,46.222338718287979,0.6168773017971757,0.01,null,0.20721053664925126,0.85462966378835237,0.6645868411685113,2.0932711907206136E-2,3.7888167638089401E-3,0.42544071801530037,0.25591806998155225,1.3272455952578148,0.95899296464288664,0.57611470962349443,1.0001457948362047,1.1515546562678494,1.525148558787689,-0.19728141763829965,-2.1528061886225767,6.8512991579502067E-2,0.27787560049567489,-0.44404129793228625,-1.0919895553332053,2.4564856495365075E-2,0.40784822752110533,4.0106933745799253E-2,0.42144034348779436,0.53845272276640643,null,500,3.9269479509999998,8.828657511052624E-3,3.9269479509999997E-2,8.8286575110526234E-5,null,0.17753825719414662]
[490,12.160592824824622,8.2814736902940549,1.3388061539522351,67.673699070149027,46.086401086486418,0.62449101991831357,0.01,null,0.20364730263013395,0.84979556537771062,0.66489804964512667,2.0985248889339989E-2,3.8352270060655761E-3,0.42750231929109528,0.25037870968728265,1.3291600654787825,0.9588921604652596,0.57594647352109496,0.99913339924659317,1.1441509185190213,1.5195661632018265,-0.19705095611908557,-2.1524754909747168,6.6973310917101084E-2,0.27044061433887095,-0.44652713728830851,-1.092596244779412,2.466149434468241E-2,0.40978107839683964,3.9842632999906487E-2,0.4230767803688158,0.53708058663127767,null,490,3.8925089835,9.2619495211803994E-3,3.8925089835000003E-2,9.2619495211803993E-5,null,0.17891644223540637]
[480,12.106428640359599,8.2629032676895857,1.3393366227816359,67.372275383601178,45.983056684692549,0.6283474251099489,0.01,null,0.2023362229795227,0.84461996801782335,0.66523023859179553,2.1041467556900211E-2,3.8855136946144746E-3,0.42972063476823036,0.24834394295872531,1.3295800230914065,0.95878430362432354,0.57576681074151104,0.99866397099497162,1.1353368336398761,1.5129407542330995,-0.19680504637703711,-2.1521224074444887,6.6368958628529401E-2,0.2677432955983477,-0.44918625831087994,-1.092871769207769,2.4765492180944381E-2,0.41186065758946305,3.9784780629912399E-2,0.42503555403558002,0.53517966533450756,null,480,3.8824954030000001,9.7699134869287212E-3,3.8824954029999997E-2,9.7699134869287207E-5,null,0.18057310179471939]
[470,12.205259742895676,8.2826674163893959,1.3399046888331432,67.922270469214439,46.093044172206994,0.6269491352296398,0.01,null,0.20201587521678224,0.85117320457554668,0.66558535070354441,2.1101725811961649E-2,3.8459029776266355E-3,0.42691378082878334,0.24783580957352197,1.3293297257386447,0.95866870992665898,0.57557465279201492,0.9984246568339542,1.1466611258093664,1.5214571099582148,-0.19654226841105574,-2.1517306111484418,6.616903493767895E-2,0.26708935814649409,-0.44585703406634225,-1.092581454038285,2.4787330029803181E-2,0.409119845308274,3.9802777468213341E-2,0.42226541300868731,0.53793180952309938,null,470,3.883293986,9.0872022757243053E-3,3.8832939859999999E-2,9.087202275724305E-5,null,0.17823228364166704]
[460,12.260883880820108,8.2930508143795549,1.3405140401513718,68.231818796763903,46.150827782022226,0.62682641591201704,0.01,null,0.20153827736534144,0.85454088608808387,0.665965559425436,2.1166426639508261E-2,3.8317993809519357E-3,0.42547848934044724,0.24708564955196566,1.3291478020881358,0.95854460920897389,0.57536880266574064,0.9981358790669137,1.1524744546157697,1.5258431664302581,-0.19626103507556175,-2.1513152015942767,6.5900259114493653E-2,0.26611505227555377,-0.44416346871197504,-1.092419420521636,2.4838029520287266E-2,0.40769045867526338,3.9815093337684598E-2,0.42078926122267524,0.53939564543964014,null,460,3.8827573060000002,8.7548428693827608E-3,3.8827573060000002E-2,8.7548428693827611E-5,null,0.17699090634408843]
[450,123.28333197573069,31.235647475319489,1.3411688324950464,686.07174244494138,173.82637820015296,0,0.01,null,0.20214764287395892,8.5989812064509437,0.66637330257818927,2.1236025149157834E-2,7.2126200545975214E-10,1.8429345504037778E-4,0.24798426511111862,1.3282325812096598,0.95841113194952909,0.57514791581615532,0.9980963822875778,10067.72819286244,10067.728242526078,-0.19595956799098363,-2.150295831740713,6.6066161459822706E-2,0.26734466104186966,-7.1571782401638753E-5,-1.0761722270270102,2.1236025840111632E-2,1.7654924474261451E-4,3.8939504690384409E-2,2.1026280539182654E-4,0.96085023250422374,null,450,3.893214226,8.488044184448866E-3,3.8932142259999997E-2,8.4880441844488664E-5,null,1.5774942469882123E-8]
[440,125.16969702785492,31.844899264471351,1.3418737627211257,696.56936396001265,177.21686440678309,7.1455337164931702E-5,0.01,null,0.20280334443399214,8.7377356527599819,0.66681132180740998,2.1311036939514316E-2,5.4840805519214929E-10,1.6041671611838557E-4,0.24897419411613136,1.3272500411921373,0.95826729337347505,0.57491047777043902,0.99805355444826105,11769.634237166169,11769.634279648371,-0.19563586933775165,-2.1498209556230412,6.6250274562273115E-2,0.26869570228760015,-6.1460497576596283E-5,-1.0759576249471459,2.1311037464797147E-2,1.5365227789753774E-4,3.9061181144711951E-2,1.8333970605992965E-4,0.96075547914922821,null,440,3.9059325454999998,9.0209030349991427E-3,3.9059325454999995E-2,9.0209030349991431E-5,null,8.676766342496737E-9]
[430,135.2018690074687,34.178737440592286,1.3426341559833403,752.39840102656342,190.20467385689608,1.2128384965104087E-5,0.01,null,0.20178465097514606,9.4260076800795289,0.6672827090265393,2.1392048077254769E-2,1.3897162068965004E-10,8.0600340807516832E-5,0.24738695423742366,1.3272981067584226,0.95811197450082997,0.57465477768928208,0.99759159169220579,26014.458463485935,26014.458482706017,-0.19528768872012547,-2.1493095553993138,6.5742722305791104E-2,0.26660768592232531,-2.8584403271988309E-5,-1.0759504418430377,2.1392048210344211E-2,7.7188812382019233E-5,3.9010427354440345E-2,9.2522356597004278E-5,0.96089705028896266,null,430,3.9009349345,8.5802832204679436E-3,3.9009349345E-2,8.5802832204679439E-5,null,4.6314112412523413E-11]
[420,12.215735707322736,8.29344109094089,1.3434560697960212,67.980569211251037,46.152999671086057,0.62411983813988126,0.01,null,0.20330819747343704,0.85328566197948874,0.66779096129115489,2.1479727057641076E-2,3.898290948619564E-3,0.42601289552755395,0.24973001081957255,1.3256731250661062,0.95794389944573222,0.57437887701712942,0.99772356497856551,1.1483073626523022,1.5226981969916054,-0.19491248410390458,-2.1493376550403474,6.6272579787721039E-2,0.26976674214535745,-0.4448352856743466,-1.0916447328230663,2.5212660717745097E-2,0.40794232608941672,4.0259912361252113E-2,0.42111057388669076,0.53862951375205714,null,420,3.9233508109999997,8.8743961373028684E-3,3.9233508109999995E-2,8.8743961373028685E-5,null,0.17726043477935016]
[410,12.039976970612683,8.2585220400836246,1.3443464187912566,67.002471841459581,45.958675153065371,0.62448841312803571,0.01,null,0.20481741414692861,0.84260486878720275,0.66834004587821783,2.1574839209455715E-2,4.0000947435820762E-3,0.43058743754222167,0.25203747051296649,1.3240073232645824,0.95776160809490696,0.57408057215981956,0.99783251572367415,1.1287484494199957,1.5080030046614779,-0.19450737560433573,-2.1487538029342348,6.6783650071544812E-2,0.27290136802512854,-0.45027520640108631,-1.0916267586210484,2.5404523597183072E-2,0.41224373241476925,4.0495948240137712E-2,0.42549488829406412,0.53400916346579819,null,410,3.9459410904999999,9.9916806923460635E-3,3.9459410904999999E-2,9.9916806923460637E-5,null,0.18096195617619237]
[400,23.538795802385966,9.45136182060258,1.3453131250000001,130.99339864027792,52.596828531653358,0.34734931530157193,0.01,null,0.20764093532499711,1.6532075479442732,0.66893447776760173,2.1678264132548981E-2,7.9445018863281373E-4,0.19143488621538354,0.25637762970491673,1.3214445431224897,0.95756342305871633,0.57375734986287252,0.99823728395941558,3.2696324320773003,3.41913676838054,-0.19406909061493136,-2.1476318928067681,6.7822051525161811E-2,0.2788135054983516,-0.1794160548328381,-1.0775664715658442,2.2438656164414282E-2,0.18322805404543344,4.0117104828259212E-2,0.19424358772074096,0.76563930745099973,null,400,3.9828952549999999,1.1579265661241397E-2,3.9828952549999998E-2,1.1579265661241397E-4,null,3.7685683848195761E-2]
[null,null,null,null,null,null,null,null,null,null,null,null,null,null,null,null,null,null,null,null,null,null,null,null,null,null,null,null,null,null,null,null,null,null,null,4.0086629389999997,1.2326133848978651E-2]
[null,null,null,null,null,null,null,null,null,null,null,null,null,null,null,null,null,null,null,null,null,null,null,null,null,null,null,null,null,null,null,null,null,null,null,4.0417621134999999,1.2648020759337341E-2]
[null,null,null,null,null,null,null,null,null,null,null,null,null,null,null,null,null,null,null,null,null,null,null,null,null,null,null,null,null,null,null,null,null,null,null,4.0673210619999995,1.205852400685321E-2]
[null,null,null,null,null,null,null,null,null,null,null,null,null,null,null,null,null,null,null,null,null,null,null,null,null,null,null,null,null,null,null,null,null,null,null,4.1087934969999997,1.6562061736645046E-2]
[null,null,null,null,null,null,null,null,null,null,null,null,null,null,null,null,null,null,null,null,null,null,null,null,null,null,null,null,null,null,null,null,null,null,null,4.1574375630000002,1.7843092093437273E-2]

{"sheet":"Dilution2","index":7,"n_rows":39,"n_cols":41,"rows_kept":39,"cut":false,"hidden":false,"merged":[]}
["X=",11.13,"g/L",null,null,null,null,null,null,null,null,null,null,null,null,null,null,null,null,null,null,null,null,null,null,null,null,null,null,null,null,null,null,null,"dilution 2",null,11.13,"g/L"]
[]
["l (nm)","Abs,l (m2/kg)","Ssca,l (m2/kg)","n","k (1/m)","ss (1/m)","g","d (m)",null,"wtr","ttr","mc","R1","Ctr","Etr","c","k2","g","gbar","j","s","c","k1","k2","D1","D","A","B","R0dh","T0dh","Rdh","Tdh","Adh",null,"l (nm)","Rdh","Tdh","Rdh","Tdh",null,"error"]
[750,0.75499281370940319,11.044146340323143,{"$f":"1.32711+0.0026/(A4/1000)^2+0.00005/(A4/1000)^4","v":1.3318902469135803},{"$f":"B4*B$1","v":8.4030700165856587},{"$f":"C4*B$1","v":122.9213487677966},0.81345528315043603,0.01,null,{"$f":"F4*(1-G4)/(F4*(1-G4)+E4)","v":0.73181746970674943},{"$f":"(F4*(1-G4)+E4)*H4","v":0.31333398217240777},{"$f":"SQRT(1-1/D4^2)","v":0.66051526570572971},{"$f":"(D4-1)^2/(D4+1)^2","v":2.0256889936719542E-2},{"$f":"M4*EXP(-2*K4)","v":1.0824661629189977E-2},{"$f":"EXP(-K4)","v":0.73100572891327287},{"$f":"J4/(1-J4)*(1-M4)/(1-M4*N4)","v":2.6741129461402084},{"$f":"4/(1+L4)^2*(1-J4)/(1-J4*L4)","v":0.75306188267372098},{"$f":"(1-M4)/(1+M4)","v":0.96029060889169604},{"$f":"R4/(1+L4)","v":0.5783088109602933},{"$f":"2*S4/SQRT(Q4)","v":1.3328291175866895},{"$f":"SINH(SQRT(Q4)*K4)","v":0.27527149608664697},{"$f":"COSH(SQRT(Q4)*K4)","v":1.0371954476171696},{"$f":"(1-2*S4)-(1+2*S4)*M4","v":-0.20030398772342176},{"$f":"(1-2*S4)*N4-(1+2*S4)","v":-2.1583129546830455},{"$f":"R4*(1-L4^2)*P4/2","v":0.72379496089982398},{"$f":"Y4*Q4/(Q4-1)","v":-2.2072833543344119},{"$f":"(W4*(T4*U4+V4)*O4+X4)/((1+T4^2)*U4+2*T4*V4)","v":-0.66983542186877232},{"$f":"(W4*O4+X4*(T4*U4+V4))/((1+T4^2)*U4+2*T4*V4)","v":-0.90019989979683257},{"$f":"M4+(1-M4)^2*N4/(1-M4*N4)","v":3.0649724294468245E-2},{"$f":"(1-M4)^2/(1-M4*N4)*O4","v":0.70184378185773411},{"$f":"AC4+Z4*(1+AB4/SQRT(Q4)+N4)","v":8.9189784291804741E-2},{"$f":"AD4+Z4*(AA4/SQRT(Q4)+(1+M4)*O4)","v":0.75939136879590097},{"$f":"1-AE4-AF4","v":0.15141884691229424},null,750,16.39579582,6.4919812351215933,{"$f":"AJ4/100","v":0.1639579582},{"$f":"AK4/100","v":6.4919812351215939E-2},null,{"$f":"(AJ4/100-AE4)^2+(AK4/100-AF4)^2","v":0.48788102254026949}]
[740,0.85349377248760838,15.018512145781827,{"$f":"1.32711+0.0026/(A5/1000)^2+0.00005/(A5/1000)^4","v":1.3320247325123082},9.4993856877870826,167.15604018255175,0.85765018569369489,0.01,null,{"$f":"F5*(1-G5)/(F5*(1-G5)+E5)","v":0.71468189924540038},{"$f":"(F5*(1-G5)+E5)*H5","v":0.33294016967950596},{"$f":"SQRT(1-1/D5^2)","v":0.66060142328872185},{"$f":"(D5-1)^2/(D5+1)^2","v":2.0270971677790125E-2},1.0415650770219914E-2,0.71681308002906086,2.454602312000683,0.78401287961208177,0.960263553035415,0.57826251354986224,1.3061511486338684,0.29908884966822658,1.0437691986238447,-0.20023988484650859,-2.1581553371187945,0.66422774353831837,-2.4110840729503167,-0.66856767900141001,-0.91608023165678332,3.027074294873577E-2,0.68819193370106846,8.857801868840541E-2,0.74538392623030592,0.16603805508128866,null,740,15.52647352,5.1929103326912305,{"$f":"AJ5/100","v":0.1552647352},5.1929103326912307E-2,null,{"$f":"(AJ5/100-AE5)^2+(AK5/100-AF5)^2","v":0.48532670956707485}]
[730,1.0963246543063274,20.503744525124709,1.3321650314014166,12.202093402429425,228.20667656463803,0.89014378051463061,0.01,null,{"$f":"F6*(1-G6)/(F6*(1-G6)+E6)","v":0.67262051634263731},0.37272016151141002,{"$f":"SQRT(1-1/D6^2)","v":0.66069126535245748},{"$f":"(D6-1)^2/(D6+1)^2","v":2.0285665600687893E-2},9.6260617478426558E-3,0.6888579748489172,2.013274192327934,0.85460831038752649,0.96023532176403803,0.57821423030140529,1.2509363588882385,0.35141970186127269,1.0599508511512532,-0.20017304724640536,-2.1579342506236934,0.5446713717030981,-3.2015631837578313,-0.66551568269295125,-0.94951951525083,2.9526950968493594E-2,0.66132269771635999,8.5528489578347661E-2,0.71598085286487056,0.19849065755678175,null,730,13.643057345000001,3.2118121547447376,0.13643057345000001,3.2118121547447379E-2,null,0.47025925742740282]
[720,1.8463147977947456,22.958765458431962,1.3323114865302546,20.549483699455521,255.53105955234776,0.89512069458258825,0.01,null,0.56600332681665266,0.47349403737881035,0.66078500633681536,2.0301008077317603E-2,7.874915614524261E-3,0.62282229766270558,1.2778935563779372,1.0054251522450828,0.96020584530133246,0.5781638451922525,1.1532037685842873,0.49281560195972429,1.1148395478879127,-0.20010331624434446,-2.1575587577544968,0.34563481832402915,64.055334142855244,-0.63646845628045434,-1.0098569077613637,2.7860640285898644E-2,0.59788672439226842,7.5660386127140433E-2,0.64382963487518419,0.28050997899767538,null,720,10.065452580000001,0.92474509398962867,0.10065452580000001,9.2474509398962866E-3,null,0.40331925518606593]
[710,3.8823160774071757,34.245578266960877,1.3324644667115881,43.210177941541865,381.15328611127461,0.92839094952462675,0.01,null,0.38712621095500838,0.70504202845538522,0.66088287659146805,2.0317038245697982E-2,4.9598514939416267E-3,0.49408780807236147,0.61888627232289373,1.1942346534045056,0.96017504856994151,0.57811123355094862,1.0580265587658708,0.84900259984330939,1.3117947303372959,-0.20003052143223976,-2.1569973073387398,0.16734779609759151,1.0289231801207475,-0.51919323469110179,-1.0635400840219675,2.5077877839671584E-2,0.47426274807699176,5.7740351322332586E-2,0.50412943299727653,0.4381302156803909,null,710,6.2773115634999996,5.6870454162926444E-2,6.2773115635000001E-2,5.687045416292644E-4,null,0.25359873595940896]
[700,5.4171947604692763,19.555806982203222,1.3326243690129114,60.293377684023049,217.65613171192189,0.90492577627028226,0.01,null,0.25551659084993533,0.80986865446547229,0.66098512381895591,2.0333798268192715E-2,4.0250894408855606E-3,0.44491650018087386,0.33626196936892033,1.298752554001664,0.96014285069708516,0.57805626126832121,1.0144646027803734,1.0596781254316068,1.4570235857796687,-0.19995447961342663,-2.1567408894026947,9.0900884170549687E-2,0.39516902498799483,-0.46647018355307068,-1.086844086501136,2.4197177422290796E-2,0.42704172350885483,4.4090813303812926E-2,0.44468424016075953,0.51122494653542749,null,700,4.4365630149999999,1.4913452677325764E-2,4.4365630150000002E-2,1.4913452677325765E-4,null,0.19761153566531831]
[690,5.7270313004942599,16.957603955632905,1.3327916214110298,63.74185837450112,188.73813202619425,0.90796551448538743,0.01,null,0.21415275091152058,0.81112275252520938,0.66109201467316836,2.0351333618480971E-2,4.0184688169546982E-3,0.44435888098890891,0.26698778384903504,1.3271139837021302,0.96010916446532413,0.57799878392301607,1.0034663364842162,1.0764569184145141,1.469271757437157,-0.1998749936299003,-2.1566244392079423,7.2153516553331909E-2,0.29272958528854948,-0.46643224967830893,-1.0935435372248921,2.420821981363188E-2,0.42649121141560181,4.0239700938782728E-2,0.4406928684459786,0.51906743061523875,null,690,3.9628628495,1.396958970591242E-2,3.9628628494999998E-2,1.396958970591242E-4,null,0.19408747125244954]
[680,5.6391288397121988,16.34699940652829,1.3329666857437052,62.763503985996778,181.94210339465988,0.9081077844221711,0.01,null,0.21034880508240411,0.79482566973822499,0.66120383653268466,2.0369693401000276E-2,4.1553507418610313E-3,0.45165996605989944,0.26097789649978204,1.3295000993100528,0.96007389570126112,0.57793864581071319,1.0024611359354532,1.0502532797647861,1.4501834200047559,-0.1997918510619337,-2.156525016440805,7.0508228178116888E-2,0.28449368167496125,-0.47522510990573269,-1.0947259398122082,2.4357819425973301E-2,0.43348371220167842,3.9927910982447953E-2,0.44734146966212263,0.51273061935542941,null,680,3.9224710465000001,1.6649054997618713E-2,3.9224710465E-2,1.6649054997618714E-4,null,0.19996595643491633]
[670,5.6752227374347184,16.245944173254784,1.3331500609971028,63.165229067648418,180.81735864832575,0.90810565807938437,0.01,null,0.20827045630223276,0.79781321248460246,0.6613208994711951,2.0388930707148919E-2,4.1344971638945568E-3,0.45031262622427459,0.25771584032515726,1.3307250273810032,0.96003694259399897,0.57787567886468072,1.0018904798181456,1.05587109172231,1.4542571169964624,-0.19970482278394758,-2.156395311276166,6.9605088297943971E-2,0.28006720194305751,-0.4736436671679396,-1.094897703051817,2.4356885154801063E-2,0.43217347049221411,3.9759587415643151E-2,0.4458700928835333,0.51437031970082359,null,670,3.9012101884999999,1.608765246374258E-2,3.9012101884999997E-2,1.608765246374258E-4,null,0.19865726428187958]
[660,61.028199559803788,15.788000186777325,1.3333422869735843,679.24386110061619,175.72044207883164,1.507490073122671E-4,0.01,null,0.20550494974356517,8.5493781349724003,0.66144353845046044,2.040910301318587E-2,7.6547043647198291E-10,1.9366549591803538E-4,0.2533820418298367,1.332389024383458,0.9599981949339349,0.57780970145351662,1.0011503460290512,9655.9338412440356,9655.9338930256654,-0.19961366135818509,-2.1556194030261553,6.8412103849235684E-2,0.27423148665266001,-7.506462558485761E-5,-1.0771901318164021,2.0409103747730018E-2,1.8584108558512036E-4,3.872652227831741E-2,2.2220065128439141E-4,0.96105127707039817,null,660,3.8686552045,1.583918251247645E-2,3.8686552045000003E-2,1.5839182512476452E-4,null,5.6691858473174664E-9]
[650,5.7601270456643885,16.36471322269503,1.3335439483911629,64.110214018244648,182.13925816859569,0.90916074073118547,0.01,null,0.20513632513001406,0.80655609314051269,0.66157211576501462,2.0430272625527268E-2,4.0710687895342008E-3,0.446392757118106,0.25282580530636295,1.3324655984307698,0.95995753326102151,0.57774051703981666,1.0010017086621812,1.0714833247315085,1.465631780215511,-0.19951809924503366,-2.1561140080648395,6.8238387988646745E-2,0.27348785834206196,-0.46899516330641633,-1.0949681072853488,2.4337019508591327E-2,0.42837485747644882,3.9513449634546768E-2,0.44183558181222959,0.51865096855322368,null,650,3.870083213,1.455983942869488E-2,3.8700832130000001E-2,1.455983942869488E-4,null,0.19509070179895113]
[640,5.8303264916156214,18.101361134448116,1.333755679473877,64.891533851681871,201.46814942640754,0.91717434246067653,0.01,null,0.20454874574248033,0.81578265801154748,0.66170702377220791,2.0452507180033195E-2,4.0009833141300107E-3,0.44229302768035289,0.25190934986155278,1.3326772355886978,0.95991482790991878,0.57766791268104245,1.0007964375714795,1.0872644957916673,1.4772082059781242,-0.19941784680568572,-2.155957321407445,6.7966425206645004E-2,0.27226782589122511,-0.46409676488268875,-1.0946674138976979,2.429181801711254E-2,0.42442076884968355,3.9472890128341952E-2,0.43784915887812076,0.52267795099353731,null,640,3.8652946945000002,1.3121369614818915E-2,3.8652946945000002E-2,1.3121369614818915E-4,null,0.19159767184115223]
[630,5.9302821543064441,18.834127979610731,1.3339781691016692,66.004040377430726,209.62384441306745,0.91835438820321869,0.01,null,0.20590822905766673,0.83118907401728925,0.66184868794630025,2.0475880202931764E-2,3.8840152233897609E-3,0.43553109958715935,0.25401109264452115,1.3316031061642513,0.95986993793746522,0.57759165735098605,1.0010678354526004,1.113131790553997,1.4963496861168339,-0.19931259006916707,-2.1557860490586909,6.8507423220788621E-2,0.27510205984296549,-0.45600403471702489,-1.093848663445893,2.4202762978072577E-2,0.41791117174687692,3.9599687136484443E-2,0.43146859246791364,0.52893172039560188,null,630,3.8815529345000002,1.1106887536216484E-2,3.8815529345000002E-2,1.1106887536216484E-4,null,0.18606992806334055]
[620,65.243541926781063,29.44829761865503,1.3342121665993518,726.16062164507332,327.75955249563049,0.42200894837090841,0.01,null,0.20690424607111724,9.1560271007350327,0.66199757030132056,2.0500471742271591E-2,2.2852818100654118E-10,1.055815306923854E-4,0.25553359782619967,1.3307577645999589,0.95982270991551488,0.5775115000568255,1.0012467699618055,19324.055732459914,19324.055758334398,-0.19920198823142626,-2.1550230001490784,6.8890484979083677E-2,0.2771712643053213,-3.8354802103770921E-5,-1.0768402143295721,2.0500471961525945E-2,1.0129696100032501E-4,3.8939844394779016E-2,1.2194556629899884E-4,0.96093821003892199,null,620,3.8943940399999999,1.0641106316469733E-2,3.8943940400000002E-2,1.0641106316469733E-4,null,{"$f":"(AJ17/100-AE17)^2+(AK17/100-AF17)^2","v":2.5809804639996301E-10}]
[610,2.9694965931046542,12.776986152371176,1.3344584882572319,33.050497081254804,142.2078558758912,0.93889035043521984,0.01,null,0.20819626422025092,0.41740769319189275,0.66215417323446402,2.0526369080268288E-2,8.9075120366277315E-3,0.65875229636346777,0.25758913916284598,1.3297075637882287,0.95977297656940042,0.5774271677227949,1.0014958165391499,0.50012665970140824,1.1180906384296794,-0.19908567084916223,-2.1562337023024956,6.9415416342229086E-2,0.27995173387364802,-0.7307484467465255,-1.1174657657542297,2.9073519127259244E-2,0.63210183692887079,4.0225469741650477E-2,0.64289821836438077,0.31687631189396881,null,610,3.909832835,1.1009444839777692E-2,3.9098328350000003E-2,1.1009444839777692E-4,null,0.41317784269514579]
[600,2.9613958266070899,12.777791220075748,1.3347180246913581,32.960335550136911,142.21681627944309,0.93797863812031612,0.01,null,0.21111317189855203,0.41780816177980767,0.66231904385009621,2.0553667538660614E-2,8.9122173423442173E-3,0.65848853957823605,0.26215662136841866,1.3275740447316253,0.95972055523893951,0.57733836280677586,1.0021460880336619,0.50021065524415043,1.1181282125140133,-0.19896323468510252,-2.1560552382100218,7.0614937873163947E-2,0.28618433053068454,-0.73011573888017511,-1.1168233506734488,2.9104858768145808E-2,0.63181374601405504,4.0443237015784686E-2,0.64279008268638127,0.31676668029783406,null,600,3.9433362485000001,1.0961158198015283E-2,3.9433362484999998E-2,1.0961158198015284E-4,null,0.41303920778554282]
[590,2.9772079381273495,12.779686713646358,1.3349917491696419,33.136324351357402,142.23791312288398,0.93637865420628652,0.01,null,0.21451271907881489,0.42185691807124587,0.66249277883424973,2.0582471391278931E-2,8.8527307796221078E-3,0.65582786979710539,0.26752286300633116,1.3251028587389106,0.95966524613494386,0.57724476061054952,1.0029174780547432,0.50492510400836454,1.1202452234479101,-0.19883424015444257,-2.1558571753607421,7.2026699103506148E-2,0.29357719356209416,-0.7264105180565622,-1.1157681438303819,2.9076077998404792E-2,0.62922323819766612,4.0693787786598795E-2,0.64046307283275739,0.31884313938064379,null,590,3.9823757410000002,1.0085208751971117E-2,3.9823757410000001E-2,1.0085208751971117E-4,null,0.41006453071062871]
[580,2.9657674267270102,12.781492879519552,1.3352807270519074,33.008991459471623,142.25801574905262,0.93422374601331948,0.01,null,0.22086477899296161,0.4236619083502251,0.66267602996110608,2.0612894900522122E-2,8.83386851687523E-3,0.65464517456523696,0.27768159682278298,1.3206377671970537,0.95960683035945527,0.5771460062378494,1.0044396174035526,0.50633188249952787,1.1208800003727053,-0.19869820731389465,-2.1556550078271131,7.4724887831225065E-2,0.30777568681992168,-0.72428734309252196,-1.1143350687176128,2.9087876868926346E-2,0.6280494258596605,4.1141575573556077E-2,0.63970807067236579,0.31915035375407819,null,580,4.0544159410000002,9.790007516238871E-3,4.0544159410000002E-2,9.7900075162388704E-5,null,0.40910152723745608]
[570,2.9203678742114816,12.783640346217314,1.3355861265179871,32.503694439973792,142.28191705339873,0.9313630392235045,0.01,null,0.2310365635616301,0.42269492799972513,0.66286951032674402,2.0645063497430071E-2,8.8647822737392967E-3,0.6552785097475794,0.29430296147138685,1.3135341197789288,0.95954506765224357,0.57704171114647385,1.0069699801665597,0.50362146319277157,1.1196582416918246,-0.19855461132494706,-2.1554493382835673,7.9156433035323548E-2,0.33162156535054443,-0.72406084733949283,-1.1123694315586692,2.9149152488092321E-2,0.62861631436452348,4.1847414014372988E-2,0.64090073402167325,0.31725185196395378,null,570,4.1705029009999999,1.0163469877795563E-2,4.1705029009999998E-2,1.0163469877795563E-4,null,0.41062350596652319]
[560,2.8965292557955613,12.473220470792631,1.3359092307892544,32.238370617004598,138.826943839922,0.92454374179684606,0.01,null,0.2452457593100433,0.42713732336944504,0.66307400142185724,2.067911512863823E-2,8.8008614895757377E-3,0.65237395988617031,0.31827315344728563,1.3035202763954061,0.95947969381928222,0.57693144923134387,1.0106372785399236,0.50723141158057095,1.1212866292318029,-0.1984028773113001,-2.1552170245204425,8.5556280940891669E-2,0.36743623293933614,-0.71898130762491685,-1.1091009208365303,2.9121288462852848E-2,0.62578578865380163,4.2852155425186347E-2,0.63906060242790641,0.3180872421469072,null,560,4.3360130790000007,9.4453961750904439E-3,4.3360130790000007E-2,9.4453961750904432E-5,null,0.40827799692464434]
[550,2.8805571102067682,12.348535399633171,1.3362514520866062,32.060600636601329,137.4391989979172,0.92174858771270107,0.01,null,0.251190188469813,0.42815412061823466,0.66329036117473783,2.0715201797846184E-2,8.7983092810724403E-3,0.65171096496140513,0.32856350256819622,1.2991166513876629,0.95941041779066427,0.57681475236413815,1.0121439422308971,0.5076065088597399,1.1214563602016678,-0.19824237451651808,-2.1549811846255738,8.827086319217696E-2,0.3833760095712585,-0.71753011316215598,-1.1077436666581684,2.9154307202097066E-2,0.62510390925300174,4.3305708404678997E-2,0.63878346709344724,0.3179108245018738,null,550,4.4079661369999998,9.334022162603036E-3,4.4079661369999995E-2,9.3340221626030364E-5,null,0.40792567716673567]
[540,2.8934523787428734,12.268609563919011,1.3366143476133756,32.204124975408185,136.54962444641859,0.91996687221695128,0.01,null,0.25336958241069424,0.43132618517455718,0.6635195331193201,2.0753491334700516E-2,8.7588281158325985E-3,0.6496469710001862,0.33236844102846974,1.2973194092982701,0.95933691824543454,0.57669110530163137,1.0126276713871567,0.51128234548531848,1.1231249426510697,-0.19807240965131578,-2.1547256590219628,8.923776914996924E-2,0.38937885096022584,-0.71472604342850043,-1.1069775936013702,2.9154066440985664E-2,0.62307515346634279,4.3511525456433553E-2,0.6369471325123871,0.31954134203117934,null,540,4.4360229970000002,8.7401925185309516E-3,4.4360229970000005E-2,8.740192518530952E-5,null,0.4055910367429546]
[530,2.8874644929073088,12.259429905979905,1.3369996379067386,32.137479806058352,136.44745485355637,0.91954159931688562,0.01,null,0.25462447489129031,0.43115823800856951,0.66376255687127572,2.0794169430399873E-2,8.7789442500511572E-3,0.64975608653042372,0.33456329821917052,1.2961543752627709,0.95925883972867321,0.57655993985858789,1.0128522432929219,0.51081983211497428,1.1229144673045988,-0.19789221929997691,-2.1544641106047875,8.9767996395930888E-2,0.39288016995839076,-0.71471303027998345,-1.1066613429377017,2.921334489320283E-2,0.62312851576565609,4.3645379650788713E-2,0.63707309423485436,0.3192815261143569,null,530,4.4532651899999998,8.7787309755660899E-3,4.4532651899999998E-2,8.7787309755660905E-5,null,0.40575106849050641]
[520,3.0536086848840829,12.499219003726598,1.3374092279682084,33.986664662759843,139.11630751147703,0.92350455238090323,0.01,null,0.23845258464159871,0.44628428876966192,0.66402058012916121,2.0837441987156344E-2,8.5350642707347716E-3,0.64000180087213854,0.30664587688888928,1.3070780941606277,0.95917578817133842,0.5764206282213693,1.008367272894749,0.53265356344949089,1.133013600384144,-0.19770096123142095,-2.1541457663896972,8.2219855780164927E-2,0.34996886602756155,-0.70416545245197426,-1.1086475298897254,2.9021969970321488E-2,0.61371683708049707,4.2608868401828863E-2,0.62681208157948576,0.33057905001868537,null,520,4.2671079635,6.1441991776942373E-3,4.2671079634999998E-2,6.1441991776942375E-5,null,0.39281636809383963]
[510,3.1598260738530608,12.784720078176814,1.3378452316656964,35.168864201984569,142.29393447010796,0.93108906532127422,0.01,null,0.2180260832033383,0.4497447222543306,0.66429487245874363,2.0883537838246743E-2,8.4949489089023479E-3,0.63779094467673259,0.27304082713635952,1.3205081438906345,0.95908732570520572,0.57627247525451997,1.0029685852803703,0.54013293859460587,1.1365489832624216,-0.19749770443152243,-2.1538408120699253,7.3154997016674203E-2,0.3014019180734962,-0.70324532039532162,-1.1122099615835597,2.9028827420341838E-2,0.61153892659505549,4.1273795689235185E-2,0.62333325771865888,0.33539294659210594,null,510,4.0409827229999999,5.5061751557710682E-3,4.0409827230000001E-2,5.5061751557710685E-5,null,0.38847645600950276]
[500,3.2073851680501955,12.782051507975956,1.3383099999999999,35.698196920398679,142.2642332837724,0.93392729500170024,0.01,null,0.20843023995812415,0.45097979637966673,0.6645868411685113,2.0932711907206136E-2,8.4939445662431442E-3,0.63700371182911997,0.25784653477863245,1.3264505670827249,0.95899296464288664,0.57611470962349443,1.000445476179826,0.54307160391452558,1.1379484904767418,-0.19728141763829965,-2.153522447495424,6.9029269669647272E-2,0.28048324350255155,-0.70307068111190718,-1.1137987705812566,2.907622367453766E-2,0.61072299008524111,4.069289223194178E-2,0.62190956260286501,0.33739754516519316,null,500,3.9401446579999999,5.2756282453697741E-3,3.9401446579999999E-2,5.2756282453697741E-5,null,0.38670755539889345]
[490,3.193109759406954,12.780725968249174,1.3388061539522351,35.539311622199399,142.2494800266133,0.9353750412629962,0.01,null,0.20550903412359173,0.44732178399279532,0.66489804964512667,2.0985248889339989E-2,8.5777890093568874E-3,0.63933814638964426,0.25328494321581324,1.327953988044029,0.9588921604652596,0.57594647352109496,0.99958701389471849,0.5386137414054879,1.1358277873123275,-0.19705095611908557,-2.1531958526939272,6.7750693634453865E-2,0.27433666637572174,-0.70623377728010994,-1.1145343306877022,2.9208281520354245E-2,0.61289668401489106,4.0568494110812037E-2,0.62384296187215416,0.33558854401703386,null,490,3.9123045205000002,5.6805482497275239E-3,3.9123045205000005E-2,5.6805482497275236E-5,null,0.38911125822592074]
[480,3.1803982467099559,12.780220606343233,1.3393366227816359,35.397832485881814,142.24385534860019,0.93596885347865422,0.01,null,0.20464799855425209,0.44505869629469147,0.66523023859179553,2.1041467556900211E-2,8.639785392279142E-3,0.64078666312564725,0.25193666640560514,1.3280867399835956,0.95878430362432354,0.57576681074151104,0.99922525552284347,0.53568251169110903,1.1344407227051112,-0.19680504637703711,-2.1528428394523504,6.7329100079812326E-2,0.27254647668936011,-0.70810405073942495,-1.1147722044701214,2.9322996158963291E-2,0.61421584420810738,4.0582892291781893E-2,0.62506961541031558,0.3343474922979025,null,480,3.9070693255000002,5.9635395266051574E-3,3.9070693255000004E-2,5.9635395266051573E-5,null,0.39063976186433941]
[470,3.2040810554034369,12.780373976969628,1.3399046888331432,35.661422146640255,142.24556236367198,0.93572979406352985,0.01,null,0.20404960642384765,0.4480357373330246,0.66558535070354441,2.1101725811961649E-2,8.6130918555530241E-3,0.63888185169043787,0.25099568948785078,1.328018705803758,0.95866870992665898,0.57557465279201492,0.9989173576265945,0.53956270730765676,1.1362780976139459,-0.19654226841105574,-2.1524511684369281,6.7012683015855751E-2,0.27130799249112408,-0.70572604478460688,-1.1145208245756724,2.9356651065760068E-2,0.61231460434416407,4.0610598509321638E-2,0.62315741707979566,0.33623198441088264,null,470,3.9049627779999998,5.5789865823621856E-3,3.9049627779999999E-2,5.5789865823621855E-5,null,0.38825807446631755]
[460,3.2007299669721334,12.780184981831333,1.3405140401513718,35.624124532399847,142.24345884778273,0.93594579593108007,0.01,null,0.20367065605596096,0.44735416072904732,0.665965559425436,2.1166426639508261E-2,8.6512857874270124E-3,0.63931744704219318,0.25039412444804532,1.3277760396348741,0.95854460920897389,0.57536880266574064,0.99865134697068925,0.53861688611307446,1.1358292785476807,-0.19626103507556175,-2.1520416794341162,6.6782663063572834E-2,0.2705274613043635,-0.70627462841677624,-1.1145238671945685,2.9456872863493529E-2,0.61265192770093391,4.066415440854055E-2,0.62345113261953622,0.33588471297192324,null,460,3.9052197934999997,5.6537851478620817E-3,3.9052197934999998E-2,5.6537851478620817E-5,null,0.38862341918970333]
[450,3.1954490961556248,12.780107276585639,1.3411688324950464,35.565348440212105,142.24259398839817,0.93603480594091548,0.01,null,0.20371195365433994,0.44663923568147568,0.66637330257818927,2.1236025149157834E-2,8.6921521568221714E-3,0.63977467452064685,0.25044044450362929,1.3272272824601812,0.95841113194952909,0.57514791581615532,0.9984743111956329,0.53756061043018044,1.1353287673119483,-0.19595956799098363,-2.1516022258693948,6.672051888144051E-2,0.27061708392277206,-0.70681201177670083,-1.1144446575712201,2.9564460990493514E-2,0.6130038031461067,4.0751015239010271E-2,0.6237844701688704,0.33546451459211934,null,450,3.9106419089999997,5.7453836392700845E-3,3.9106419089999997E-2,5.7453836392700846E-5,null,0.38903809559950825]
[440,106.72122771139415,334.5540882169895,1.3418737627211257,1187.807264427817,3723.5870018550936,0.91821312276909195,0.01,null,0.20406807945646785,14.923478174071445,0.66681132180740998,2.1311036939514316E-2,2.3240000778168632E-15,{"$f":"EXP(-K35)","v":3.3022943249628779E-7},0.25092494963716189,1.3264379571602103,0.95826729337347505,0.57491047777043902,0.9983590264587342,14568686.733742634,14568686.733742667,-0.19563586933775165,-2.1498209555408785,6.6769356828332627E-2,0.27130855137905502,-6.9280623115050069E-8,-1.0757931518194459,2.1311036939516543E-2,3.1630434632402592E-7,3.9194978022251026E-2,3.9148732027471077E-7,0.96080463049042875,null,440,3.9194477795,5.3008354099837954E-3,3.9194477795000002E-2,5.3008354099837957E-5,null,2.7687848970009735E-9]
[430,3.1975908333669514,12.780163437424454,1.3426341559833403,35.589185975374171,142.24321905853418,0.93597502248670472,0.01,null,0.20375552132777294,0.44696304877015558,0.6672827090265393,2.1392048077254769E-2,8.7503453683365016E-3,0.63956754064537102,0.25046843073275116,1.3260361361079707,0.95811197450082997,0.57465477768928208,0.99806617601575853,0.53772175665987132,1.1354050764310408,-0.19528768872012547,-2.1506160655549196,6.6561620190477913E-2,0.27071573937815979,-0.70647046019738868,-1.114118785679473,2.9773591081242157E-2,0.61261157362668839,4.0938993761613092E-2,0.62337163445665011,0.33568937178173675,null,430,3.9219205380000002,5.7068361495214289E-3,3.9219205380000004E-2,5.7068361495214286E-5,null,0.38852400597846876]
[420,3.2330219790544041,12.780918217289477,1.3434560697960212,35.983534626875517,142.2516197584319,0.93505449599962076,0.01,null,0.20429381706125596,0.45222137766957182,0.66779096129115489,2.1479727057641076E-2,8.6942927739924701E-3,0.63621331071406606,0.25127740047413433,1.3250422155230606,0.95794389944573222,0.57437887701712942,0.99796106624422398,0.54438445411808356,1.1385756162352345,-0.19491248410390458,-2.150051097500234,6.6683221280139551E-2,0.27183571561947445,-0.702163939312481,-1.1134276027920695,2.9806084077217299E-2,0.60928925483830032,4.1067044866856861E-2,0.62013214709308118,0.33880080804006196,null,420,3.9336452485000004,5.0784126225737495E-3,3.9336452485000006E-2,5.0784126225737497E-5,null,0.38450389164882526]
[410,3.170191849204079,12.780481555617685,1.3443464187912566,35.284235281641401,142.24675971402485,0.93579750556120211,0.01,null,0.20561116972047694,0.44416832081118102,0.66834004587821783,2.1574839209455715E-2,8.8745811748963382E-3,0.64135745793379739,0.25329367689345,1.3234991602539059,0.95776160809490696,0.57408057215981956,0.99802405831312502,0.53351565189326144,1.1334191417190251,-0.19450737560433573,-2.1494760124218693,6.71165134634885E-2,0.2745869545329816,-0.70847347162530383,-1.1136767965705465,3.007224292259322E-2,0.61409920503191961,4.1282417659165668E-2,0.6249078654032747,0.33380971693755968,null,410,3.954257369,6.0778391685952955E-3,3.9542573689999999E-2,6.0778391685952952E-5,null,0.390436909203905]
[400,6.1574518240670786,21.171320528104328,1.3453131250000001,68.53243880186659,235.6367974778012,0.92353429804603504,0.01,null,0.20818040509867189,0.86550571927190934,0.66893447776760173,2.1678264132548981E-2,3.8393330519824373E-3,0.4208386725759995,0.25723582652754051,1.3210984957806553,0.95756342305871633,0.57375734986287252,0.99836801408355569,1.1671992390729993,1.5369951410764409,-0.19406909061493136,-2.1480810577880556,6.8049078622610656E-2,0.27997495033113301,-0.43869860812667938,-1.0901634167402445,2.5353247185233931E-2,0.402823867763349,4.0855025044601791E-2,0.41634172475274028,0.54280325020265785,null,400,3.9886249305000003,7.6282112424635529E-3,3.9886249305000003E-2,7.6282112424635532E-5,null,0.1732778572629716]

{"sheet":"Dilution1","index":8,"n_rows":110,"n_cols":41,"rows_kept":110,"cut":false,"hidden":false,"merged":[]}
["X=",55.65,"g/L",null,null,null,null,null,null,null,null,null,null,null,null,null,null,null,null,null,null,null,null,null,null,null,null,null,null,null,null,null,null,null,"dilution 1",null,55.65,"g/L"]
[]
["l (nm)","Abs,l (m2/kg)","Ssca,l (m2/kg)","n","k (1/m)","ss (1/m)","g","d (m)",null,"wtr","ttr","mc","R1","Ctr","Etr","c","k2","g","gbar","j","s","c","k1","k2","D1","D","A","B","R0dh","T0dh","Rdh","Tdh","Adh",null,"l (nm)","Rdh","Tdh","Rdh","Tdh",null,"error"]
[750,3.2544083218672401E-2,0.53059606689232708,{"$f":"1.32711+0.0026/(A4/1000)^2+0.00005/(A4/1000)^4","v":1.3318902469135803},{"$f":"B4*B$1","v":1.8110782311191191},{"$f":"C4*B$1","v":29.527671122558001},0.43476564851144839,0.01,null,{"$f":"F4*(1-G4)/(F4*(1-G4)+E4)","v":0.90210987064022741}," ",{"$f":"SQRT(1-1/D4^2)","v":0.66051526570572971},{"$f":"(D4-1)^2/(D4+1)^2","v":2.0256889936719542E-2},{"$f":"M4*EXP(-2*K4)","v":{"$error":"#VALUE!"}},{"$f":"EXP(-K4)","v":{"$error":"#VALUE!"}},{"$f":"J4/(1-J4)*(1-M4)/(1-M4*N4)","v":{"$error":"#VALUE!"}},{"$f":"4/(1+L4)^2*(1-J4)/(1-J4*L4)","v":0.35138114523547603},{"$f":"(1-M4)/(1+M4)","v":0.96029060889169604},{"$f":"R4/(1+L4)","v":0.5783088109602933},{"$f":"2*S4/SQRT(Q4)","v":1.9511945660605587},{"$f":"SINH(SQRT(Q4)*K4)","v":{"$error":"#VALUE!"}},{"$f":"COSH(SQRT(Q4)*K4)","v":{"$error":"#VALUE!"}},{"$f":"(1-2*S4)-(1+2*S4)*M4","v":-0.20030398772342176},{"$f":"(1-2*S4)*N4-(1+2*S4)","v":{"$error":"#VALUE!"}},{"$f":"R4*(1-L4^2)*P4/2","v":{"$error":"#VALUE!"}},{"$f":"Y4*Q4/(Q4-1)","v":{"$error":"#VALUE!"}},{"$f":"(W4*(T4*U4+V4)*O4+X4)/((1+T4^2)*U4+2*T4*V4)","v":{"$error":"#VALUE!"}},{"$f":"(W4*O4+X4*(T4*U4+V4))/((1+T4^2)*U4+2*T4*V4)","v":{"$error":"#VALUE!"}},{"$f":"M4+(1-M4)^2*N4/(1-M4*N4)","v":{"$error":"#VALUE!"}},{"$f":"(1-M4)^2/(1-M4*N4)*O4","v":{"$error":"#VALUE!"}},{"$f":"AC4+Z4*(1+AB4/SQRT(Q4)+N4)","v":{"$error":"#VALUE!"}},{"$f":"AD4+Z4*(AA4/SQRT(Q4)+(1+M4)*O4)","v":{"$error":"#VALUE!"}},{"$f":"1-AE4-AF4","v":{"$error":"#VALUE!"}},null,750,32.843528750000004,0.2462034949183648,{"$f":"AJ4/100","v":0.32843528750000006},{"$f":"AK4/100","v":2.462034949183648E-3},null,{"$f":"(AJ4/100-AE4)^2+(AK4/100-AF4)^2","v":{"$error":"#VALUE!"}}]
[740,4.4854658392715345E-2,0.36817307171296992,{"$f":"1.32711+0.0026/(A5/1000)^2+0.00005/(A5/1000)^4","v":1.3320247325123082},2.496161739554609,20.488831440826775,0.17690293208939253,0.01,null,{"$f":"F5*(1-G5)/(F5*(1-G5)+E5)","v":0.87106908145504036},{"$f":"(F5*(1-G5)+E5)*H5","v":0.19360458823413795},{"$f":"SQRT(1-1/D5^2)","v":0.66060142328872185},{"$f":"(D5-1)^2/(D5+1)^2","v":2.0270971677790125E-2},1.3762957164006061E-2,0.82398365269310558,6.6209861288951162,0.44049036725717922,0.960263553035415,0.57826251354986224,1.7425563358994054,0.12884817945668714,1.008266757038683,-0.20023988484650859,-2.1586792743427927,1.791672180415222,-1.4105464688546931,-0.58554084217480873,-0.70059082047850185,3.3485293824441986E-2,0.79113705728429762,9.2487598510378521E-2,0.84975647699812662,5.7755924491494803E-2,null,740,28.081440925000003,9.4653555210191531E-2,{"$f":"AJ5/100","v":0.28081440925000001},9.4653555210191527E-4,null,{"$f":"(AJ5/100-AE5)^2+(AK5/100-AF5)^2","v":0.75594530434096119}]
[730,6.9614577983208664E-2,0.62720493480644757,1.3321650314014166,3.8740512647655621,34.903954621978805,0.54880966747759308,0.01,null,{"$f":"F6*(1-G6)/(F6*(1-G6)+E6)","v":0.80256973778772456},0.19622378157003184,{"$f":"SQRT(1-1/D6^2)","v":0.66069126535245748},{"$f":"(D6-1)^2/(D6+1)^2","v":2.0285665600687893E-2},1.3700974277300123E-2,0.82182830407063256,3.983723996466829,0.60957883001413871,0.96023532176403803,0.57821423030140529,1.4811663380719504,0.1538027659026768,1.0117585140730536,-0.20017304724640536,-2.1585716829177675,1.0777570297730723,-1.6827414078810699,-0.67724389627595094,-0.81418673688524468,3.3440067223799788E-2,0.78904312629045714,8.2438781202943123E-2,0.83771107068088424,7.9850148116172637E-2,null,730,21.068001745,2.8878632369918458E-2,0.21068001745000001,2.8878632369918456E-4,null,0.71772189701217959]
[720,0.1225055005497076,0.74042133875918914,1.3323114865302546,6.8174311055912282,41.204447501948877,0.69612055350052537,0.01,null,0.64747057524424689,0.19338615805800113,0.66078500633681536,2.0301008077317603E-2,1.3789373063964118E-2,0.82416365524577606,1.7998607979087542,0.89353211398082844,0.96020584530133246,0.5781638451922525,1.2232799084710433,0.18382160202494707,1.0167548285457109,-0.20010331624434446,-2.1584833512274448,0.48681250233157125,-4.0855756659083005,-0.80206746799459994,-0.96554762165306962,3.3539893890026498E-2,0.79126211700642424,6.4852404846468287E-2,0.82236459179483656,0.11278300335869518,null,720,12.667161945,8.9846459524194726E-3,0.12667161944999999,8.9846459524194731E-5,null,0.67995737211045049]
[710,18.134758452579234,160.09549202992056,1.3324644667115881,1009.1993078860344,8909.3141314650784,0.91995167420198765,0.01,null,0.41406527913614383,17.223749881183863,0.66088287659146805,2.0317038245697982E-2,2.2258778920175387E-17,3.3099426493830936E-8,0.69231722336859769,1.1697268626553139,0.96017504856994151,0.57811123355094862,1.0690528418316056,61528563.109260485,61528563.109260499,-0.20003052143223976,-2.1562224671018972,0.18720363774798984,1.290173638013465,-1.1386000055818164E-8,-1.0421302073624787,2.0317038245698003E-2,3.176812471475208E-8,6.7328132087659143E-2,6.175733248221165E-8,0.93267180615500844,null,710,6.7328133579999996,2.2108299826665281E-3,6.7328133579999991E-2,2.2108299826665281E-5,null,4.8605003817490101E-10]
[700,0.25756466092395014,0.57595623100573023,1.3326243690129114,14.333473380417825,32.051964255468889,0.84078765366254804,0.01,null,0.26255022537469325,0.19436541814255168,0.66098512381895591,2.0333798268192715E-2,1.3784621746605743E-2,0.82335697971209576,0.34888300995326488,1.2937192976764318,0.96014285069708516,0.57805626126832121,1.0164360906071372,0.22287989739010894,1.0245366995186778,-0.19995447961342663,-2.1582644746097186,9.4312699519226897E-2,0.41541076922496351,-0.9323064229418242,-1.1296962090393996,3.3567241266051526E-2,0.7904350121607181,4.2113629001964983E-2,0.79892172725806843,0.15896464373996655,null,700,4.5216374395000001,2.5030754883825085E-3,4.5216374395000002E-2,2.5030754883825086E-5,null,0.63824555871267552]
[690,0.28057738530636533,0.57496498018855235,1.3327916214110298,15.614131492299231,31.996801147492938,0.8588115118879206,0.01,null,0.22440118839394832,0.20131711470736605,0.66109201467316836,2.0351333618480971E-2,1.3606018265814569E-2,0.81765310061347696,0.28351669803316903,1.3202266946458472,0.96010916446532413,0.57799878392301607,1.0060803469160207,0.23338397239531597,1.026872961262014,-0.1998749936299003,-2.1581200736035679,7.6620459819424822E-2,0.31588989331922335,-0.93235623123909361,-1.1381898991854162,3.3412802676076991E-2,0.78492843864126582,4.0685828417790622E-2,0.79214689238728897,0.16716727919492036,null,690,4.0766184330000002,1.590128395558063E-3,4.0766184330000003E-2,1.5901283955580629E-5,null,0.6274715135234219]
[680,0.27414703928396411,0.44239049915801598,1.3329666857437052,15.256282736152603,24.619031278143588,0.82102266758602882,0.01,null,0.22409365721144622,0.19662531280930862,0.66120383653268466,2.0369693401000276E-2,1.3746682922506703E-2,0.82149838057495406,0.28301151154719362,1.320296037843375,0.96007389570126112,0.57793864581071319,1.0059492511440151,0.22785761893115547,1.0256310713433829,-0.1997918510619337,-2.1580200873241653,7.6461035592797627E-2,0.31518092768895623,-0.93737893886528123,-1.1388666218719616,3.3565743826487006E-2,0.78859271837674827,4.0689355794827485E-2,0.79566534145155909,0.16364530275361344,null,680,4.0745489599999996,2.0073799500113509E-3,4.0745489599999997E-2,2.0073799500113509E-5,null,0.63305139508812069]
[670,0.27520986901677108,0.62420392351308795,1.3331500609971028,15.315429210783311,34.736948343503343,0.87475592301230176,0.01,null,0.22122400218518079,0.19666026243434739,0.6613208994711951,2.0388930707148919E-2,1.3758703646353607E-2,0.82146967001629756,0.27835255915143414,1.3220876223292291,0.96003694259399897,0.57787567886468072,1.0051579053953614,0.22805600369126028,1.0256751634019556,-0.19970482278394758,-2.1578942945028765,7.5178748940109105E-2,0.30858960899254373,-0.93785198251948854,-1.1395045285268866,3.3596008371795535E-2,0.78853458944383714,4.0610459703258814E-2,0.79549881457394189,0.16389072572279928,null,670,4.0436437129999998,2.06628170111189E-3,4.0436437129999996E-2,2.0662817011118901E-5,null,0.6327855202064786]
[660,17.902875910668666,160.85058545241469,1.3333422869735843,996.29504442871121,8951.3350804268775,0.9692045750670053,0.01,null,0.21672159910188754,12.719552119480792,0.66144353845046044,2.040910301318587E-2,{"$f":"M13*EXP(-2*K13)","v":1.8270958122931495E-13},2.9920490044880907E-6,0.27103837590467528,1.3249548930961248,0.9599981949339349,0.57780970145351662,1.003955072582257,1141561.4893152209,1141561.489315659,-0.19961366135818509,-2.1556194029070617,7.3179241060703296E-2,0.29837739199008834,-7.6825291009516138E-7,-1.0756825002716419,2.0409103013361199E-2,2.8711652143993404E-6,3.9950092887286993E-2,3.5830003395443825E-6,0.96004632411237345,null,660,3.9950113295,2.5550176344561583E-3,3.9950113294999999E-2,2.5550176344561584E-5,null,4.8255723811015363E-10]
[650,0.30157652286346232,0.62730818114056386,1.3335439483911629,16.782733497351678,34.909700280472379,0.8671821700624277,0.01,null,0.2164691074099252,0.21419364132375079,0.66157211576501462,2.0430272625527268E-2,1.3311528582324421E-2,0.80719206414825662,0.27070313375319266,1.3249616193891105,0.95995753326102151,0.57774051703981666,1.0038323153457789,0.24905731951480242,1.0305481785942365,-0.19951809924503366,-2.1575507243087939,7.3063528655268939E-2,0.29790093804724499,-0.92011039335041733,-1.1381459940179879,3.3206915783502239E-2,0.77475737664461786,4.0517152128044888E-2,0.78200554790928367,0.17747729996267148,null,650,3.9935606715,1.6622491064863531E-3,3.9935606715000002E-2,1.6622491064863531E-5,null,0.61150701767180804]
[640,0.28253746057063428,0.80350817599818813,1.333755679473877,15.723209680755797,44.715229994299172,0.90397681977002031,0.01,null,0.21450358521675034,0.20016908269523381,0.66170702377220791,2.0452507180033195E-2,1.3705090183573942E-2,0.81859233157825051,0.2675701098370476,1.3261018647858251,0.95991482790991878,0.57766791268104245,1.0032745543194967,0.23255442404589627,1.0266847423349188,-0.19941784680568572,-2.1574647168574121,7.2191777985883554E-2,0.29356977603350942,-0.93526090202819445,-1.1404667403798459,3.3606410445813008E-2,0.78567044794750251,4.0459093400887047E-2,0.79247230478116804,0.16706860181794492,null,640,3.9733918905000003,1.6303058518057187E-3,3.9733918905000006E-2,1.6303058518057187E-5,null,0.62798704054429799]
[630,0.30884079394276037,0.54406455014918276,1.3339781691016692,17.186990182914613,30.277192215802021,0.84475801209038037,0.01,null,0.21474989787675339,0.21887281690817381,0.66184868794630025,2.0475880202931764E-2,1.3216974945578323E-2,0.80342389359082866,0.26795239773801349,1.3257588542874221,0.95986993793746522,0.57759165735098605,1.0032718784986325,0.25468975395297305,1.031923868688299,-0.19931259006916707,-2.1572343686843598,7.2267427866044884E-2,0.29411075434791606,-0.91545993463113784,-1.1378219820941016,3.3160570975898328E-2,0.77106778909510354,4.0520204738905011E-2,0.77836220040796544,0.1811175948531295,null,630,3.9778437609999999,6.1829122929314348E-4,3.9778437610000002E-2,6.1829122929314345E-6,null,0.60583864019019718]
[620,0.28416890660660893,0.75175431022467409,1.3342121665993518,15.813999652657786,41.835127364003114,0.89639262642197981,0.01,null,0.21512486310644091,0.20148427322144113,0.66199757030132056,2.0500471742271591E-2,1.3701144250146725E-2,0.81751643435893184,0.26854450367852911,1.3253212695524972,0.95982270991551488,0.5775115000568255,1.0032982357257278,0.23403948861910634,1.0270221430101167,-0.19920198823142626,-2.1571469926002989,7.2398155288620855E-2,0.29494172087905929,-0.93368491009259136,-1.1400414026245984,3.3649307566179787E-2,0.78456143388296218,4.0555813657207743E-2,0.79141605909120516,0.16802812725158711,null,620,3.9832587239999997,1.4970460917570342E-3,3.9832587239999995E-2,1.4970460917570342E-5,null,{"$f":"(AJ17/100-AE17)^2+(AK17/100-AF17)^2","v":0.62631620614165484}]
[610,0.29081761435839004,0.7722367727277103,1.3344584882572319,16.184000239044405,42.974976402297074,0.89600372936967454,0.01,null,0.21639402892414533,0.20653237515309542,0.66215417323446402,2.0526369080268288E-2,1.3580644844435595E-2,0.8133999270835065,0.27055861441815232,1.3242786012816166,0.95977297656940042,0.5774271677227949,1.0035465640975079,0.23991581738265488,1.0283771678865627,-0.19908567084916223,-2.1569573571778973,7.2910445393194523E-2,0.2977493496719143,-0.9280686516197415,-1.1390015601872174,3.3558846176394569E-2,0.78056793628985743,4.0648211285563729E-2,0.78760136483547882,0.17175042387895745,null,610,3.9992126225,1.3832064591623406E-3,3.9992126225000001E-2,1.3832064591623407E-5,null,0.62029455222373997]
[600,0.29777927091849138,0.77907592884131938,1.3347180246913581,16.571416426614046,43.355575440019422,0.89246551642740124,0.01,null,0.2195676449255306,0.21233635841549381,0.66231904385009621,2.0553667538660614E-2,1.3441765354118753E-2,0.80869264123941842,0.27563459455307238,1.3219521024439216,0.95972055523893951,0.57733836280677586,1.0042747696047161,0.24656865065353162,1.0299495616218803,-0.19896323468510252,-2.1567558538649925,7.4245386854854808E-2,0.30485542571238039,-0.92135694772801124,-1.1374271348005738,3.3452119810917703E-2,0.77600546960567118,4.0820398625648513E-2,0.78331232818369056,0.17586727319066087,null,600,4.0359926225000002,1.5474963690912679E-3,4.0359926225000002E-2,1.5474963690912678E-5,null,0.61355417229918552]
[590,0.29741890397575599,0.51537943634111194,1.3349917491696419,16.55136200625082,28.680865632382879,0.83503715227780806,0.01,null,0.22230688630649167,0.21282639276106247,0.66249277883424973,2.0582471391278931E-2,1.34474167541603E-2,0.80829645115150595,0.28004818085728533,1.3198986453432815,0.95966524613494386,0.57724476061054952,1.0048927288951854,0.24695314444057925,1.0300416766078397,-0.19883424015444257,-2.1565670061971098,7.5398961533297421E-2,0.31109536922638781,-0.92032097384343536,-1.1366675467740588,3.3485594182789576E-2,0.77558006506517496,4.0972826330207907E-2,0.78300461904097229,0.17602255462881977,null,590,4.0683796404999999,9.7360560941806311E-4,4.0683796405E-2,9.7360560941806306E-6,null,0.61308107031880055]
[580,0.2959700231704907,0.51494383440600766,1.3352807270519074,16.470731789437806,28.656624384694325,0.83032103872228591,0.01,null,0.22792810366881203,0.21333158048758352,0.66267602996110608,2.0612894900522122E-2,1.3453693594379864E-2,0.80788821283217027,0.28921110826834462,1.3158806780035432,0.95960683035945527,0.5771460062378494,1.0062535729724273,0.2471664351660473,1.0300928340070579,-0.19869820731389465,-2.1563678099356069,7.7827511337341879E-2,0.32421013856618708,-0.91874979658253075,-1.1352251565588483,3.3521245448175863E-2,0.77514060963240183,4.1244464012425909E-2,0.78279890104138938,0.17595663494618474,null,580,4.1333444119999996,9.4818761825215809E-4,4.1333444119999993E-2,9.4818761825215809E-6,null,0.61275928267446145]
[570,0.28038195940000366,0.7338012276383622,1.3355861265179871,15.603256040610203,40.836038318074856,0.88011593452261161,0.01,null,0.23882272261722154,0.20498846332171433,0.66286951032674402,2.0645063497430071E-2,1.3701417688198365E-2,0.8146567147896332,0.30736386689345069,1.3082068593655878,0.95954506765224357,0.57704171114647385,1.0090181811705365,0.23661338778937499,1.0276117434523435,-0.19855461132494706,-2.1561945836206102,8.26693256010438E-2,0.3508960800970668,-0.92543384363361936,-1.1336583080732956,3.3790306059551162E-2,0.7815877425585267,4.1699843292254971E-2,0.78943592047754707,0.16886423623019797,null,570,4.2593252654999993,1.3203258505529317E-3,4.2593252654999997E-2,1.3203258505529317E-5,null,0.62318902464178427]
[560,0.29982788982306763,0.52945107032371197,1.3359092307892544,16.685422068653715,29.463952063514569,0.80827059284887692,0.01,null,0.25293151610614695,0.22334528130120471,0.66307400142185724,2.067911512863823E-2,1.3229295114388888E-2,0.79983863228730456,0.33165486655246512,1.2981467433839291,0.95947969381928222,0.57693144923134387,1.0127268283046043,0.25722653430346165,1.0325528993469391,-0.1984028773113001,-2.1558983961536056,8.9153472829357913E-2,0.38817895208657499,-0.90379196514285698,-1.1278316604528265,3.3370399153536894E-2,0.76731066687021876,4.2434247234736003E-2,0.77629117841344142,0.18127457435182259,null,560,4.426309109,5.4521305061874901E-4,4.4263091089999998E-2,5.4521305061874901E-6,null,0.60262287350047128]
[550,0.27049414645687714,0.71627783093522346,1.3362514520866062,15.052999250325213,39.860861291545184,0.86733946100036685,0.01,null,0.25996622920001283,0.20340962594251211,0.66329036117473783,2.0715201797846184E-2,1.3791446280309013E-2,0.81594394115531999,0.34411095686933357,1.2929218457189495,0.95941041779066427,0.57681475236413815,1.0145657987995076,0.2333580958741085,1.0268670804490665,-0.19824237451651808,-2.1557482777898072,9.2447794594706881E-2,0.40805346192826591,-0.92293684405273513,-1.1284985923341748,3.3944960716432604E-2,0.78271280713891012,4.2647584757753598E-2,0.79134905960174151,0.16600335564050483,null,550,4.5124368664999999,1.5085328151454376E-3,4.5124368664999998E-2,1.5085328151454376E-5,null,0.62621559329815812]
[540,0.27781894818276642,0.71121906106453103,1.3366143476133756,15.460624466370952,39.579340748241151,0.86168825166676211,0.01,null,0.26149084088475871,0.2093491228313715,0.6635195331193201,2.0753491334700516E-2,1.3653777782388106E-2,0.81111200848479281,0.34682924320401387,1.2915744915000056,0.95933691824543454,0.57669110530163137,1.0148772543982363,0.24017093230662087,1.0284367149830036,-0.19807240965131578,-2.1554764572226111,9.3120357166663781E-2,0.41249108362358361,-0.91644646655117412,-1.1272999358566067,3.3850133893712303E-2,0.77801500945399771,4.2812197462951673E-2,0.78690471161083386,0.17028309092621452,null,540,4.532912016,1.1523366698166248E-3,4.532912016E-2,1.1523366698166249E-5,null,0.61920722460488364]
[530,0.26799112330620073,0.74580843546317976,1.3369996379067386,14.913706011990071,41.504239433525953,0.87279538916110522,0.01,null,0.26145044106277204,0.2019323663729605,0.66376255687127572,2.0794169430399873E-2,1.388498303338177E-2,0.8171501929047128,0.3467441454116742,1.2913252274182798,0.95925883972867321,0.57655993985858789,1.0147443494629451,0.23148798264863416,1.0264437082035889,-0.19789221929997691,-2.1552459466491221,9.3036287486723948E-2,0.41239169762820144,-0.92409214350946489,-1.1281654669910153,3.4111547998648267E-2,0.78374589582619159,4.2813215714293307E-2,0.79238219595875004,0.16480458832695666,null,530,4.5348668100000005,1.5848008047731994E-3,4.5348668100000003E-2,1.5848008047731994E-5,null,0.62785085788353356]
[520,0.29927269636385001,0.52485234619352605,1.3374092279682084,16.654525552648252,29.208033065669724,0.81659711039780336,0.01,null,0.243366919674814,0.22011363216488586,0.66402058012916121,2.0837441987156344E-2,1.3417022004907636E-2,0.80242761119507744,"s",1.3036979821817174,0.95917578817133842,0.5764206282213693,1.0096736291056476,0.25397900949356805,1.0317486793126192,-0.19770096123142095,-2.1548919309436885,{"$error":"#VALUE!"},{"$error":"#VALUE!"},-0.90867810760392587,-1.1302537228502765,3.3704734205576292E-2,0.76955009491667037,{"$error":"#VALUE!"},{"$error":"#VALUE!"},{"$error":"#VALUE!"},null,520,4.3238615989999998,6.9252391640536935E-4,4.323861599E-2,6.9252391640536938E-6,null,{"$error":"#VALUE!"}]
[510,0.28675156066934093,0.76188172848410918,1.3378452316656964,15.957724351248823,42.398718190140677,0.89198840122842549,0.01,null,0.22298736020271073,0.20537277688831357,0.66429487245874363,2.0883537838246743E-2,1.3849036058994239E-2,0.81434369131545503,0.28106847585433925,1.3172065274654012,0.95908732570520572,0.57627247525451997,1.0042247835460121,0.23789414255959437,1.0279074000434887,-0.19749770443152243,-2.1546575510292572,7.5305820482065439E-2,0.31270894419388534,-0.92766264059022718,-1.1369083948409602,3.4164020971281253E-2,0.78091194296402,4.1434050891483033E-2,0.78812540498696448,0.17044054412155252,null,510,4.0955257415000004,1.1563607515873106E-3,4.0955257415000001E-2,1.1563607515873105E-5,null,0.62112365621706378]
[500,0.30489020910031689,0.53028393209624025,1.3383099999999999,16.967140136432633,29.51030082115577,0.84434177530388876,0.01,null,0.21305102841316348,0.21560661172501935,0.6645868411685113,2.0932711907206136E-2,1.3600409124235097E-2,0.80605233104766616,0.26513878489254755,1.3234250211519534,0.95899296464288664,0.57611470962349443,1.0015884067137466,0.25058535653141745,1.0309185326241728,-0.19728141763829965,-2.1542998016294925,7.0981511145547363E-2,0.29044972326077029,-0.9186107179258417,-1.1377209740736716,3.3973406145474248E-2,0.77287983715909414,4.1125333207071235E-2,0.77997043354772555,0.17890423324520321,null,500,3.9898376464999998,7.6422460976218072E-4,3.9898376464999996E-2,7.6422460976218078E-6,null,0.60834346123787375]
[490,0.30964361110632938,0.53620891384941372,1.3388061539522351,17.23166695806723,29.840026055719871,0.84558788464110712,0.01,null,0.21098000082047058,0.21839328503695415,0.66489804964512667,2.0985248889339989E-2,1.355876480092981E-2,0.80380925334266184,0.26185815462748036,1.3243896559800157,0.9588921604652596,0.57594647352109496,1.0009312051853623,0.25398601562212619,1.031750403989067,-0.19705095611908557,-2.1539524277860549,7.0043925172186258E-2,0.28596919862326503,-0.91599095142493814,-1.1377103741362082,3.3984615362692816E-2,0.77064623601678017,4.111995590740565E-2,0.77771881498978934,0.18116122910280497,null,490,3.9710353615000002,7.160678201932701E-4,3.9710353614999999E-2,7.1606782019327009E-6,null,0.60483740423068877]
[480,0.29948701254251192,0.81736881546971463,1.3393366227816359,16.666452247990787,45.486574580889616,0.90231277964122014,0.01,null,0.21049152675163899,0.21109909282440226,0.66523023859179553,2.1041467556900211E-2,1.3794872299203136E-2,0.80969382805747281,0.261076749729171,1.3242883218654893,0.95878430362432354,0.57576681074151104,1.0006572539536327,0.24532445811345704,1.0296524121025801,-0.19680504637703711,-2.1536240084404161,6.9771752011387217E-2,0.28492520437754321,-0.92365263530587971,-1.1386917746309466,3.4265757268265459E-2,0.77620332595285479,4.1188556266091136E-2,0.78306924226206576,0.17574220147184305,null,480,3.969571352,1.0817759622242921E-3,3.9695713520000002E-2,1.0817759622242922E-5,null,0.6131827247637136]
[470,0.31534310613456584,0.54341267020769979,1.3399046888331432,17.54884385638859,30.240915097058494,0.84669203584456509,0.01,null,0.20897766862413489,0.22185016984115982,0.66558535070354441,2.1101725811961649E-2,1.3540084246235288E-2,0.80103537460126917,0.25868592668986251,1.3248247922231455,0.95866870992665898,0.57557465279201492,1.000120737554361,0.25813591708450623,1.0327798176228362,-0.19654226841105574,-2.1531958799153976,6.9065879343596259E-2,0.28169090365562582,-0.91259039757019833,-1.1374655216993881,3.4080109107370769E-2,0.76780498080338488,4.1209098702711888E-2,0.77486931131684766,0.1839215899804405,null,470,3.9575152400000002,6.2734428549291983E-4,3.9575152400000001E-2,6.2734428549291983E-6,null,0.60041539724383275]
[460,0.29485606868000946,0.78148810846805561,1.3405140401513718,16.408740222042525,43.489813236247294,0.90060848816442352,0.01,null,0.20850245464416065,0.2073125850904001,0.665965559425436,2.1166426639508261E-2,1.398228410356233E-2,0.81276555188249111,0.25792830695568852,1.3246509957383452,0.95854460920897389,0.57536880266574064,0.99982863474396566,0.2408737374436154,1.0286010681454962,-0.19626103507556175,-2.1528452613543165,6.879210626826672E-2,0.28068767157160007,-0.92784103361643966,-1.1394097333384807,3.4567031046962057E-2,0.77895353549626678,4.1302404555519576E-2,0.78563556781585397,0.17306202762862644,null,460,3.9566509719999998,1.1543402489288545E-3,3.9566509719999997E-2,1.1543402489288545E-5,null,0.61720812106633094]
[450,0.30282529257505736,0.52253579012967499,1.3411688324950464,16.85222753180194,29.079116720716414,0.8477476609124408,0.01,null,0.20805679604132923,0.21279591071131168,0.66637330257818927,2.1236025149157834E-2,1.3875257493745826E-2,0.80832109005966368,0.25721354324551887,1.3244223204152732,0.95841113194952909,0.57514791581615532,0.99953107428256038,0.2473482497944422,1.0301364747820425,-0.19595956799098363,-2.1523812249964456,6.8524958509351946E-2,0.27974642570568214,-0.92205362933410073,-1.1386229492940345,3.4532147089477591E-2,0.77458279856859269,4.1382338855012114E-2,0.78137586310408758,0.17724179804090034,null,450,3.9567553999999996,9.3107096022185709E-4,3.9567553999999998E-2,9.3107096022185705E-6,null,0.61053698264491407]
[440,16.960347735876024,160.36019866129328,1.3418737627211257,943.84335150150071,8924.0450555009702,0.97203582775359143,0.01,null,0.20911193609913428,11.933968845682404,0.66681132180740998,2.1311036939514316E-2,9.1810203093319433E-13,6.563616273567237E-6,0.2587667626377137,1.3231834747532829,0.95826729337347505,0.57491047777043902,0.99958604694278064,457925.99502430297,457925.99502539483,-0.19563586933775165,-2.1498209555410157,6.8856007881454365E-2,0.28191148026913998,-1.8163309985059917E-6,-1.075133005068392,2.1311036940393702E-2,6.286842269747723E-6,3.9732041161697845E-2,7.7314929848780864E-6,0.96026022734531735,null,440,3.9732034205,4.3174160652114171E-4,3.9732034205000002E-2,4.3174160652114174E-6,null,1.1655969609045527E-11]
[430,15.248207672761414,131.51261092843848,1.3426341559833403,848.56275698917261,7318.6767981676012,0.9694221526065312,0.01,null,0.20869019985721546,10.723521392456624,0.6672827090265393,2.1392048077254769E-2,1.0373373884733154E-11,2.2020837529300113E-5,0.25808588372317981,1.3228594899912534,0.95811197450082997,0.57465477768928208,0.99926380961848948,113615.86056953881,113615.8605739396,-0.19528768872012547,-2.1493095553801131,6.8585947213585796E-2,0.28101875262823806,-6.8838089368966143E-6,-1.0750504986178906,2.1392048087189076E-2,2.1088773068573399E-5,3.9742715585442415E-2,2.572749367541353E-5,0.96023155692088213,null,430,3.9728109835000001,1.135905774308555E-3,3.9728109834999997E-2,1.135905774308555E-5,null,4.1977989712759014E-10]
[420,15.251062190116045,131.57169997840614,1.3434560697960212,848.72161087995789,7321.9651037983022,0.96917357667486703,0.01,null,0.21007386086310717,10.744316067414955,0.66779096129115489,2.1479727057641076E-2,9.9915852610654906E-12,2.1567649648358904E-5,0.26022880049832536,1.3213228807787805,0.95794389944573222,0.57437887701712942,0.99936463798990971,115533.54837815292,115533.54838248066,-0.19491248410390458,-2.1487577540357452,6.9058716201106873E-2,0.28397872449224182,-6.7551659093193747E-6,-1.0747202952505159,2.1479727067208038E-2,2.0651066046526388E-5,3.9950961809322449E-2,2.5238527554096485E-5,0.96002379966312346,null,420,3.9934830665000001,7.9084932119317616E-4,3.9934830665000004E-2,7.9084932119317614E-6,null,5.6054390745217272E-10]
[410,15.244916550115512,131.55126319524783,1.3443464187912566,848.3796060139282,7320.8277968155417,0.96905524306326907,0.01,null,0.21075155279900828,10.749208427620486,0.66834004587821783,2.1574839209455715E-2,9.9381090486287306E-12,2.1462390629958338E-5,0.26126706066455935,1.3201930910525341,0.95776160809490696,0.57408057215981956,0.99927291861443235,115572.84554778357,115572.84555210985,-0.19450737560433573,-2.1481611443211115,6.9229261502786521E-2,0.28544023993213702,-6.7382048949749827E-6,-1.0744711861689926,2.1574839218969626E-2,2.0546285554275497E-5,4.0088854739308351E-2,2.5130744844701452E-5,0.95988601451584699,null,410,4.0072515009999998,7.2904119735190624E-4,4.0072515009999997E-2,7.2904119735190625E-6,null,5.8526423082487105E-10]
[400,15.941008807088972,150.53796589186851,1.3453131250000001,887.11714011450124,8377.4378018824827,0.9711361824372281,0.01,null,0.21419091965308015,11.28921976471506,0.66893447776760173,2.1678264132548981E-2,3.3910391664518105E-12,1.2507028837203576E-5,0.26666481409142179,1.3172232834890527,0.95756342305871633,0.57375734986287252,0.99983551268539217,211827.94773314957,211827.94773550995,-0.19406909061493136,-2.1475146997262451,7.0543419806448363E-2,0.2929212321491001,-3.7486341217327305E-6,-1.0738456668610106,2.167826413579459E-2,1.1970645130291262E-5,4.052853570990482E-2,1.4756898752608271E-5,0.95945670739134259,null,400,4.0528542994999999,1.7130529888914846E-3,4.0528542995E-2,1.7130529888914844E-5,null,5.6341778438558144E-12]
[]
[]
[]
[]
[]
[]
[]
[]
[]
[]
[]
[]
[]
[]
[]
[]
[]
[]
[]
[]
[]
[]
[]
[]
[]
[]
[]
[]
[]
[]
[]
[]
[]
[]
[]
[]
[]
[]
[]
[]
[]
[]
[]
[]
[]
[]
[]
[]
[]
[]
[]
[]
[]
[]
[]
[]
[]
[]
[]
[]
[]
[]
[]
[]
[]
[]
[]
[]
[]
[]
[null,null,null,null,null,null,0]

{"sheet":"Dilution0","index":9,"n_rows":39,"n_cols":41,"rows_kept":39,"cut":false,"hidden":false,"merged":[]}
["X=",111.3,"g/L",null,null,null,null,null,null,null,null,null,null,null,null,null,null,null,null,null,null,null,null,null,null,null,null,null,null,null,null,null,null,null,"dilution 1",null,111.3,"g/L"]
[]
["l (nm)","Abs,l (m2/kg)","Ssca,l (m2/kg)","n","k (1/m)","ss (1/m)","g","d (m)",null,"wtr","ttr","mc","R1","Ctr","Etr","c","k2","g","gbar","j","s","c","k1","k2","D1","D","A","B","R0dh","T0dh","Rdh","Tdh","Adh",null,"l (nm)","Rdh","Tdh","Rdh","Tdh",null,"error"]
[750,9.148656890999262E-3,0.31428943612109761,{"$f":"1.32711+0.0026/(A4/1000)^2+0.00005/(A4/1000)^4","v":1.3318902469135803},{"$f":"B4*B$1","v":1.0182455119682179},{"$f":"C4*B$1","v":34.980414240278165},0.68672601763626895,0.01,null,{"$f":"F4*(1-G4)/(F4*(1-G4)+E4)","v":0.91498112324809233},{"$f":"(F4*(1-G4)+E4)*H4*B$1","v":13.33006619374323},{"$f":"SQRT(1-1/D4^2)","v":0.66051526570572971},{"$f":"(D4-1)^2/(D4+1)^2","v":2.0256889936719542E-2},{"$f":"M4*EXP(-2*K4)","v":5.3484062264025589E-14},{"$f":"EXP(-K4)","v":1.6248968944850706E-6},{"$f":"J4/(1-J4)*(1-M4)/(1-M4*N4)","v":10.544087214374613},{"$f":"4/(1+L4)^2*(1-J4)/(1-J4*L4)","v":0.31173697575179982},{"$f":"(1-M4)/(1+M4)","v":0.96029060889169604},{"$f":"R4/(1+L4)","v":0.5783088109602933},{"$f":"2*S4/SQRT(Q4)","v":2.0715510768522032},{"$f":"SINH(SQRT(Q4)*K4)","v":853.61740456589632},{"$f":"COSH(SQRT(Q4)*K4)","v":853.61799030820407},{"$f":"(1-2*S4)-(1+2*S4)*M4","v":-0.20030398772342176},{"$f":"(1-2*S4)*N4-(1+2*S4)","v":-2.1566176219205953},{"$f":"R4*(1-L4^2)*P4/2","v":2.8539397350692384},{"$f":"Y4*Q4/(Q4-1)","v":-1.292643234699679},{"$f":"(W4*(T4*U4+V4)*O4+X4)/((1+T4^2)*U4+2*T4*V4)","v":-2.6789591375794147E-4},{"$f":"(W4*O4+X4*(T4*U4+V4))/((1+T4^2)*U4+2*T4*V4)","v":-0.70212651523795266},{"$f":"M4+(1-M4)^2*N4/(1-M4*N4)","v":2.0256889936770883E-2},{"$f":"(1-M4)^2/(1-M4*N4)*O4","v":1.5597329421599896E-6},{"$f":"AC4+Z4*(1+AB4/SQRT(Q4)+N4)","v":0.35316200954645827},{"$f":"AD4+Z4*(AA4/SQRT(Q4)+(1+M4)*O4)","v":6.196436870815656E-4},{"$f":"1-AE4-AF4","v":0.64621834676646017},null,750,35.316062930000001,6.170363777458579E-2,{"$f":"AJ4/100","v":0.35316062930000003},{"$f":"AK4/100","v":6.1703637774585787E-4},null,{"$f":"(AJ4/100-AE4)^2+(AK4/100-AF4)^2","v":8.7031422575471193E-12}]
[740,1.2063832952296282E-2,0.18466910117465202,{"$f":"1.32711+0.0026/(A5/1000)^2+0.00005/(A5/1000)^4","v":1.3320247325123082},1.3427046075905762,20.553670960738771,0.51032962389352388,0.01,null,{"$f":"F5*(1-G5)/(F5*(1-G5)+E5)","v":0.88229352820638896},12.696245206199672,{"$f":"SQRT(1-1/D5^2)","v":0.66060142328872185},{"$f":"(D5-1)^2/(D5+1)^2","v":2.0270971677790125E-2},1.9013238631115792E-13,3.0626034404215174E-6,7.3437642630245081,0.4092902532868396,0.960263553035415,0.57826251354986224,1.8077540117813338,{"$f":"SINH(SQRT(Q5)*K5)","v":1684.7571751846654},1684.757471963313,-0.20023988484650859,-2.1565250270997542,1.9872595824006352,-1.3769300106409335,-1.6258589104614342E-4,-0.76806051358388749,2.0270971677972628E-2,2.9396980066208783E-6,0.29641232495531483,3.4856548696933173E-4,0.70323910955771585,null,740,29.641099929999999,3.4850317656592161E-2,{"$f":"AJ5/100","v":0.29641099929999998},3.4850317656592161E-4,null,{"$f":"(AJ5/100-AE5)^2+(AK5/100-AF5)^2","v":1.7612446001748535E-12}]
[730,1.8143155128510571E-2,0.46627819328866965,1.3321650314014166,2.0193331658032267,51.89676291302893,0.83434869441609261,0.01,null,{"$f":"F6*(1-G6)/(F6*(1-G6)+E6)","v":0.80978577601358381},11.815718963790497,{"$f":"SQRT(1-1/D6^2)","v":0.66069126535245748},{"$f":"(D6-1)^2/(D6+1)^2","v":2.0285665600687893E-2},1.1070982663481997E-12,7.387516337042595E-6,4.1708696433230603,0.59332056341802808,0.96023532176403803,0.57821423030140529,1.5013227692879545,4483.6047284948681,4483.6048400122791,-0.20017304724640536,-2.1564284606029838,1.1283874290350739,-1.6462486295737848,-7.7463213665038191E-5,-0.86211523075491903,2.0285665601750529E-2,7.0908349887405772E-6,0.21657329884693985,1.6023893840783117E-4,0.78326646221465224,null,730,21.657567974999999,1.5735671388727279E-2,0.21657567975,1.573567138872728E-4,null,1.397591756874294E-11]
[720,3.1510072964709493E-2,0.33772082416856053,1.3323114865302546,3.5070711209721663,37.588327729960788,0.8269319146575298,0.01,null,0.64972761209905194,11.143813479085418,0.66078500633681536,2.0301008077317603E-2,4.247410157862296E-12,1.4464495765408954E-5,1.8172642451560619,0.89013160721524776,0.96020584530133246,0.5781638451922525,1.2256142859504482,18410.615375392776,18410.615402551022,-0.20010331624434446,-2.1563276903851691,0.49151965285871263,-3.9821933086266648,-2.4945891380392115E-5,-0.96886855189737686,2.030100808139431E-2,1.3883169340751034E-5,0.12751235054118895,6.0405132744215043E-5,0.87242724432606689,null,720,12.751512524999999,5.2623737089433952E-3,0.12751512525,5.262373708943395E-5,null,6.824912732235667E-11]
[710,5.5704719514310178E-2,0.30450612818172734,1.3324644667115881,6.1999352819427225,33.891532066626255,0.87100741884504063,0.01,null,0.41353422087673503,11.766292620036877,0.66088287659146805,2.0317038245697982E-2,1.2240199137170396E-12,7.761828500354709E-6,0.69080318872302982,1.1702215953063706,0.96017504856994151,0.57811123355094862,1.0688268370900449,168594.1155060695,168594.11550903518,-0.20003052143223976,-2.1562224671020886,0.18679424046050408,1.2841534804811694,-3.7386281803297438E-6,-1.0422440527399641,2.0317038246872771E-2,7.4496377107847748E-6,6.723521264307479E-2,1.3181444132989928E-5,0.93275160591279227,null,710,6.7235147954999999,1.2018219431447531E-3,6.7235147955000005E-2,1.2018219431447531E-5,null,1.3572762532978743E-12]
[700,6.6659058978591854E-2,8.4438673046647053E-2,1.3326243690129114,7.4191532643172735,9.3980243100918166,0.71591619514672922,0.01,null,0.26462799662541464,11.229034482264474,0.66098512381895591,2.0333798268192715E-2,3.5875923155425284E-12,1.3282881164828706E-5,0.35253871936416448,1.292221595382689,0.96014285069708516,0.57805626126832121,1.0170249516152803,174828.65345680315,174828.65345966307,-0.19995447961342663,-2.1561125225372026,9.5300938594686524E-2,0.42142652308436757,-4.3481280563987273E-6,-1.0689567924372587,2.0333798271635891E-2,1.2748190297348411E-5,4.5469951294633021E-2,1.6847807095113642E-5,0.95451320089827185,null,700,4.5470323564999999,1.3822327707371537E-3,4.5470323564999998E-2,1.3822327707371538E-5,null,9.2921107517817435E-12]
[690,7.8348416404027343E-2,0.17796522802792217,1.3327916214110298,8.7201787457682425,19.807529879507737,0.87080760900125531,0.01,null,0.22687699641087358,12.553706071327868,0.66109201467316836,2.0351333618480971E-2,2.5385301466394901E-13,3.5317888064703918E-6,0.28748303430986422,1.3185464042141188,0.96010916446532413,0.57799878392301607,1.0067211923740362,910746.06812026829,910746.0681208173,-0.1998749936299003,-2.1559975678460717,7.7692363207927509E-2,0.32158889501653853,-9.3963998533673844E-7,-1.074388199038163,2.0351333618724595E-2,3.3894983668451014E-6,4.1045511008289438E-2,4.2852402094473737E-6,0.95895020375150108,null,690,4.1040771004999996,5.1920470334773433E-4,4.1040771004999997E-2,5.1920470334773431E-6,null,2.3289929800021109E-11]
[680,7.4893495222935133E-2,0.14258824198500875,1.3329666857437052,8.3356460183126799,15.870071332931474,0.84553553374620516,0.01,null,0.2272513445296952,12.005940033290075,0.66120383653268466,2.0369693401000276E-2,7.5990181031254284E-13,6.1078237092813239E-6,0.28809148063955264,1.318153723050685,0.96007389570126112,0.57793864581071319,1.0067663732340724,484550.88694234827,484550.88694338017,-0.1997918510619337,-2.155877291621545,7.7833487531087084E-2,0.32247462133509869,-1.7129081187640995E-6,-1.0743040746434349,2.0369693401729536E-2,5.8615290018149535E-6,4.1099556777215975E-2,7.3901552255623669E-6,0.95889305306755845,null,680,4.1100697514999993,8.2645985444971789E-4,4.1100697514999993E-2,8.2645985444971781E-6,null,2.0659338099161976E-12]
[670,7.1272787281972727E-2,0.19964541334375455,1.3331500609971028,7.9326612244835646,22.220534505159879,0.8973479529562729,0.01,null,0.2233270735020943,11.367786415140369,0.6613208994711951,2.0388930707148919E-2,2.7255906252854394E-12,1.1562003285500251E-5,0.28168057081880504,1.3206689146023329,0.96003694259399897,0.57787567886468072,1.0056976479855169,235803.44892763914,235803.44892975953,-0.19970482278394758,-2.1557513577297858,7.6077593751788797E-2,0.31332414397052122,-3.4237859533381829E-6,-1.0748137237433739,2.03889307097645E-2,1.1095335940842489E-5,4.0670928037049331E-2,1.3858376063936605E-5,0.95931521358688676,null,670,4.0668702124999996,1.1455699406355199E-3,4.0668702124999997E-2,1.14556994063552E-5,null,1.0727539572254271E-11]
[660,7.1007406055811295E-2,0.20949826463279933,1.3333422869735843,7.9031242940117972,23.317156853630564,0.90510831645413958,0.01,null,0.21872910640950538,11.258805891014893,0.66144353845046044,2.040910301318587E-2,3.3927305948647506E-12,1.2893259648561598E-5,0.27425191864005899,1.3236107577230298,0.9599981949339349,0.57780970145351662,1.0044647046994852,211063.80490750674,211063.80490987567,-0.19961366135818509,-2.1556194029075613,7.4046884314934655E-2,0.30286154065064735,-3.8258868632864932E-6,-1.0754090096272331,2.040910301644153E-2,1.237235036847422E-5,4.0172087937242369E-2,1.5349763273911121E-5,0.95981256229948375,null,660,4.017279029,1.7366728813753385E-3,4.0172790290000003E-2,1.7366728813753386E-5,null,4.5614493850670891E-12]
[650,7.7104609140335498E-2,0.14139366206280471,1.3335439483911629,8.5817429973193402,15.737114587590163,0.8476636645141804,0.01,null,0.21835481140691748,12.219713106925859,0.66157211576501462,2.0430272625527268E-2,4.9701124678649999E-13,4.9322607407035808E-6,0.27364559547251549,1.3237002414741812,0.95995753326102151,0.57774051703981666,1.0043104864481862,637875.39120661456,637875.3912073985,-0.19951809924503366,-2.1554810340797106,7.3857707256624869E-2,0.30202468952474237,-1.332138976672188E-6,-1.0754227195109767,2.0430272626004178E-2,4.7327845836173247E-6,4.0144593131037382E-2,5.9031821262985523E-6,0.9598495036868363,null,650,4.0146048069999996,7.1873227362952803E-4,4.0146048069999996E-2,7.18732273629528E-6,null,3.765864491174924E-12]
[640,7.7359245378831196E-2,0.14167613403355866,1.333755679473877,8.6100840106639112,15.768553717935079,0.84976085187826456,0.01,null,0.21577778315826182,12.219780692342788,0.66170702377220791,2.0452507180033195E-2,4.9748490115831844E-13,4.9319274030695276E-6,0.26952129378602252,1.3252529362894552,0.95991482790991878,0.57766791268104245,1.0035958409141859,643205.28896988265,643205.28897066007,-0.19941784680568572,-2.1553358253621622,7.2718217349905953E-2,0.29629257821345001,-1.3256028413625075E-6,-1.0757338288242315,2.0452507180510539E-2,4.7322498919628994E-6,3.9874887156650406E-2,5.8822495137232193E-6,0.96011923059383586,null,640,3.9876397849999998,7.2027387512203214E-4,3.9876397849999995E-2,7.202738751220321E-6,null,4.0258862228388765E-12]
[630,8.4643034467830572E-2,0.15795605180108802,1.3339781691016692,9.4207697362695431,17.580508565461095,0.8517717290441994,0.01,null,0.21667862287991624,13.385715011401501,0.66184868794630025,2.0475880202931764E-2,4.8368013207258843E-14,1.5369432580911097E-6,0.2709512896681156,1.3244733777850468,0.95986993793746522,0.57759165735098605,1.003758626541748,2450752.3466577465,2450752.3466579504,-0.19931259006916707,-2.1551833147019797,7.3076236475582368E-2,0.29829112767689697,-3.719039098341044E-7,-1.0755703237678056,2.0475880202978171E-2,1.4746471074255696E-6,3.9989629067519711E-2,1.8460970657973816E-6,0.96000852483541455,null,630,3.9985013010000001,1.9933631585069634E-4,3.9985013010000001E-2,1.9933631585069634E-6,null,2.1329674327334757E-11]
[620,7.7289011273314639E-2,0.14131648428496144,1.3342121665993518,8.6022669547199193,15.728524700916207,0.84849261269461929,0.01,null,0.2169260305801663,12.226588412454475,0.66199757030132056,2.0500471742271591E-2,4.9190823689315514E-13,4.8984662480171898E-6,0.27133955784217761,1.324120885713173,0.95982270991551488,0.5775115000568255,1.0037529034887247,644379.64004912542,644379.64004990144,-0.19920198823142626,-2.1550230001137276,7.3151686873174041E-2,0.2988442913846549,-1.3199337595457984E-6,-1.075493388612129,2.0500471742743536E-2,4.6996831854065186E-6,4.0033215438514055E-2,5.8507780072547218E-6,0.95996093378347869,null,620,4.003467917,7.3513841466764135E-4,4.0034679170000004E-2,7.3513841466764137E-6,null,{"$f":"(AJ17/100-AE17)^2+(AK17/100-AF17)^2","v":4.3943286486266709E-12}]
[610,7.712715420144732E-2,0.14112571726065953,1.3344584882572319,8.5842522626210869,15.707292331111406,0.84680754041359829,0.01,null,0.21893823886809896,12.2324164922008,0.66215417323446402,2.0526369080268288E-2,4.8682196811756697E-13,4.8700006266179524E-6,0.27455476947244445,1.3225796840649446,0.95977297656940042,0.5774271677227949,1.0041909091555847,643421.6703174382,643421.67031821539,-0.19908567084916223,-2.1548543354456653,7.3987333835631622E-2,0.30334875208519452,-1.3175257381981467E-6,-1.0751741890468449,2.0526369080735331E-2,4.6721256523163236E-6,4.027257926186481E-2,5.8322295699338376E-6,0.95972158850856526,null,610,4.0274035929999998,7.3285156103757249E-4,4.027403593E-2,7.3285156103757251E-6,null,4.3607539708989095E-12]
[600,7.5260956294285863E-2,0.1390957772457812,1.3347180246913581,8.3765444355540168,15.481360007455448,0.84578687801990549,0.01,null,0.2217981031595927,11.980302277114069,0.66231904385009621,2.0553667538660614E-2,8.0710676306080324E-13,6.2664391888052311E-6,0.27915549880894164,1.3204566185504398,0.95972055523893951,0.57733836280677586,1.0048433046570129,476180.70950256515,476180.70950361522,-0.19896323468510252,-2.1546767256136765,7.5193783404931491E-2,0.30983953278924636,-1.7476589414898081E-6,-1.074735726532801,2.0553667539434883E-2,6.0114898509262443E-6,4.0607836882054119E-2,7.5217588631638603E-6,0.95938464135908263,null,600,4.0608401299999999,8.6641604116394504E-4,4.0608401299999999E-2,8.6641604116394502E-6,null,1.6236489155917293E-12]
[590,7.1750812360417637E-2,0.19957576352096507,1.3349917491696419,7.9858654157144828,22.212782479883412,0.8953904346037096,0.01,null,0.22539033386302482,11.474512385078469,0.66249277883424973,2.0582471391278931E-2,2.2226071017870828E-12,1.0391604004978963E-5,0.28498384853022563,1.3178223674897076,0.95966524613494386,0.57724476061054952,1.0056840401530498,262809.59188956907,262809.59189147165,-0.19883424015444257,-2.1544895212214423,7.6727819360096927E-2,0.31814512414617901,-3.0680533571736799E-6,-1.0741918857074491,2.0582471393410986E-2,9.9682365003690001E-6,4.1027686576946908E-2,1.249204543098224E-5,0.95895982137762215,null,590,4.1026098730000005,1.0423719952357953E-3,4.1026098730000002E-2,1.0423719952357954E-5,null,6.7992282123243906E-12]
[580,7.301282487397015E-2,0.13919392459201285,1.3352807270519074,8.1263274084728767,15.492283807091031,0.8419037812726643,0.01,null,0.23159648101400823,11.770641573278892,0.66267602996110608,2.0612894900522122E-2,1.2310894836470473E-12,7.7281459661049574E-6,0.29518684062101042,1.3133893014049214,0.95960683035945527,0.5771460062378494,1.0072075052383715,360910.21661521896,360910.2166166043,-0.19869820731389465,-2.1542920124758886,7.9435597486628012E-2,0.33290818615037293,-2.2465928853781271E-6,-1.0732781771968087,2.0612894901702983E-2,7.4128306679932621E-6,4.1746979510313226E-2,9.3860182341728806E-6,0.95824363447145255,null,580,4.1746783260000004,9.9697127815019768E-4,4.1746783260000003E-2,9.9697127815019773E-6,null,3.7921351002163154E-13]
[570,7.3745089992876531E-2,0.13823074093976323,1.3355861265179871,8.207828516207158,15.385081466595647,0.82891781859442182,0.01,null,0.24281618328052165,12.064855239666354,0.66286951032674402,2.0645063497430071E-2,6.8456723960267222E-13,5.7583750083407798E-6,0.31406274474906859,1.305449121227154,0.95954506765224357,0.57704171114647385,1.0100833854259295,484903.05999859801,484903.0599996291,-0.19855461132494706,-2.1540834222930534,8.4471071916265933E-2,0.36101818253455831,-1.6682682306031636E-6,-1.0716388374295092,2.0645063498086664E-2,5.5230652997663337E-6,4.3054988454926404E-2,7.1177352917974458E-6,0.95693789380978178,null,570,4.3055408005000002,7.9369437623859687E-4,4.3055408005000004E-2,7.9369437623859695E-6,null,8.4712478254115286E-13]
[560,8.0248615810182777E-2,0.15693558847860573,1.3359092307892544,8.9316709396733422,17.466930997668818,0.82246179088726068,0.01,null,0.25771795670456954,13.39241578810482,0.66307400142185724,2.067911512863823E-2,4.8197820379564666E-14,1.5266789722625047E-6,0.34001708607506648,1.2947669016665242,0.95947969381928222,0.57693144923134387,1.0140477709177678,2075663.4591937659,2075663.4591940066,-0.1984028773113001,-2.1538628984626951,9.1401354546731817E-2,0.40148146879964081,-4.0620480463704091E-7,-1.0694199658835735,2.0679115128684453E-2,1.4641910791194105E-6,4.4833483818484246E-2,1.9464766849292494E-6,0.95516456970483077,null,560,4.4827396870000005,1.5047777622463846E-4,4.4827396870000008E-2,1.5047777622463845E-6,null,3.7246039788066054E-11]
[550,7.5274785168618227E-2,0.14135071263609644,1.3362514520866062,8.3780835892672076,15.732334316397534,0.80787350935917945,0.01,null,0.26512433576288669,12.688958811195141,0.66329036117473783,2.0715201797846184E-2,1.971512716857966E-13,3.0850002758353604E-6,0.35330089739135423,1.2892400248244351,0.95941041779066427,0.57681475236413815,1.0160134681067905,903917.87513114768,903917.87513170089,-0.19824237451651808,-2.1536295047283067,9.491673583809758E-2,0.423075799908538,-8.8957258172498258E-7,-1.0682614668993653,2.0715201798035252E-2,2.9585113033544038E-6,4.5749040299006262E-2,3.9592763271401252E-6,0.95424700042466659,null,550,4.5744149684999993,4.778440760671986E-4,4.5744149684999992E-2,4.7784407606719863E-6,null,2.458913572748679E-11]
[540,7.313482538567527E-2,0.13951983022075454,1.3366143476133756,8.1399060654256576,15.52855710356998,0.80932497837473927,0.01,null,0.26672890423547635,12.35520601200421,0.6635195331193201,2.0753491334700516E-2,3.8503089643068495E-13,4.3072710906291238E-6,0.35620297832739162,1.2878292165717879,0.95933691824543454,0.57669110530163137,1.0163519199742637,614065.75781783182,614065.75781864603,-0.19807240965131578,-2.1533822106033216,9.5637116003406908E-2,0.42790747112058419,-1.2856451378599472E-6,-1.0679595110716014,2.0753491335069731E-2,4.1303444376616524E-6,4.596662732223309E-2,5.5269321386682284E-6,0.95402784574562827,null,540,4.5964877604999996,5.8925860889269706E-4,4.5964877604999996E-2,5.8925860889269705E-6,null,3.1952132071281808E-12]
[530,7.205497253182136E-2,0.13733898468038355,1.3369996379067386,8.0197184427917172,15.285828994926689,0.8085699465365892,0.01,null,0.2673303188236541,12.182770566534199,0.66376255687127572,2.0794169430399873E-2,5.4465502599727869E-13,5.1178784678410797E-6,0.35728434464473158,1.287122755562045,0.95925883972867321,0.57655993985858789,1.0163995759611217,503017.65895540139,503017.65895639535,-0.19789221929997691,-2.1531198797172593,9.5864369860976656E-2,0.42974375769744894,-1.555041449761629E-6,-1.0678041720436044,2.0794169430922112E-2,4.9072473616363822E-6,4.6063371873726139E-2,6.5633222638937115E-6,0.95393006480400999,null,530,4.6064295770000001,7.322429795426895E-4,4.6064295769999999E-2,7.3224297954268946E-6,null,1.4298285692838671E-12]
[520,7.6777693523489024E-2,0.14291775710784532,1.3374092279682084,8.545357289164329,15.906746366103183,0.82157668005748286,0.01,null,0.24932020417423162,12.669826357025578,0.66402058012916121,2.0837441987156344E-2,2.0605020772032953E-13,3.1445921538700843E-6,0.32520524761823638,1.2995678627290337,0.95917578817133842,0.5764206282213693,1.0112767638372366,936847.95522142621,936847.95522195986,-0.19770096123142095,-2.1528412564427701,8.7196113084581417E-2,0.37826910165629746,-8.7716816900290033E-7,-1.0703853866117234,2.0837441987353898E-2,3.0149070194436973E-6,4.3932223523414152E-2,3.9381340924458562E-6,0.95606383834249331,null,520,4.3928611279999998,4.7224074470353936E-4,4.3928611280000002E-2,4.7224074470353936E-6,null,1.3663387177789226E-11]
[510,7.5553754281266067E-2,0.1425162656505054,1.3378452316656964,8.4091328515049124,15.86206036690125,0.84333275302352539,0.01,null,0.22810906207774484,12.125242574965482,0.66429487245874363,2.0883537838246743E-2,6.1369444110715554E-13,5.420933228439549E-6,0.28934830929586003,1.3137712451830494,0.95908732570520572,0.57627247525451997,1.0055368625740233,542958.92985947256,542958.9298603934,-0.19749770443152243,-2.1525449505091339,7.7524211032173579E-2,0.32459659966659771,-1.5194858345718568E-6,-1.0733011148682701,2.0883537838835075E-2,5.1968808891190757E-6,4.1527672045821182E-2,6.5629350864520385E-6,0.95846576501909231,null,510,4.1528179644999996,6.7218715607019375E-4,4.1528179644999996E-2,6.7218715607019372E-6,null,2.8291772918013175E-13]
[500,7.9896693523822851E-2,0.14784268156477418,1.3383099999999999,8.8925019892014827,16.454890458159365,0.84980080685889869,0.01,null,0.21748577845337261,12.648146757536596,0.6645868411685113,2.0932711907206136E-2,2.1616471775372495E-13,3.2135100087777843E-6,0.27211417434463414,1.3205008594545951,0.95899296464288664,0.57611470962349443,1.0026967690503803,1026046.6491415752,1026046.6491420625,-0.19728141763829965,-2.1522294192470217,7.2848924411164001E-2,0.30014605096219099,-8.3954326947672402E-7,-1.0746656470953679,2.0932711907413346E-2,3.0803831410917946E-6,4.0382483579472911E-2,3.8458118363955981E-6,0.95961367060869063,null,500,4.0379252435000001,4.1477461705734838E-4,4.0379252434999999E-2,4.1477461705734842E-6,null,1.0531458946986328E-11]
[490,8.0306988564134721E-2,0.14877493019894203,1.3388061539522351,8.9381678271881935,16.558649731142246,0.85272187547074974,0.01,null,0.21435786658126929,12.662483805916615,0.66489804964512667,2.0985248889339989E-2,2.1058160730577167E-13,3.1677664576151794E-6,0.26711845568473813,1.322173878139753,0.9588921604652596,0.57594647352109496,1.0017695641942967,1052747.156718628,1052747.156719103,-0.19705095611908557,-2.1518929470422217,7.1450992804515279E-2,0.29322872729086363,-8.2194518759853533E-7,-1.0749953368926581,2.0985248889541824E-2,3.036208745660488E-6,4.0076247967386985E-2,3.774974988971317E-6,0.95991997705762411,null,490,4.0072983505000002,4.345182421035539E-4,4.0072983505E-2,4.345182421035539E-6,null,1.0981851191625578E-11]
[480,7.6074620426849912E-2,0.13929302091875689,1.3393366227816359,8.4671052535083948,15.503313228257642,0.85146621587171045,0.01,null,0.21381553902422734,11.986866460650198,0.66523023859179553,2.1041467556900211E-2,8.1548524676585485E-13,6.2254398426849236E-6,0.26624355566236751,1.3221122809114407,0.95878430362432354,0.57576681074151104,1.0014803973312234,483945.91463378508,483945.91463481827,-0.19680504637703711,-2.1515336214831455,7.1152560921548369E-2,0.29204622172894412,-1.7219558622409969E-6,-1.0749711185546791,2.1041467557681739E-2,5.9662113338648783E-6,4.0055269242740825E-2,7.3852229718157838E-6,0.95993734553428733,null,480,4.0055470465000003,8.4194751261476304E-4,4.0055470465E-2,8.4194751261476304E-6,null,1.1101679163274066E-12]
[470,8.1851657763590518E-2,0.14667021100305494,1.3399046888331432,9.1100895090876239,16.324394484640013,0.84964596677068804,0.01,null,0.21223853996317063,12.871319730645977,0.66558535070354441,2.1101725811961649E-2,1.3945423512405427E-13,2.5707323703483081E-6,0.26373458340602773,1.3226979835873245,0.95866870992665898,0.57557465279201492,1.0009244777469013,1342411.8325258656,1342411.8325262382,-0.19654226841105574,-2.1511493055840507,7.0413807002699058E-2,0.28861723740512224,-6.5275473666593385E-7,-1.0750777100825388,2.1101725812095278E-2,2.4633832941090747E-6,3.99252799502074E-2,3.057186975024672E-6,0.96007166286281753,null,470,3.9921337364999996,3.7511863440732661E-4,3.9921337364999997E-2,3.751186344073266E-6,null,1.6025613241874415E-11]
[460,7.6826719896707529E-2,0.13987917592291196,1.3405140401513718,8.5508139245035473,15.568552280220102,0.85240026700853289,0.01,null,0.21181415386253019,12.074634357634165,0.665965559425436,2.1166426639508261E-2,6.8826137957689496E-13,5.7023376245008088E-6,0.26304812009708595,1.3224955769034212,0.95854460920897389,0.57536880266574064,1.0006430692654231,536412.70197125128,536412.70197218331,-0.19626103507556175,-2.1507376053315852,7.0157612574471354E-2,0.28770358095059478,-1.5611199428647593E-6,-1.0750231454940706,2.1166426640167695E-2,5.463496150207546E-6,3.9923463442230203E-2,6.7482473842450161E-6,0.96006978831038559,null,460,3.9925147294999999,8.0647755503729694E-4,3.9925147294999998E-2,8.0647755503729688E-6,null,4.568606562553185E-12]
[450,7.5355314567784187E-2,0.13886475321958347,1.3411688324950464,8.3870465113943791,15.455647033339639,0.85347295773678222,0.01,null,0.2126108211124513,11.855360751046206,0.66637330257818927,2.1236025149157834E-2,1.0706258391010469E-12,7.10039067313055E-6,0.26428584231032243,1.3214620014129073,0.95841113194952909,0.57514791581615532,1.000650015101564,414640.12914078584,414640.12914199167,-0.19595956799098363,-2.1502958316324712,7.0409108907757673E-2,0.28943689010208773,-1.991109580256434E-6,-1.0747985981571029,2.1236025150183472E-2,6.8020245777305549E-6,4.0056812845893852E-2,8.3994543418327656E-6,0.95993478769976437,null,450,4.0056517124999997,9.0689516277760141E-4,4.0056517124999996E-2,9.0689516277760142E-6,null,5.3567746294829518E-13]
[440,8.7801432004365187E-2,0.16249542558160465,1.3418737627211257,9.7722993820858459,18.085740867232598,0.85399744156061708,0.01,null,0.21272805987275373,13.815517431630514,0.66681132180740998,2.1311036939514316E-2,2.1310743971617774E-14,9.9999312635738332E-7,0.2644506856132634,1.3208345175766336,0.95826729337347505,0.57491047777043902,1.0004744783879027,3932125.1294545457,3932125.1294546733,-0.19563586933775165,-2.1498209555408812,7.036845963999018E-2,0.28969791387548144,-2.3441237904693613E-7,-1.074655527359367,2.1311036939534726E-2,9.5782550262096042E-7,4.0120531088219724E-2,1.1946068171316122E-6,0.95987827430496309,null,440,4.0115482804999996,1.5890943368573578E-4,4.0115482804999998E-2,1.5890943368573578E-6,null,2.5640783869786499E-11]
[430,8.3857215272679905E-2,0.15158141650650264,1.3426341559833403,9.3333080598492728,16.871011657173742,0.85127607264663274,0.01,null,0.21187567617255554,13.180625894356522,0.6672827090265393,2.1392048077254769E-2,7.6156359984017286E-14,1.8868045116834074E-6,0.26308440845288311,1.3207959332390748,0.95811197450082997,0.57465477768928208,1.0000441091135681,1895141.2708811138,1895141.2708813779,-0.19528768872012547,-2.1493095553785757,6.9914297870783876E-2,0.2878543981858333,-4.6774721354360165E-7,-1.0746310771772229,2.13920480773277E-2,1.806942724984889E-6,4.0084039026387366E-2,2.2445298041720332E-6,0.95991371644380852,null,430,4.0079720019999998,3.1053584238293957E-4,4.0079720020000001E-2,3.1053584238293956E-6,null,1.9394842086525077E-11]
[420,7.2928386426021174E-2,0.26206884186806217,1.3434560697960212,8.1169294092161568,29.168262099915321,0.92468410287375935,0.01,null,0.21300021895131524,11.479218482652565,0.66779096129115489,2.1479727057641076E-2,2.2977684995616498E-12,1.0342814995545233E-5,0.26483493058575586,1.3194270681966072,0.95794389944573222,0.57437887701712942,1.0000823464651853,266361.12006241648,266361.12006429367,-0.19491248410390458,-2.1487577540346008,7.0281076792571409E-2,0.29030337230233533,-3.0245355286093883E-6,-1.0743346431890457,2.1479727059841195E-2,9.9032652635946845E-6,4.0264886524885329E-2,1.2205917957298633E-5,0.95972290755715739,null,420,4.0264868739999997,0,4.0264868739999994E-2,0,null,1.4898474948245163E-10]
[410,7.6187729573954005E-2,0.13898919104236285,1.3443464187912566,8.4796943015810804,15.469496963014985,0.85034832709527952,0.01,null,0.21445983489089826,12.014534936414021,0.66834004587821783,2.1574839209455715E-2,7.911432311432475E-13,6.05555251092759E-6,0.26711924832907957,1.317791621837209,0.95776160809490696,0.57408057215981956,1.0001830135137224,488429.71465082921,488429.71465185285,-0.19450737560433573,-2.1481611443197561,7.0779945424287879E-2,0.29350433637926848,-1.6881939169284961E-6,-1.0739822955236908,2.1574839210213088E-2,5.7970760677858937E-6,4.0486927168250933E-2,7.1811207693096016E-6,0.95950589171097966,null,410,4.0487799644999996,8.721048967452093E-4,4.0487799644999996E-2,8.7210489674520923E-6,null,3.1325945330896098E-12]
[400,6.9758010838988707E-2,0.21326812555376068,1.3453131250000001,7.7640666063794432,23.736742374133563,0.90929857219606425,0.01,null,0.217097047974014,11.037646633644954,0.66893447776760173,2.1678264132548981E-2,5.6084964735578237E-12,1.6084626247304042E-5,0.27128619233845069,1.3153365149519636,0.95756342305871633,0.57375734986287252,1.0005523566827843,157270.47467900577,157270.47468218501,-0.19406909061493136,-2.1475146997265724,7.1765957646227924E-2,0.29935126490809166,-4.9721769795033155E-6,-1.0734608832219665,2.1678264137916948E-2,1.5394811618816481E-5,4.0841947459557708E-2,1.9016340272427276E-5,0.95913903620016983,null,400,4.083962917,1.9656855120802723E-3,4.0839629170000002E-2,1.9656855120802723E-5,null,5.7847257443551136E-12]

{"sheet":"comparison","index":10,"n_rows":39,"n_cols":42,"rows_kept":39,"cut":false,"hidden":false,"merged":[]}
["Direct measurements (single scattering)",null,null,null,null,"Retrieved by inverse method (multiple scattering)"]
[null,null,null,null,null,"dilution 0",111.3,"g/L",null,null,"dilution 1",55.65,"g/L",null,null,"dilution 2",11.13,"g/L",null,null,"dilution 3",5.5650000000000004,"g/L",null,null,"dilution 4",1.1130000000000002,"g/L",null,null,null,"dilution 5",0.55650000000000011,"g/L",null,null,null,"dilution 6",0.11130000000000002,"g/L"]
["l (nm)","Abs,l (m2/kg)","Ssca,l (m2/kg)","(1-g)Ssca,l (m2/kg)",null,"l (nm)","Abs,l (m2/kg)","Ssca,l (m2/kg)","g",null,"l (nm)","Abs,l (m2/kg)","Ssca,l (m2/kg)","g",null,"l (nm)","Abs,l (m2/kg)","Ssca,l (m2/kg)","g",null,"l (nm)","Abs,l (m2/kg)","Ssca,l (m2/kg)","g",null,"l (nm)","Abs,l (m2/kg)","Ssca,l (m2/kg)","g","(1-g)Ssca,l (m2/kg)",null,"l (nm)","Abs,l (m2/kg)","Ssca,l (m2/kg)","g","(1-g)Ssca,l (m2/kg)",null,"l (nm)","Abs,l (m2/kg)","Ssca,l (m2/kg)","g","(1-g)Ssca,l (m2/kg)"]
[750,0,1559.2771769999999,{"$f":"C4*(1-0.979)","v":32.744820717000025},null,{"$f":"Dilution0!A4","v":750},{"$f":"Dilution0!B4","v":9.148656890999262E-3},{"$f":"Dilution0!C4","v":0.31428943612109761},{"$f":"Dilution0!G4","v":0.68672601763626895},null,{"$f":"Dilution1!A4","v":750},{"$f":"Dilution1!B4","v":3.2544083218672401E-2},{"$f":"Dilution1!C4","v":0.53059606689232708},{"$f":"Dilution1!G4","v":0.43476564851144839},null,{"$f":"Dilution2!A4","v":750},{"$f":"Dilution2!B4","v":0.75499281370940319},{"$f":"Dilution2!C4","v":11.044146340323143},{"$f":"Dilution2!G4","v":0.81345528315043603},null,{"$f":"Dilution3!A4","v":750},{"$f":"Dilution3!B4","v":17.912454791599419},{"$f":"Dilution3!C4","v":33.153743836881226},{"$f":"Dilution3!G4","v":0.23682871225782656},null,{"$f":"Dilution4!A4","v":750},{"$f":"Dilution4!B4","v":44.774692783961932},{"$f":"Dilution4!C4","v":124.84239920892959},{"$f":"Dilution4!G4","v":0.80433132534369189},{"$f":"AB4*(1-AC4)","v":24.427746794124982},null,{"$f":"Dilution5_water!A4","v":750},{"$f":"Dilution5_water!B4","v":42.751003816635787},{"$f":"Dilution5_water!C4","v":1067.7685654317042},{"$f":"Dilution5_water!G4","v":0.97524810537256645},{"$f":"AH4*(1-AI4)","v":26.429295018051427},null,{"$f":"Dilution6!A4","v":750},{"$f":"Dilution6!B4","v":42.908031261783265},{"$f":"Dilution6!C4","v":120.03889303914312},{"$f":"Dilution6!G4","v":0.39978824952825059},{"$f":"AN4*(1-AO4)","v":72.048754115715198}]
[740,0,1592.386471,{"$f":"C5*(1-0.979)","v":33.440115891000033},null,{"$f":"Dilution0!A5","v":740},{"$f":"Dilution0!B5","v":1.2063832952296282E-2},{"$f":"Dilution0!C5","v":0.18466910117465202},{"$f":"Dilution0!G5","v":0.51032962389352388},null,{"$f":"Dilution1!A5","v":740},{"$f":"Dilution1!B5","v":4.4854658392715345E-2},{"$f":"Dilution1!C5","v":0.36817307171296992},{"$f":"Dilution1!G5","v":0.17690293208939253},null,{"$f":"Dilution2!A5","v":740},{"$f":"Dilution2!B5","v":0.85349377248760838},{"$f":"Dilution2!C5","v":15.018512145781827},{"$f":"Dilution2!G5","v":0.85765018569369489},null,{"$f":"Dilution3!A5","v":740},{"$f":"Dilution3!B5","v":19.149477903364453},{"$f":"Dilution3!C5","v":78.968705365144174},{"$f":"Dilution3!G5","v":0.67154488100295817},null,{"$f":"Dilution4!A5","v":740},{"$f":"Dilution4!B5","v":47.013137191292159},{"$f":"Dilution4!C5","v":147.22315582834804},{"$f":"Dilution4!G5","v":0.8321869202378176},{"$f":"AB5*(1-AC5)","v":24.70597119186278},null,{"$f":"Dilution5_water!A5","v":740},{"$f":"Dilution5_water!B5","v":45.078453431869335},{"$f":"Dilution5_water!C5","v":1707.1708777740816},{"$f":"Dilution5_water!G5","v":0.98452361423897772},{"$f":"AH5*(1-AI5)","v":26.420835064414707},null,{"$f":"Dilution6!A5","v":740},{"$f":"Dilution6!B5","v":44.333783689391403},{"$f":"Dilution6!C5","v":197.96553795236721},{"$f":"Dilution6!G5","v":0.63932257817402238},{"$f":"AN5*(1-AO5)","v":71.401699839052526}]
[730,3.4026486600000001,1629.998889,34.229976669000031,null,{"$f":"Dilution0!A6","v":730},{"$f":"Dilution0!B6","v":1.8143155128510571E-2},{"$f":"Dilution0!C6","v":0.46627819328866965},{"$f":"Dilution0!G6","v":0.83434869441609261},null,{"$f":"Dilution1!A6","v":730},{"$f":"Dilution1!B6","v":6.9614577983208664E-2},{"$f":"Dilution1!C6","v":0.62720493480644757},{"$f":"Dilution1!G6","v":0.54880966747759308},null,{"$f":"Dilution2!A6","v":730},{"$f":"Dilution2!B6","v":1.0963246543063274},{"$f":"Dilution2!C6","v":20.503744525124709},{"$f":"Dilution2!G6","v":0.89014378051463061},null,{"$f":"Dilution3!A6","v":730},{"$f":"Dilution3!B6","v":21.903000196918246},{"$f":"Dilution3!C6","v":85.916319954266669},{"$f":"Dilution3!G6","v":0.68911405117102997},null,{"$f":"Dilution4!A6","v":730},{"$f":"Dilution4!B6","v":49.891983918451494},{"$f":"Dilution4!C6","v":100.63602784244853},{"$f":"Dilution4!G6","v":0.74873845963264474},25.28596337214567,null,{"$f":"Dilution5_water!A6","v":730},{"$f":"Dilution5_water!B6","v":47.600259015371883},{"$f":"Dilution5_water!C6","v":654.37217394080119},{"$f":"Dilution5_water!G6","v":0.95913207934618583},26.742830082676548,null,{"$f":"Dilution6!A6","v":730},{"$f":"Dilution6!B6","v":41.619884156107382},{"$f":"Dilution6!C6","v":197.30953505015822},{"$f":"Dilution6!G6","v":0.64515777626076609},70.013754182152454]
[720,8.4717655749999992,1682.9526599999999,35.342005860000029,null,{"$f":"Dilution0!A7","v":720},{"$f":"Dilution0!B7","v":3.1510072964709493E-2},{"$f":"Dilution0!C7","v":0.33772082416856053},{"$f":"Dilution0!G7","v":0.8269319146575298},null,{"$f":"Dilution1!A7","v":720},{"$f":"Dilution1!B7","v":0.1225055005497076},{"$f":"Dilution1!C7","v":0.74042133875918914},{"$f":"Dilution1!G7","v":0.69612055350052537},null,{"$f":"Dilution2!A7","v":720},{"$f":"Dilution2!B7","v":1.8463147977947456},{"$f":"Dilution2!C7","v":22.958765458431962},{"$f":"Dilution2!G7","v":0.89512069458258825},null,{"$f":"Dilution3!A7","v":720},{"$f":"Dilution3!B7","v":30.067877703703086},{"$f":"Dilution3!C7","v":71.687109978414213},{"$f":"Dilution3!G7","v":0.61423527422784352},null,{"$f":"Dilution4!A7","v":720},{"$f":"Dilution4!B7","v":57.105921689192236},{"$f":"Dilution4!C7","v":455.84594168448615},{"$f":"Dilution4!G7","v":0.94204082078756146},26.420456627353939,null,{"$f":"Dilution5_water!A7","v":720},{"$f":"Dilution5_water!B7","v":53.940061624100963},{"$f":"Dilution5_water!C7","v":994.09829065860072},{"$f":"Dilution5_water!G7","v":0.97209574495117634},27.739572246137225,null,{"$f":"Dilution6!A7","v":720},{"$f":"Dilution6!B7","v":42.656940702018389},{"$f":"Dilution6!C7","v":210.12772794699387},{"$f":"Dilution6!G7","v":0.66701948834220459},69.968438365280051]
[710,27.77427428,1747.9945949999999,36.707886495000032,null,{"$f":"Dilution0!A8","v":710},{"$f":"Dilution0!B8","v":5.5704719514310178E-2},{"$f":"Dilution0!C8","v":0.30450612818172734},{"$f":"Dilution0!G8","v":0.87100741884504063},null,{"$f":"Dilution1!A8","v":710},{"$f":"Dilution1!B8","v":18.134758452579234},{"$f":"Dilution1!C8","v":160.09549202992056},{"$f":"Dilution1!G8","v":0.91995167420198765},null,{"$f":"Dilution2!A8","v":710},{"$f":"Dilution2!B8","v":3.8823160774071757},{"$f":"Dilution2!C8","v":34.245578266960877},{"$f":"Dilution2!G8","v":0.92839094952462675},null,{"$f":"Dilution3!A8","v":710},{"$f":"Dilution3!B8","v":53.909894578712283},{"$f":"Dilution3!C8","v":55.384071754279958},{"$f":"Dilution3!G8","v":0.46764293324611222},null,{"$f":"Dilution4!A8","v":710},{"$f":"Dilution4!B8","v":77.323631574122345},{"$f":"Dilution4!C8","v":1393.0523679230905},{"$f":"Dilution4!G8","v":0.97880427844221674},29.526750105908473,null,{"$f":"Dilution5_water!A8","v":710},{"$f":"Dilution5_water!B8","v":72.534002131504124},{"$f":"Dilution5_water!C8","v":1396.0804346162024},{"$f":"Dilution5_water!G8","v":0.9777726751818695},31.031133292451131,null,{"$f":"Dilution6!A8","v":710},{"$f":"Dilution6!B8","v":56.619724655919086},{"$f":"Dilution6!C8","v":199.63287405238509},{"$f":"Dilution6!G8","v":0.62672041482751861},74.518876413064532]
[700,82.384977980000002,1834.178093,38.517739953000032,null,{"$f":"Dilution0!A9","v":700},{"$f":"Dilution0!B9","v":6.6659058978591854E-2},{"$f":"Dilution0!C9","v":8.4438673046647053E-2},{"$f":"Dilution0!G9","v":0.71591619514672922},null,{"$f":"Dilution1!A9","v":700},{"$f":"Dilution1!B9","v":0.25756466092395014},{"$f":"Dilution1!C9","v":0.57595623100573023},{"$f":"Dilution1!G9","v":0.84078765366254804},null,{"$f":"Dilution2!A9","v":700},{"$f":"Dilution2!B9","v":5.4171947604692763},{"$f":"Dilution2!C9","v":19.555806982203222},{"$f":"Dilution2!G9","v":0.90492577627028226},null,{"$f":"Dilution3!A9","v":700},{"$f":"Dilution3!B9","v":104.73619214967447},{"$f":"Dilution3!C9","v":59.324069930783885},{"$f":"Dilution3!G9","v":0.41063730204795468},null,{"$f":"Dilution4!A9","v":700},{"$f":"Dilution4!B9","v":131.58225525677918},{"$f":"Dilution4!C9","v":1071.1965457476526},{"$f":"Dilution4!G9","v":0.96358330160861494},39.009441524385778,null,{"$f":"Dilution5_water!A9","v":700},{"$f":"Dilution5_water!B9","v":123.70425127468668},{"$f":"Dilution5_water!C9","v":1638.0600010993428},{"$f":"Dilution5_water!G9","v":0.9755068522965874},40.121245553978405,null,{"$f":"Dilution6!A9","v":700},{"$f":"Dilution6!B9","v":101.23722730065809},{"$f":"Dilution6!C9","v":267.40945706224522},{"$f":"Dilution6!G9","v":0.67114426219502521},87.939134298232375]
[690,270.58244719999999,1872.891842,39.330728682000036,null,{"$f":"Dilution0!A10","v":690},{"$f":"Dilution0!B10","v":7.8348416404027343E-2},{"$f":"Dilution0!C10","v":0.17796522802792217},{"$f":"Dilution0!G10","v":0.87080760900125531},null,{"$f":"Dilution1!A10","v":690},{"$f":"Dilution1!B10","v":0.28057738530636533},{"$f":"Dilution1!C10","v":0.57496498018855235},{"$f":"Dilution1!G10","v":0.8588115118879206},null,{"$f":"Dilution2!A10","v":690},{"$f":"Dilution2!B10","v":5.7270313004942599},{"$f":"Dilution2!C10","v":16.957603955632905},{"$f":"Dilution2!G10","v":0.90796551448538743},null,{"$f":"Dilution3!A10","v":690},{"$f":"Dilution3!B10","v":119.7758973732564},{"$f":"Dilution3!C10","v":56.07242713361692},{"$f":"Dilution3!G10","v":0.42838640457461347},null,{"$f":"Dilution4!A10","v":690},{"$f":"Dilution4!B10","v":291.15659650923072},{"$f":"Dilution4!C10","v":1697.6893974910552},{"$f":"Dilution4!G10","v":0.95661134294713823},73.660463050018919,null,{"$f":"Dilution5_water!A10","v":690},{"$f":"Dilution5_water!B10","v":278.00377978532254},{"$f":"Dilution5_water!C10","v":1723.3512532240252},{"$f":"Dilution5_water!G10","v":0.95905622480579922},70.560506292648668,null,{"$f":"Dilution6!A10","v":690},{"$f":"Dilution6!B10","v":257.11766240526521},{"$f":"Dilution6!C10","v":249.50817221966415},{"$f":"Dilution6!G10","v":0.52245499424119046},119.15138153950956]
[680,448.12884509999998,1648.7772729999999,34.624322733000028,null,{"$f":"Dilution0!A11","v":680},{"$f":"Dilution0!B11","v":7.4893495222935133E-2},{"$f":"Dilution0!C11","v":0.14258824198500875},{"$f":"Dilution0!G11","v":0.84553553374620516},null,{"$f":"Dilution1!A11","v":680},{"$f":"Dilution1!B11","v":0.27414703928396411},{"$f":"Dilution1!C11","v":0.44239049915801598},{"$f":"Dilution1!G11","v":0.82102266758602882},null,{"$f":"Dilution2!A11","v":680},{"$f":"Dilution2!B11","v":5.6391288397121988},{"$f":"Dilution2!C11","v":16.34699940652829},{"$f":"Dilution2!G11","v":0.9081077844221711},null,{"$f":"Dilution3!A11","v":680},{"$f":"Dilution3!B11","v":157.11749979547196},{"$f":"Dilution3!C11","v":40.927242070101556},{"$f":"Dilution3!G11","v":9.5353295213451185E-4},null,{"$f":"Dilution4!A11","v":680},{"$f":"Dilution4!B11","v":429.97039106281431},{"$f":"Dilution4!C11","v":1273.9790197928398},{"$f":"Dilution4!G11","v":0.917353324361185},105.29013081947431,null,{"$f":"Dilution5_water!A11","v":680},{"$f":"Dilution5_water!B11","v":420.81710587529648},{"$f":"Dilution5_water!C11","v":1544.13975689225},{"$f":"Dilution5_water!G11","v":0.93412260711569362},101.72390143306811,null,{"$f":"Dilution6!A11","v":680},{"$f":"Dilution6!B11","v":415.94396676949725},{"$f":"Dilution6!C11","v":253.80438966806815},{"$f":"Dilution6!G11","v":0.42226733999016314},146.63108516510619]
[670,426.18980599999998,1477.3356269999999,31.024048167000025,null,{"$f":"Dilution0!A12","v":670},{"$f":"Dilution0!B12","v":7.1272787281972727E-2},{"$f":"Dilution0!C12","v":0.19964541334375455},{"$f":"Dilution0!G12","v":0.8973479529562729},null,{"$f":"Dilution1!A12","v":670},{"$f":"Dilution1!B12","v":0.27520986901677108},{"$f":"Dilution1!C12","v":0.62420392351308795},{"$f":"Dilution1!G12","v":0.87475592301230176},null,{"$f":"Dilution2!A12","v":670},{"$f":"Dilution2!B12","v":5.6752227374347184},{"$f":"Dilution2!C12","v":16.245944173254784},{"$f":"Dilution2!G12","v":0.90810565807938437},null,{"$f":"Dilution3!A12","v":670},{"$f":"Dilution3!B12","v":155.12253820814735},{"$f":"Dilution3!C12","v":39.347840332442544},{"$f":"Dilution3!G12","v":0},null,{"$f":"Dilution4!A12","v":670},{"$f":"Dilution4!B12","v":413.1060772874643},{"$f":"Dilution4!C12","v":1343.6049162376332},{"$f":"Dilution4!G12","v":0.92571680301303094},99.807268665540164,null,{"$f":"Dilution5_water!A12","v":670},{"$f":"Dilution5_water!B12","v":402.0354213078665},{"$f":"Dilution5_water!C12","v":1382.149975855014},{"$f":"Dilution5_water!G12","v":0.93042201617224674},96.167208667569724,null,{"$f":"Dilution6!A12","v":670},{"$f":"Dilution6!B12","v":399.05415670077292},{"$f":"Dilution6!C12","v":304.68229282194164},{"$f":"Dilution6!G12","v":0.5287420995735187},143.58393761239461]
[660,296.68698189999998,1407.887072,29.565628512000025,null,{"$f":"Dilution0!A13","v":660},{"$f":"Dilution0!B13","v":7.1007406055811295E-2},{"$f":"Dilution0!C13","v":0.20949826463279933},{"$f":"Dilution0!G13","v":0.90510831645413958},null,{"$f":"Dilution1!A13","v":660},{"$f":"Dilution1!B13","v":17.902875910668666},{"$f":"Dilution1!C13","v":160.85058545241469},{"$f":"Dilution1!G13","v":0.9692045750670053},null,{"$f":"Dilution2!A13","v":660},{"$f":"Dilution2!B13","v":61.028199559803788},{"$f":"Dilution2!C13","v":15.788000186777325},{"$f":"Dilution2!G13","v":1.507490073122671E-4},null,{"$f":"Dilution3!A13","v":660},{"$f":"Dilution3!B13","v":135.08708478199938},{"$f":"Dilution3!C13","v":33.978792884838647},{"$f":"Dilution3!G13","v":1.818576032496736E-7},null,{"$f":"Dilution4!A13","v":660},{"$f":"Dilution4!B13","v":313.42833785639203},{"$f":"Dilution4!C13","v":1380.7198431666527},{"$f":"Dilution4!G13","v":0.94569734539627326},74.976752747990503,null,{"$f":"Dilution5_water!A13","v":660},{"$f":"Dilution5_water!B13","v":298.75658928191382},{"$f":"Dilution5_water!C13","v":907.29337700367205},{"$f":"Dilution5_water!G13","v":0.92120774111839554},71.487694642438484,null,{"$f":"Dilution6!A13","v":660},{"$f":"Dilution6!B13","v":286.55043217435815},{"$f":"Dilution6!C13","v":315.5273808603535},{"$f":"Dilution6!G13","v":0.60582832999447611},124.37195464619451]
[650,246.590856,1437.8389729999999,30.194618433000024,null,{"$f":"Dilution0!A14","v":650},{"$f":"Dilution0!B14","v":7.7104609140335498E-2},{"$f":"Dilution0!C14","v":0.14139366206280471},{"$f":"Dilution0!G14","v":0.8476636645141804},null,{"$f":"Dilution1!A14","v":650},{"$f":"Dilution1!B14","v":0.30157652286346232},{"$f":"Dilution1!C14","v":0.62730818114056386},{"$f":"Dilution1!G14","v":0.8671821700624277},null,{"$f":"Dilution2!A14","v":650},{"$f":"Dilution2!B14","v":5.7601270456643885},{"$f":"Dilution2!C14","v":16.36471322269503},{"$f":"Dilution2!G14","v":0.90916074073118547},null,{"$f":"Dilution3!A14","v":650},{"$f":"Dilution3!B14","v":10.931731125953657},{"$f":"Dilution3!C14","v":8.1158242279867761},{"$f":"Dilution3!G14","v":0.66116044547317809},null,{"$f":"Dilution4!A14","v":650},{"$f":"Dilution4!B14","v":278.54550991332121},{"$f":"Dilution4!C14","v":982.64776315994095},{"$f":"Dilution4!G14","v":0.93217894132168821},66.644211605382182,null,{"$f":"Dilution5_water!A14","v":650},{"$f":"Dilution5_water!B14","v":263.90652128147821},{"$f":"Dilution5_water!C14","v":1305.8268176818135},{"$f":"Dilution5_water!G14","v":0.95098526317170029},64.004757812010197,null,{"$f":"Dilution6!A14","v":650},{"$f":"Dilution6!B14","v":248.14913428602287},{"$f":"Dilution6!C14","v":219.59223732094429},{"$f":"Dilution6!G14","v":0.46301076278719316},117.91866801682754]
[640,173.6858063,1469.391069,30.857212449000027,null,{"$f":"Dilution0!A15","v":640},{"$f":"Dilution0!B15","v":7.7359245378831196E-2},{"$f":"Dilution0!C15","v":0.14167613403355866},{"$f":"Dilution0!G15","v":0.84976085187826456},null,{"$f":"Dilution1!A15","v":640},{"$f":"Dilution1!B15","v":0.28253746057063428},{"$f":"Dilution1!C15","v":0.80350817599818813},{"$f":"Dilution1!G15","v":0.90397681977002031},null,{"$f":"Dilution2!A15","v":640},{"$f":"Dilution2!B15","v":5.8303264916156214},{"$f":"Dilution2!C15","v":18.101361134448116},{"$f":"Dilution2!G15","v":0.91717434246067653},null,{"$f":"Dilution3!A15","v":640},{"$f":"Dilution3!B15","v":11.017350979410081},{"$f":"Dilution3!C15","v":8.1347419150495242},{"$f":"Dilution3!G15","v":0.65844119371853382},null,{"$f":"Dilution4!A15","v":640},{"$f":"Dilution4!B15","v":208.828827048058},{"$f":"Dilution4!C15","v":1388.3033370461355},{"$f":"Dilution4!G15","v":0.96376537153621089},50.304655612905307,null,{"$f":"Dilution5_water!A15","v":640},{"$f":"Dilution5_water!B15","v":195.34470024524427},{"$f":"Dilution5_water!C15","v":1309.7042577124366},{"$f":"Dilution5_water!G15","v":0.96211189464445346},49.622212900816677,null,{"$f":"Dilution6!A15","v":640},{"$f":"Dilution6!B15","v":175.97705723988844},{"$f":"Dilution6!C15","v":238.72779154727249},{"$f":"Dilution6!G15","v":0.56117141565750783},104.76057880789915]
[630,163.003951,1519.396328,31.907322888000028,null,{"$f":"Dilution0!A16","v":630},{"$f":"Dilution0!B16","v":8.4643034467830572E-2},{"$f":"Dilution0!C16","v":0.15795605180108802},{"$f":"Dilution0!G16","v":0.8517717290441994},null,{"$f":"Dilution1!A16","v":630},{"$f":"Dilution1!B16","v":0.30884079394276037},{"$f":"Dilution1!C16","v":0.54406455014918276},{"$f":"Dilution1!G16","v":0.84475801209038037},null,{"$f":"Dilution2!A16","v":630},{"$f":"Dilution2!B16","v":5.9302821543064441},{"$f":"Dilution2!C16","v":18.834127979610731},{"$f":"Dilution2!G16","v":0.91835438820321869},null,{"$f":"Dilution3!A16","v":630},{"$f":"Dilution3!B16","v":11.149467409281772},{"$f":"Dilution3!C16","v":8.1751578524770441},{"$f":"Dilution3!G16","v":0.65250969075712406},null,{"$f":"Dilution4!A16","v":630},{"$f":"Dilution4!B16","v":194.58001781977663},{"$f":"Dilution4!C16","v":1479.3210284682318},{"$f":"Dilution4!G16","v":0.9679151084005847},47.463854839138769,null,{"$f":"Dilution5_water!A16","v":630},{"$f":"Dilution5_water!B16","v":181.17507418091458},{"$f":"Dilution5_water!C16","v":1411.1911604168019},{"$f":"Dilution5_water!G16","v":0.96653596844502432},47.224145522290613,null,{"$f":"Dilution6!A16","v":630},{"$f":"Dilution6!B16","v":161.05561899927707},{"$f":"Dilution6!C16","v":251.06797521923423},{"$f":"Dilution6!G16","v":0.59458393871200399},101.78698962893412]
[620,158.6904523,1537.155788,32.28027154800003,null,{"$f":"Dilution0!A17","v":620},{"$f":"Dilution0!B17","v":7.7289011273314639E-2},{"$f":"Dilution0!C17","v":0.14131648428496144},{"$f":"Dilution0!G17","v":0.84849261269461929},null,{"$f":"Dilution1!A17","v":620},{"$f":"Dilution1!B17","v":0.28416890660660893},{"$f":"Dilution1!C17","v":0.75175431022467409},{"$f":"Dilution1!G17","v":0.89639262642197981},null,{"$f":"Dilution2!A17","v":620},{"$f":"Dilution2!B17","v":65.243541926781063},{"$f":"Dilution2!C17","v":29.44829761865503},{"$f":"Dilution2!G17","v":0.42200894837090841},null,{"$f":"Dilution3!A17","v":620},{"$f":"Dilution3!B17","v":11.13863690688413},{"$f":"Dilution3!C17","v":8.1856464602336096},{"$f":"Dilution3!G17","v":0.65097774663847929},null,{"$f":"Dilution4!A17","v":620},{"$f":"Dilution4!B17","v":190.91916721725534},{"$f":"Dilution4!C17","v":1921.896576180905},{"$f":"Dilution4!G17","v":0.97560940554465791},46.876199974738917,null,{"$f":"Dilution5_water!A17","v":620},{"$f":"Dilution5_water!B17","v":177.56733413250416},{"$f":"Dilution5_water!C17","v":1422.5346268894743},{"$f":"Dilution5_water!G17","v":0.96703951467606297},46.887431692382755,null,{"$f":"Dilution6!A17","v":620},{"$f":"Dilution6!B17","v":157.47833335556103},{"$f":"Dilution6!C17","v":253.65744472973162},{"$f":"Dilution6!G17","v":0.60060887938677276},101.30853110249527]
[610,137.9259941,1557.5113940000001,32.707739274000033,null,{"$f":"Dilution0!A18","v":610},{"$f":"Dilution0!B18","v":7.712715420144732E-2},{"$f":"Dilution0!C18","v":0.14112571726065953},{"$f":"Dilution0!G18","v":0.84680754041359829},null,{"$f":"Dilution1!A18","v":610},{"$f":"Dilution1!B18","v":0.29081761435839004},{"$f":"Dilution1!C18","v":0.7722367727277103},{"$f":"Dilution1!G18","v":0.89600372936967454},null,{"$f":"Dilution2!A18","v":610},{"$f":"Dilution2!B18","v":2.9694965931046542},{"$f":"Dilution2!C18","v":12.776986152371176},{"$f":"Dilution2!G18","v":0.93889035043521984},null,{"$f":"Dilution3!A18","v":610},{"$f":"Dilution3!B18","v":11.088593117497146},{"$f":"Dilution3!C18","v":8.1916661705998965},{"$f":"Dilution3!G18","v":0.65010458389062509},null,{"$f":"Dilution4!A18","v":610},{"$f":"Dilution4!B18","v":175.38265832466217},{"$f":"Dilution4!C18","v":1397.0790566324026},{"$f":"Dilution4!G18","v":0.96880876634574209},43.576619288891493,null,{"$f":"Dilution5_water!A18","v":610},{"$f":"Dilution5_water!B18","v":162.57218654520099},{"$f":"Dilution5_water!C18","v":1387.8340802477767},{"$f":"Dilution5_water!G18","v":0.96829851885475604},43.996395927701883,null,{"$f":"Dilution6!A18","v":610},{"$f":"Dilution6!B18","v":142.1408106613238},{"$f":"Dilution6!C18","v":259.9759552938296},{"$f":"Dilution6!G18","v":0.62336217189140364},97.916779162325525]
[600,120.8995817,1587.060794,33.32827667400003,null,{"$f":"Dilution0!A19","v":600},{"$f":"Dilution0!B19","v":7.5260956294285863E-2},{"$f":"Dilution0!C19","v":0.1390957772457812},{"$f":"Dilution0!G19","v":0.84578687801990549},null,{"$f":"Dilution1!A19","v":600},{"$f":"Dilution1!B19","v":0.29777927091849138},{"$f":"Dilution1!C19","v":0.77907592884131938},{"$f":"Dilution1!G19","v":0.89246551642740124},null,{"$f":"Dilution2!A19","v":600},{"$f":"Dilution2!B19","v":2.9613958266070899},{"$f":"Dilution2!C19","v":12.777791220075748},{"$f":"Dilution2!G19","v":0.93797863812031612},null,{"$f":"Dilution3!A19","v":600},{"$f":"Dilution3!B19","v":11.007968002624912},{"$f":"Dilution3!C19","v":8.2103891592555325},{"$f":"Dilution3!G19","v":0.64738518676782675},null,{"$f":"Dilution4!A19","v":600},{"$f":"Dilution4!B19","v":161.57641468109301},{"$f":"Dilution4!C19","v":1354.584344602471},{"$f":"Dilution4!G19","v":0.9699179990204535},40.748607581209882,null,{"$f":"Dilution5_water!A19","v":600},{"$f":"Dilution5_water!B19","v":149.33668886370839},{"$f":"Dilution5_water!C19","v":1334.7650816698799},{"$f":"Dilution5_water!G19","v":0.96886231326052463},41.561496983826977,null,{"$f":"Dilution6!A19","v":600},{"$f":"Dilution6!B19","v":128.35980138071866},{"$f":"Dilution6!C19","v":220.21825297859658},{"$f":"Dilution6!G19","v":0.56674286415753361},95.411129545738447]
[590,113.15236229999999,1611.653147,33.84471608700003,null,{"$f":"Dilution0!A20","v":590},{"$f":"Dilution0!B20","v":7.1750812360417637E-2},{"$f":"Dilution0!C20","v":0.19957576352096507},{"$f":"Dilution0!G20","v":0.8953904346037096},null,{"$f":"Dilution1!A20","v":590},{"$f":"Dilution1!B20","v":0.29741890397575599},{"$f":"Dilution1!C20","v":0.51537943634111194},{"$f":"Dilution1!G20","v":0.83503715227780806},null,{"$f":"Dilution2!A20","v":590},{"$f":"Dilution2!B20","v":2.9772079381273495},{"$f":"Dilution2!C20","v":12.779686713646358},{"$f":"Dilution2!G20","v":0.93637865420628652},null,{"$f":"Dilution3!A20","v":590},{"$f":"Dilution3!B20","v":10.925067901842691},{"$f":"Dilution3!C20","v":8.2419676870188709},{"$f":"Dilution3!G20","v":0.64280975484364022},null,{"$f":"Dilution4!A20","v":590},{"$f":"Dilution4!B20","v":153.31301399690329},{"$f":"Dilution4!C20","v":1311.0150867753709},{"$f":"Dilution4!G20","v":0.96990052303052632},39.460868411027818,null,{"$f":"Dilution5_water!A20","v":590},{"$f":"Dilution5_water!B20","v":141.39106581387458},{"$f":"Dilution5_water!C20","v":1447.3479320536273},{"$f":"Dilution5_water!G20","v":0.97202551486406785},40.48881321175633,null,{"$f":"Dilution6!A20","v":590},{"$f":"Dilution6!B20","v":119.93985589577282},{"$f":"Dilution6!C20","v":273.8503375101954},{"$f":"Dilution6!G20","v":0.65763305244284509},93.757304140862246]
[580,98.052343100000002,1636.5381279999999,34.367300688000029,null,{"$f":"Dilution0!A21","v":580},{"$f":"Dilution0!B21","v":7.301282487397015E-2},{"$f":"Dilution0!C21","v":0.13919392459201285},{"$f":"Dilution0!G21","v":0.8419037812726643},null,{"$f":"Dilution1!A21","v":580},{"$f":"Dilution1!B21","v":0.2959700231704907},{"$f":"Dilution1!C21","v":0.51494383440600766},{"$f":"Dilution1!G21","v":0.83032103872228591},null,{"$f":"Dilution2!A21","v":580},{"$f":"Dilution2!B21","v":2.9657674267270102},{"$f":"Dilution2!C21","v":12.781492879519552},{"$f":"Dilution2!G21","v":0.93422374601331948},null,{"$f":"Dilution3!A21","v":580},{"$f":"Dilution3!B21","v":10.629236766189846},{"$f":"Dilution3!C21","v":8.25737493520732},{"$f":"Dilution3!G21","v":0.64058689082081888},null,{"$f":"Dilution4!A21","v":580},{"$f":"Dilution4!B21","v":141.38192898327026},{"$f":"Dilution4!C21","v":2122.9413816059814},{"$f":"Dilution4!G21","v":0.98225369171936838},37.674372219689758,null,{"$f":"Dilution5_water!A21","v":580},{"$f":"Dilution5_water!B21","v":129.99912825246261},{"$f":"Dilution5_water!C21","v":1477.1274109606536},{"$f":"Dilution5_water!G21","v":0.97359635389528698},39.001549410576089,null,{"$f":"Dilution6!A21","v":580},{"$f":"Dilution6!B21","v":108.34710729775323},{"$f":"Dilution6!C21","v":275.04698555553688},{"$f":"Dilution6!G21","v":0.66745716159488933},91.464905271407716]
[570,81.276612869999994,1664.5586410000001,34.955731461000035,null,{"$f":"Dilution0!A22","v":570},{"$f":"Dilution0!B22","v":7.3745089992876531E-2},{"$f":"Dilution0!C22","v":0.13823074093976323},{"$f":"Dilution0!G22","v":0.82891781859442182},null,{"$f":"Dilution1!A22","v":570},{"$f":"Dilution1!B22","v":0.28038195940000366},{"$f":"Dilution1!C22","v":0.7338012276383622},{"$f":"Dilution1!G22","v":0.88011593452261161},null,{"$f":"Dilution2!A22","v":570},{"$f":"Dilution2!B22","v":2.9203678742114816},{"$f":"Dilution2!C22","v":12.783640346217314},{"$f":"Dilution2!G22","v":0.9313630392235045},null,{"$f":"Dilution3!A22","v":570},{"$f":"Dilution3!B22","v":9.9283157850585724},{"$f":"Dilution3!C22","v":8.2264563432689304},{"$f":"Dilution3!G22","v":0.64313474977398999},null,{"$f":"Dilution4!A22","v":570},{"$f":"Dilution4!B22","v":126.72352254494103},{"$f":"Dilution4!C22","v":2015.9887612932102},{"$f":"Dilution4!G22","v":0.98244406388020367},35.392569911490938,null,{"$f":"Dilution5_water!A22","v":570},{"$f":"Dilution5_water!B22","v":116.23697181210733},{"$f":"Dilution5_water!C22","v":1512.332010890497},{"$f":"Dilution5_water!G22","v":0.97546659002956015},37.102661234596262,null,{"$f":"Dilution6!A22","v":570},{"$f":"Dilution6!B22","v":95.099584309453476},{"$f":"Dilution6!C22","v":276.48684618818953},{"$f":"Dilution6!G22","v":0.67859214870423723},88.865043144888048]
[560,63.912331459999997,1705.129404,35.80771748400003,null,{"$f":"Dilution0!A23","v":560},{"$f":"Dilution0!B23","v":8.0248615810182777E-2},{"$f":"Dilution0!C23","v":0.15693558847860573},{"$f":"Dilution0!G23","v":0.82246179088726068},null,{"$f":"Dilution1!A23","v":560},{"$f":"Dilution1!B23","v":0.29982788982306763},{"$f":"Dilution1!C23","v":0.52945107032371197},{"$f":"Dilution1!G23","v":0.80827059284887692},null,{"$f":"Dilution2!A23","v":560},{"$f":"Dilution2!B23","v":2.8965292557955613},{"$f":"Dilution2!C23","v":12.473220470792631},{"$f":"Dilution2!G23","v":0.92454374179684606},null,{"$f":"Dilution3!A23","v":560},{"$f":"Dilution3!B23","v":9.1125870754141829},{"$f":"Dilution3!C23","v":8.1910637429071436},{"$f":"Dilution3!G23","v":0.64841661948348894},null,{"$f":"Dilution4!A23","v":560},{"$f":"Dilution4!B23","v":115.10591498470947},{"$f":"Dilution4!C23","v":1031.7054044664926},{"$f":"Dilution4!G23","v":0.96726400813251356},33.773899730256908,null,{"$f":"Dilution5_water!A23","v":560},{"$f":"Dilution5_water!B23","v":105.43259380618504},{"$f":"Dilution5_water!C23","v":1494.5052700400881},{"$f":"Dilution5_water!G23","v":0.97605210306917434},35.790258169495807,null,{"$f":"Dilution6!A23","v":560},{"$f":"Dilution6!B23","v":84.533331218706465},{"$f":"Dilution6!C23","v":278.78310761073976},{"$f":"Dilution6!G23","v":0.69192869954785541},85.885074505730771]
[550,62.822291419999999,1743.9166279999999,36.622249188000033,null,{"$f":"Dilution0!A24","v":550},{"$f":"Dilution0!B24","v":7.5274785168618227E-2},{"$f":"Dilution0!C24","v":0.14135071263609644},{"$f":"Dilution0!G24","v":0.80787350935917945},null,{"$f":"Dilution1!A24","v":550},{"$f":"Dilution1!B24","v":0.27049414645687714},{"$f":"Dilution1!C24","v":0.71627783093522346},{"$f":"Dilution1!G24","v":0.86733946100036685},null,{"$f":"Dilution2!A24","v":550},{"$f":"Dilution2!B24","v":2.8805571102067682},{"$f":"Dilution2!C24","v":12.348535399633171},{"$f":"Dilution2!G24","v":0.92174858771270107},null,{"$f":"Dilution3!A24","v":550},{"$f":"Dilution3!B24","v":9.0193942425346485},{"$f":"Dilution3!C24","v":8.2317434241168854},{"$f":"Dilution3!G24","v":0.64171913039032702},null,{"$f":"Dilution4!A24","v":550},{"$f":"Dilution4!B24","v":115.62142010563477},{"$f":"Dilution4!C24","v":775.68441216947281},{"$f":"Dilution4!G24","v":0.95549022816835816},34.525536199024458,null,{"$f":"Dilution5_water!A24","v":550},{"$f":"Dilution5_water!B24","v":106.1042676216977},{"$f":"Dilution5_water!C24","v":1511.5170852266924},{"$f":"Dilution5_water!G24","v":0.97598204220935747},36.303553552809724,null,{"$f":"Dilution6!A24","v":550},{"$f":"Dilution6!B24","v":85.193306763753029},{"$f":"Dilution6!C24","v":279.91340415302363},{"$f":"Dilution6!G24","v":0.69268164207459915},86.0225277256163]
[540,65.206361290000004,1782.8736690000001,37.440347049000032,null,{"$f":"Dilution0!A25","v":540},{"$f":"Dilution0!B25","v":7.313482538567527E-2},{"$f":"Dilution0!C25","v":0.13951983022075454},{"$f":"Dilution0!G25","v":0.80932497837473927},null,{"$f":"Dilution1!A25","v":540},{"$f":"Dilution1!B25","v":0.27781894818276642},{"$f":"Dilution1!C25","v":0.71121906106453103},{"$f":"Dilution1!G25","v":0.86168825166676211},null,{"$f":"Dilution2!A25","v":540},{"$f":"Dilution2!B25","v":2.8934523787428734},{"$f":"Dilution2!C25","v":12.268609563919011},{"$f":"Dilution2!G25","v":0.91996687221695128},null,{"$f":"Dilution3!A25","v":540},{"$f":"Dilution3!B25","v":9.2594521011995106},{"$f":"Dilution3!C25","v":8.2804743437711075},{"$f":"Dilution3!G25","v":0.63012825298634523},null,{"$f":"Dilution4!A25","v":540},{"$f":"Dilution4!B25","v":120.1832262902068},{"$f":"Dilution4!C25","v":810.30444197589793},{"$f":"Dilution4!G25","v":0.95558230829487467},35.991852890979047,null,{"$f":"Dilution5_water!A25","v":540},{"$f":"Dilution5_water!B25","v":110.85284963317137},{"$f":"Dilution5_water!C25","v":1526.5786837473922},{"$f":"Dilution5_water!G25","v":0.97536744252181884},37.603537172373777,null,{"$f":"Dilution6!A25","v":540},{"$f":"Dilution6!B25","v":89.135813700175035},{"$f":"Dilution6!C25","v":280.20298709314073},{"$f":"Dilution6!G25","v":0.68951385586873493},86.999145036611907]
[530,74.523008379999993,1824.222769,38.308678149000031,null,{"$f":"Dilution0!A26","v":530},{"$f":"Dilution0!B26","v":7.205497253182136E-2},{"$f":"Dilution0!C26","v":0.13733898468038355},{"$f":"Dilution0!G26","v":0.8085699465365892},null,{"$f":"Dilution1!A26","v":530},{"$f":"Dilution1!B26","v":0.26799112330620073},{"$f":"Dilution1!C26","v":0.74580843546317976},{"$f":"Dilution1!G26","v":0.87279538916110522},null,{"$f":"Dilution2!A26","v":530},{"$f":"Dilution2!B26","v":2.8874644929073088},{"$f":"Dilution2!C26","v":12.259429905979905},{"$f":"Dilution2!G26","v":0.91954159931688562},null,{"$f":"Dilution3!A26","v":530},{"$f":"Dilution3!B26","v":9.6841018413190518},{"$f":"Dilution3!C26","v":8.4431132320253841},{"$f":"Dilution3!G26","v":0.61760240310485714},null,{"$f":"Dilution4!A26","v":530},{"$f":"Dilution4!B26","v":128.06892153479416},{"$f":"Dilution4!C26","v":802.35791086262043},{"$f":"Dilution4!G26","v":0.95216467898656221},38.381048233784753,null,{"$f":"Dilution5_water!A26","v":530},{"$f":"Dilution5_water!B26","v":118.84735075657919},{"$f":"Dilution5_water!C26","v":1584.3304268924417},{"$f":"Dilution5_water!G26","v":0.97501933296129284},39.577630873492865,null,{"$f":"Dilution6!A26","v":530},{"$f":"Dilution6!B26","v":96.352498044957215},{"$f":"Dilution6!C26","v":279.54071372211814},{"$f":"Dilution6!G26","v":0.68075725884570171},89.241343712877963]
[520,109.256092,1866.4582459999999,39.195623166000033,null,{"$f":"Dilution0!A27","v":520},{"$f":"Dilution0!B27","v":7.6777693523489024E-2},{"$f":"Dilution0!C27","v":0.14291775710784532},{"$f":"Dilution0!G27","v":0.82157668005748286},null,{"$f":"Dilution1!A27","v":520},{"$f":"Dilution1!B27","v":0.29927269636385001},{"$f":"Dilution1!C27","v":0.52485234619352605},{"$f":"Dilution1!G27","v":0.81659711039780336},null,{"$f":"Dilution2!A27","v":520},{"$f":"Dilution2!B27","v":3.0536086848840829},{"$f":"Dilution2!C27","v":12.499219003726598},{"$f":"Dilution2!G27","v":0.92350455238090323},null,{"$f":"Dilution3!A27","v":520},{"$f":"Dilution3!B27","v":11.126391969904573},{"$f":"Dilution3!C27","v":8.1882907566150056},{"$f":"Dilution3!G27","v":0.58191399847240766},null,{"$f":"Dilution4!A27","v":520},{"$f":"Dilution4!B27","v":160.35385520371736},{"$f":"Dilution4!C27","v":1043.2365582468042},{"$f":"Dilution4!G27","v":0.95646372540152758},45.418633270998136,null,{"$f":"Dilution5_water!A27","v":520},{"$f":"Dilution5_water!B27","v":149.77805230406128},{"$f":"Dilution5_water!C27","v":1640.9236585524034},{"$f":"Dilution5_water!G27","v":0.97199854108697115},45.94825640437211,null,{"$f":"Dilution6!A27","v":520},{"$f":"Dilution6!B27","v":126.25773476414243},{"$f":"Dilution6!C27","v":302.78691871860673},{"$f":"Dilution6!G27","v":0.68037082031035612},96.779534450783146]
[510,195.96419370000001,1884.0048959999999,39.56410281600003,null,{"$f":"Dilution0!A28","v":510},{"$f":"Dilution0!B28","v":7.5553754281266067E-2},{"$f":"Dilution0!C28","v":0.1425162656505054},{"$f":"Dilution0!G28","v":0.84333275302352539},null,{"$f":"Dilution1!A28","v":510},{"$f":"Dilution1!B28","v":0.28675156066934093},{"$f":"Dilution1!C28","v":0.76188172848410918},{"$f":"Dilution1!G28","v":0.89198840122842549},null,{"$f":"Dilution2!A28","v":510},{"$f":"Dilution2!B28","v":3.1598260738530608},{"$f":"Dilution2!C28","v":12.784720078176814},{"$f":"Dilution2!G28","v":0.93108906532127422},null,{"$f":"Dilution3!A28","v":510},{"$f":"Dilution3!B28","v":11.939804309505469},{"$f":"Dilution3!C28","v":8.6335781455975571},{"$f":"Dilution3!G28","v":0.61780795620756934},null,{"$f":"Dilution4!A28","v":510},{"$f":"Dilution4!B28","v":236.88349588024357},{"$f":"Dilution4!C28","v":1394.0166397290157},{"$f":"Dilution4!G28","v":0.95547209898702556},62.072634944292858,null,{"$f":"Dilution5_water!A28","v":510},{"$f":"Dilution5_water!B28","v":222.76803963372132},{"$f":"Dilution5_water!C28","v":1780.4654999204181},{"$f":"Dilution5_water!G28","v":0.96616949536966268},60.234046339213556,null,{"$f":"Dilution6!A28","v":510},{"$f":"Dilution6!B28","v":198.74425524677574},{"$f":"Dilution6!C28","v":286.58253941282845},{"$f":"Dilution6!G28","v":0.6066636410270434},112.72333259786578]
[500,315.94933120000002,1853.317174,38.919660654000033,null,{"$f":"Dilution0!A29","v":500},{"$f":"Dilution0!B29","v":7.9896693523822851E-2},{"$f":"Dilution0!C29","v":0.14784268156477418},{"$f":"Dilution0!G29","v":0.84980080685889869},null,{"$f":"Dilution1!A29","v":500},{"$f":"Dilution1!B29","v":0.30489020910031689},{"$f":"Dilution1!C29","v":0.53028393209624025},{"$f":"Dilution1!G29","v":0.84434177530388876},null,{"$f":"Dilution2!A29","v":500},{"$f":"Dilution2!B29","v":3.2073851680501955},{"$f":"Dilution2!C29","v":12.782051507975956},{"$f":"Dilution2!G29","v":0.93392729500170024},null,{"$f":"Dilution3!A29","v":500},{"$f":"Dilution3!B29","v":12.17504748460734},{"$f":"Dilution3!C29","v":8.30590093769775},{"$f":"Dilution3!G29","v":0.6168773017971757},null,{"$f":"Dilution4!A29","v":500},{"$f":"Dilution4!B29","v":340.41907129356701},{"$f":"Dilution4!C29","v":1028.5134498977557},{"$f":"Dilution4!G29","v":0.91684031292730628},85.530856643554017,null,{"$f":"Dilution5_water!A29","v":500},{"$f":"Dilution5_water!B29","v":322.31780196659162},{"$f":"Dilution5_water!C29","v":1710.5887962116137},{"$f":"Dilution5_water!G29","v":0.95224398155080203},81.690910110873162,null,{"$f":"Dilution6!A29","v":500},{"$f":"Dilution6!B29","v":303.77707126478759},{"$f":"Dilution6!C29","v":286.41563925755099},{"$f":"Dilution6!G29","v":0.53739371631232091},132.4976744669666]
[490,407.30385539999997,1788.397416,37.556345736000033,null,{"$f":"Dilution0!A30","v":490},{"$f":"Dilution0!B30","v":8.0306988564134721E-2},{"$f":"Dilution0!C30","v":0.14877493019894203},{"$f":"Dilution0!G30","v":0.85272187547074974},null,{"$f":"Dilution1!A30","v":490},{"$f":"Dilution1!B30","v":0.30964361110632938},{"$f":"Dilution1!C30","v":0.53620891384941372},{"$f":"Dilution1!G30","v":0.84558788464110712},null,{"$f":"Dilution2!A30","v":490},{"$f":"Dilution2!B30","v":3.193109759406954},{"$f":"Dilution2!C30","v":12.780725968249174},{"$f":"Dilution2!G30","v":0.9353750412629962},null,{"$f":"Dilution3!A30","v":490},{"$f":"Dilution3!B30","v":12.160592824824622},{"$f":"Dilution3!C30","v":8.2814736902940549},{"$f":"Dilution3!G30","v":0.62449101991831357},null,{"$f":"Dilution4!A30","v":490},{"$f":"Dilution4!B30","v":416.89788649211499},{"$f":"Dilution4!C30","v":954.34808280333687},{"$f":"Dilution4!G30","v":0.89176033799336207},103.29831391931609,null,{"$f":"Dilution5_water!A30","v":490},{"$f":"Dilution5_water!B30","v":398.71348215321137},{"$f":"Dilution5_water!C30","v":1676.5502770354076},{"$f":"Dilution5_water!G30","v":0.94109289997932177},98.760714859020553,null,{"$f":"Dilution6!A30","v":490},{"$f":"Dilution6!B30","v":387.69905871625593},{"$f":"Dilution6!C30","v":271.71240080923678},{"$f":"Dilution6!G30","v":0.4566795545545238},147.6269026407343]
[480,427.0566839,1748.845233,36.725749893000035,null,{"$f":"Dilution0!A31","v":480},{"$f":"Dilution0!B31","v":7.6074620426849912E-2},{"$f":"Dilution0!C31","v":0.13929302091875689},{"$f":"Dilution0!G31","v":0.85146621587171045},null,{"$f":"Dilution1!A31","v":480},{"$f":"Dilution1!B31","v":0.29948701254251192},{"$f":"Dilution1!C31","v":0.81736881546971463},{"$f":"Dilution1!G31","v":0.90231277964122014},null,{"$f":"Dilution2!A31","v":480},{"$f":"Dilution2!B31","v":3.1803982467099559},{"$f":"Dilution2!C31","v":12.780220606343233},{"$f":"Dilution2!G31","v":0.93596885347865422},null,{"$f":"Dilution3!A31","v":480},{"$f":"Dilution3!B31","v":12.106428640359599},{"$f":"Dilution3!C31","v":8.2629032676895857},{"$f":"Dilution3!G31","v":0.6283474251099489},null,{"$f":"Dilution4!A31","v":480},{"$f":"Dilution4!B31","v":437.40899382152048},{"$f":"Dilution4!C31","v":1031.5538925447645},{"$f":"Dilution4!G31","v":0.89527276723356242},108.0317846156603,null,{"$f":"Dilution5_water!A31","v":480},{"$f":"Dilution5_water!B31","v":419.67158134784626},{"$f":"Dilution5_water!C31","v":1672.6827055438812},{"$f":"Dilution5_water!G31","v":0.93796308681235696},103.76807179429764,null,{"$f":"Dilution6!A31","v":480},{"$f":"Dilution6!B31","v":412.77839130036892},{"$f":"Dilution6!C31","v":296.73883707196723},{"$f":"Dilution6!G31","v":0.48628048189157863},152.44053238466435]
[470,436.56994379999998,1732.0650430000001,36.373365903000035,null,{"$f":"Dilution0!A32","v":470},{"$f":"Dilution0!B32","v":8.1851657763590518E-2},{"$f":"Dilution0!C32","v":0.14667021100305494},{"$f":"Dilution0!G32","v":0.84964596677068804},null,{"$f":"Dilution1!A32","v":470},{"$f":"Dilution1!B32","v":0.31534310613456584},{"$f":"Dilution1!C32","v":0.54341267020769979},{"$f":"Dilution1!G32","v":0.84669203584456509},null,{"$f":"Dilution2!A32","v":470},{"$f":"Dilution2!B32","v":3.2040810554034369},{"$f":"Dilution2!C32","v":12.780373976969628},{"$f":"Dilution2!G32","v":0.93572979406352985},null,{"$f":"Dilution3!A32","v":470},{"$f":"Dilution3!B32","v":12.205259742895676},{"$f":"Dilution3!C32","v":8.2826674163893959},{"$f":"Dilution3!G32","v":0.6269491352296398},null,{"$f":"Dilution4!A32","v":470},{"$f":"Dilution4!B32","v":445.25119997474508},{"$f":"Dilution4!C32","v":1000.0424423170945},{"$f":"Dilution4!G32","v":0.8902802981329595},109.72435862541865,null,{"$f":"Dilution5_water!A32","v":470},{"$f":"Dilution5_water!B32","v":427.3961610417586},{"$f":"Dilution5_water!C32","v":1660.6140908095854},{"$f":"Dilution5_water!G32","v":0.93652556982842727},105.40653314902276,null,{"$f":"Dilution6!A32","v":470},{"$f":"Dilution6!B32","v":422.123892681732},{"$f":"Dilution6!C32","v":300.45988111967694},{"$f":"Dilution6!G32","v":0.48723549877213362},154.06516108131515]
[460,441.5000799,1733.1427000000001,36.395996700000033,null,{"$f":"Dilution0!A33","v":460},{"$f":"Dilution0!B33","v":7.6826719896707529E-2},{"$f":"Dilution0!C33","v":0.13987917592291196},{"$f":"Dilution0!G33","v":0.85240026700853289},null,{"$f":"Dilution1!A33","v":460},{"$f":"Dilution1!B33","v":0.29485606868000946},{"$f":"Dilution1!C33","v":0.78148810846805561},{"$f":"Dilution1!G33","v":0.90060848816442352},null,{"$f":"Dilution2!A33","v":460},{"$f":"Dilution2!B33","v":3.2007299669721334},{"$f":"Dilution2!C33","v":12.780184981831333},{"$f":"Dilution2!G33","v":0.93594579593108007},null,{"$f":"Dilution3!A33","v":460},{"$f":"Dilution3!B33","v":12.260883880820108},{"$f":"Dilution3!C33","v":8.2930508143795549},{"$f":"Dilution3!G33","v":0.62682641591201704},null,{"$f":"Dilution4!A33","v":460},{"$f":"Dilution4!B33","v":444.31974152516568},{"$f":"Dilution4!C33","v":998.18870958857246},{"$f":"Dilution4!G33","v":0.89048261287205921},109.31901933475136,null,{"$f":"Dilution5_water!A33","v":460},{"$f":"Dilution5_water!B33","v":425.79798577212944},{"$f":"Dilution5_water!C33","v":1642.1697402522241},{"$f":"Dilution5_water!G33","v":0.93621880175322703},104.73955375787878,null,{"$f":"Dilution6!A33","v":460},{"$f":"Dilution6!B33","v":419.59371280410295},{"$f":"Dilution6!C33","v":296.95285835352564},{"$f":"Dilution6!G33","v":0.48153028628164912},153.96106345839846]
[450,491.69761319999998,1731.708329,36.365874909000034,null,{"$f":"Dilution0!A34","v":450},{"$f":"Dilution0!B34","v":7.5355314567784187E-2},{"$f":"Dilution0!C34","v":0.13886475321958347},{"$f":"Dilution0!G34","v":0.85347295773678222},null,{"$f":"Dilution1!A34","v":450},{"$f":"Dilution1!B34","v":0.30282529257505736},{"$f":"Dilution1!C34","v":0.52253579012967499},{"$f":"Dilution1!G34","v":0.8477476609124408},null,{"$f":"Dilution2!A34","v":450},{"$f":"Dilution2!B34","v":3.1954490961556248},{"$f":"Dilution2!C34","v":12.780107276585639},{"$f":"Dilution2!G34","v":0.93603480594091548},null,{"$f":"Dilution3!A34","v":450},{"$f":"Dilution3!B34","v":123.28333197573069},{"$f":"Dilution3!C34","v":31.235647475319489},{"$f":"Dilution3!G34","v":0},null,{"$f":"Dilution4!A34","v":450},{"$f":"Dilution4!B34","v":477.33328626807685},{"$f":"Dilution4!C34","v":986.13017678632502},{"$f":"Dilution4!G34","v":0.88069993261071244},117.64539654521863,null,{"$f":"Dilution5_water!A34","v":450},{"$f":"Dilution5_water!B34","v":460.5221219130014},{"$f":"Dilution5_water!C34","v":1658.905392962959},{"$f":"Dilution5_water!G34","v":0.93139542916354157},113.80849254251024,null,{"$f":"Dilution6!A34","v":450},{"$f":"Dilution6!B34","v":458.22727654277566},{"$f":"Dilution6!C34","v":283.32766487760097},{"$f":"Dilution6!G34","v":0.42982939116244046},161.54510718378577]
[440,583.29912439999998,1639.3688059999999,34.426744926000026,null,{"$f":"Dilution0!A35","v":440},{"$f":"Dilution0!B35","v":8.7801432004365187E-2},{"$f":"Dilution0!C35","v":0.16249542558160465},{"$f":"Dilution0!G35","v":0.85399744156061708},null,{"$f":"Dilution1!A35","v":440},{"$f":"Dilution1!B35","v":16.960347735876024},{"$f":"Dilution1!C35","v":160.36019866129328},{"$f":"Dilution1!G35","v":0.97203582775359143},null,{"$f":"Dilution2!A35","v":440},{"$f":"Dilution2!B35","v":106.72122771139415},{"$f":"Dilution2!C35","v":334.5540882169895},{"$f":"Dilution2!G35","v":0.91821312276909195},null,{"$f":"Dilution3!A35","v":440},{"$f":"Dilution3!B35","v":125.16969702785492},{"$f":"Dilution3!C35","v":31.844899264471351},{"$f":"Dilution3!G35","v":7.1455337164931702E-5},null,{"$f":"Dilution4!A35","v":440},{"$f":"Dilution4!B35","v":533.70179198721587},{"$f":"Dilution4!C35","v":1166.8622584734642},{"$f":"Dilution4!G35","v":0.8868982916991256},131.97411478516526,null,{"$f":"Dilution5_water!A35","v":440},{"$f":"Dilution5_water!B35","v":525.65601641624107},{"$f":"Dilution5_water!C35","v":900.11661308171745},{"$f":"Dilution5_water!G35","v":0.85590736706678339},129.70017272587407,null,{"$f":"Dilution6!A35","v":440},{"$f":"Dilution6!B35","v":532.85264489695703},{"$f":"Dilution6!C35","v":428.00686728762645},{"$f":"Dilution6!G35","v":0.58843772616861434},176.15147951634367]
[430,565.59260900000004,1575.976318,33.095502678000031,null,{"$f":"Dilution0!A36","v":430},{"$f":"Dilution0!B36","v":8.3857215272679905E-2},{"$f":"Dilution0!C36","v":0.15158141650650264},{"$f":"Dilution0!G36","v":0.85127607264663274},null,{"$f":"Dilution1!A36","v":430},{"$f":"Dilution1!B36","v":15.248207672761414},{"$f":"Dilution1!C36","v":131.51261092843848},{"$f":"Dilution1!G36","v":0.9694221526065312},null,{"$f":"Dilution2!A36","v":430},{"$f":"Dilution2!B36","v":3.1975908333669514},{"$f":"Dilution2!C36","v":12.780163437424454},{"$f":"Dilution2!G36","v":0.93597502248670472},null,{"$f":"Dilution3!A36","v":430},{"$f":"Dilution3!B36","v":135.2018690074687},{"$f":"Dilution3!C36","v":34.178737440592286},{"$f":"Dilution3!G36","v":1.2128384965104087E-5},null,{"$f":"Dilution4!A36","v":430},{"$f":"Dilution4!B36","v":522.98573408148775},{"$f":"Dilution4!C36","v":1117.6616832362229},{"$f":"Dilution4!G36","v":0.88449835129639542},129.09176710662959,null,{"$f":"Dilution5_water!A36","v":430},{"$f":"Dilution5_water!B36","v":513.00805570604064},{"$f":"Dilution5_water!C36","v":1532.3011875097011},{"$f":"Dilution5_water!G36","v":0.9170163955904167},127.15587558063976,null,{"$f":"Dilution6!A36","v":430},{"$f":"Dilution6!B36","v":522.94609631725461},{"$f":"Dilution6!C36","v":1250.2214768227639},{"$f":"Dilution6!G36","v":0.86035047627186678},174.5928337929823]
[420,530.18086059999996,1565.283111,32.87094533100003,null,{"$f":"Dilution0!A37","v":420},{"$f":"Dilution0!B37","v":7.2928386426021174E-2},{"$f":"Dilution0!C37","v":0.26206884186806217},{"$f":"Dilution0!G37","v":0.92468410287375935},null,{"$f":"Dilution1!A37","v":420},{"$f":"Dilution1!B37","v":15.251062190116045},{"$f":"Dilution1!C37","v":131.57169997840614},{"$f":"Dilution1!G37","v":0.96917357667486703},null,{"$f":"Dilution2!A37","v":420},{"$f":"Dilution2!B37","v":3.2330219790544041},{"$f":"Dilution2!C37","v":12.780918217289477},{"$f":"Dilution2!G37","v":0.93505449599962076},null,{"$f":"Dilution3!A37","v":420},{"$f":"Dilution3!B37","v":12.215735707322736},{"$f":"Dilution3!C37","v":8.29344109094089},{"$f":"Dilution3!G37","v":0.62411983813988126},null,{"$f":"Dilution4!A37","v":420},{"$f":"Dilution4!B37","v":501.47875124652847},{"$f":"Dilution4!C37","v":1010.6709245150012},{"$f":"Dilution4!G37","v":0.87723042441541921},124.07964045838258,null,{"$f":"Dilution5_water!A37","v":420},{"$f":"Dilution5_water!B37","v":487.94716348663053},{"$f":"Dilution5_water!C37","v":1511.3565509398929},{"$f":"Dilution5_water!G37","v":0.92009554629600687},120.7641195548034,null,{"$f":"Dilution6!A37","v":420},{"$f":"Dilution6!B37","v":495.28238974893196},{"$f":"Dilution6!C37","v":615.71607848191888},{"$f":"Dilution6!G37","v":0.72229231477857292},170.98908690882823]
[410,486.8901257,1553.749313,32.628735573000029,null,{"$f":"Dilution0!A38","v":410},{"$f":"Dilution0!B38","v":7.6187729573954005E-2},{"$f":"Dilution0!C38","v":0.13898919104236285},{"$f":"Dilution0!G38","v":0.85034832709527952},null,{"$f":"Dilution1!A38","v":410},{"$f":"Dilution1!B38","v":15.244916550115512},{"$f":"Dilution1!C38","v":131.55126319524783},{"$f":"Dilution1!G38","v":0.96905524306326907},null,{"$f":"Dilution2!A38","v":410},{"$f":"Dilution2!B38","v":3.170191849204079},{"$f":"Dilution2!C38","v":12.780481555617685},{"$f":"Dilution2!G38","v":0.93579750556120211},null,{"$f":"Dilution3!A38","v":410},{"$f":"Dilution3!B38","v":12.039976970612683},{"$f":"Dilution3!C38","v":8.2585220400836246},{"$f":"Dilution3!G38","v":0.62448841312803571},null,{"$f":"Dilution4!A38","v":410},{"$f":"Dilution4!B38","v":471.14632138607351},{"$f":"Dilution4!C38","v":952.12737121348755},{"$f":"Dilution4!G38","v":0.87711354755347015},117.00355492566571,null,{"$f":"Dilution5_water!A38","v":410},{"$f":"Dilution5_water!B38","v":455.19121414899735},{"$f":"Dilution5_water!C38","v":1491.7622055838071},{"$f":"Dilution5_water!G38","v":0.92363905545936986},113.9123710483932,null,{"$f":"Dilution6!A38","v":410},{"$f":"Dilution6!B38","v":460.44816933750172},{"$f":"Dilution6!C38","v":626.92972330905934},{"$f":"Dilution6!G38","v":0.73607708716574494},165.46111871810052]
[400,419.14209010000002,1579.3480830000001,33.166309743000028,null,{"$f":"Dilution0!A39","v":400},{"$f":"Dilution0!B39","v":6.9758010838988707E-2},{"$f":"Dilution0!C39","v":0.21326812555376068},{"$f":"Dilution0!G39","v":0.90929857219606425},null,{"$f":"Dilution1!A39","v":400},{"$f":"Dilution1!B39","v":15.941008807088972},{"$f":"Dilution1!C39","v":150.53796589186851},{"$f":"Dilution1!G39","v":0.9711361824372281},null,{"$f":"Dilution2!A39","v":400},{"$f":"Dilution2!B39","v":6.1574518240670786},{"$f":"Dilution2!C39","v":21.171320528104328},{"$f":"Dilution2!G39","v":0.92353429804603504},null,{"$f":"Dilution3!A39","v":400},{"$f":"Dilution3!B39","v":23.538795802385966},{"$f":"Dilution3!C39","v":9.45136182060258},{"$f":"Dilution3!G39","v":0.34734931530157193},null,{"$f":"Dilution4!A39","v":400},{"$f":"Dilution4!B39","v":424.02548521950354},{"$f":"Dilution4!C39","v":987.30971556052123},{"$f":"Dilution4!G39","v":0.89093462874868845},107.68130066763506,null,{"$f":"Dilution5_water!A39","v":400},{"$f":"Dilution5_water!B39","v":406.77540192257646},{"$f":"Dilution5_water!C39","v":1496.6689024926181},{"$f":"Dilution5_water!G39","v":0.93109026102117454},103.13506340849149,null,{"$f":"Dilution6!A39","v":400},{"$f":"Dilution6!B39","v":406.35062606305314},{"$f":"Dilution6!C39","v":430.69794356898285},{"$f":"Dilution6!G39","v":0.63435556443049224},157.48230647722843]

{"sheet":"Suprasil","index":11,"n_rows":44,"n_cols":3,"rows_kept":44,"cut":false,"hidden":false,"merged":[]}
["Quartz Suprasil index",null,"http://heraeus-quarzglas.com/media/webmedia_local/downloads/broschren_mo/DataandProperties_Optics_fusedsilica.pdf"]
["B1",0.473115591]
["B2",0.63103871899999997]
["B3",0.906404498]
["C1",1.2995717E-2]
["C2",4.1280921999999999E-3]
["C3",98.768532199999996]
["Wavelength (um)","n"]
[0.75,{"$f":"SQRT(1+($B$2*A9^2)/(A9^2-$B$5)+($B$3*A9^2)/(A9^2-$B$6)+($B$4*A9^2)/(A9^2-$B$7))","v":1.4542410752352113}]
[0.74,{"$f":"SQRT(1+($B$2*A10^2)/(A10^2-$B$5)+($B$3*A10^2)/(A10^2-$B$6)+($B$4*A10^2)/(A10^2-$B$7))","v":1.4544398070155062}]
[0.73,1.4546442795181032]
[0.72,1.454854862140748]
[0.71,1.4550719513996482]
[0.7,{"$f":"SQRT(1+($B$2*A14^2)/(A14^2-$B$5)+($B$3*A14^2)/(A14^2-$B$6)+($B$4*A14^2)/(A14^2-$B$7))","v":1.4552959733754816}]
[0.69,{"$f":"SQRT(1+($B$2*A15^2)/(A15^2-$B$5)+($B$3*A15^2)/(A15^2-$B$6)+($B$4*A15^2)/(A15^2-$B$7))","v":1.4555273864222924}]
[0.68,1.4557666841722918]
[0.67,1.4560143988743226]
[0.66,1.4562711051093167]
[0.65,1.4565374239325373]
[0.64,1.4568140274999761]
[0.63,1.4571016442451685]
[0.62,1.4574010646831352]
[0.61,1.4577131479305052]
[0.6,1.4580388290454578]
[0.59,1.4583791273084579]
[0.57999999999999996,1.4587351555853749]
[0.56999999999999995,1.459108130939226]
[0.56000000000000005,1.4594993866863299]
[0.55000000000000004,1.4599103861282037]
[0.54,1.4603427382334708]
[0.53,1.4607982155961081]
[0.52,1.4612787750597405]
[0.51,1.4617865814751956]
[0.5,1.4623240351537206]
[0.49,1.4628938036957428]
[0.48,1.4634988590207467]
[0.47,1.4641425206054803]
[0.46,1.4648285061653876]
[0.45,1.4655609913012229]
[0.44,1.4663446799969326]
[0.43,1.4671848883197791]
[0.42,1.4680876442712048]
[0.41,1.4690598075106212]
[0.4,1.4701092136836684]